Report for HTML-GenToc-3.20

Back
From: metabase:user:3215efbe-2aae-11df-837a-5e0a49663a4f
Subject: PASS HTML-GenToc-3.20 v5.14.1 GNU/Linux
Date: 2011-11-03T16:17:58Z

This distribution has been tested as part of the CPAN Testers
project, supporting the Perl programming language.  See
http://wiki.cpantesters.org/ for more information or email
questions to cpan-testers-discuss@perl.org


--
Dear Kathryn Andersen,

This is a computer-generated report for HTML-GenToc-3.20
on perl 5.14.1, created by CPAN-Reporter-1.2002.

Thank you for uploading your work to CPAN.  Congratulations!
All tests were successful.

Sections of this report:

    * Tester comments
    * Program output
    * Prerequisites
    * Environment and other context

------------------------------
TESTER COMMENTS
------------------------------

Additional comments from tester:

this report is from an automated smoke testing program
and was not reviewed by a human for accuracy

------------------------------
PROGRAM OUTPUT
------------------------------

Output from './Build test':

t/00-compile.t ............ ok
t/010_files.t ............. ok
t/020_strings.t ........... ok
t/030_anchors.t ........... ok
t/070_script.t ............ ok
t/release-distmeta.t ...... skipped: these tests are for release candidate testing
t/release-has-version.t ... skipped: these tests are for release candidate testing
t/release-kwalitee.t ...... skipped: these tests are for release candidate testing
t/release-pod-coverage.t .. skipped: these tests are for release candidate testing
t/release-pod-syntax.t .... skipped: these tests are for release candidate testing
t/release-portability.t ... skipped: these tests are for release candidate testing
All tests successful.
Files=11, Tests=53,  8 wallclock secs ( 0.37 usr  0.06 sys +  7.11 cusr  0.43 csys =  7.97 CPU)
Result: PASS

------------------------------
PREREQUISITES
------------------------------

Prerequisite modules loaded:

requires:

    Module            Need   Have   
    ----------------- ------ -------
    Data::Dumper      0      2.131  
    File::Basename    0      2.82   
    Getopt::Long      2.34   2.38   
    HTML::Entities    0      3.69   
    HTML::LinkList    0      0.1503 
    HTML::SimpleParse 0      0.12   
    Pod::Usage        0      1.36   

build_requires:

    Module            Need   Have   
    ----------------- ------ -------
    File::Find        0      1.19   
    File::Temp        0      0.22   
    Module::Build     0.3601 0.39_01
    Test::More        0      0.98   

configure_requires:

    Module            Need   Have   
    ----------------- ------ -------
    Module::Build     0.3601 0.39_01


------------------------------
ENVIRONMENT AND OTHER CONTEXT
------------------------------

Environment variables:

    AUTOMATED_TESTING = 1
    LANG = C
    PATH = /opt/perls/nothreads/perl-5.14.1/bin:/usr/local/bin:/usr/bin:/bin:/usr/local/games:/usr/games
    PERL5LIB = 
    PERL5OPT = 
    PERL5_CPANPLUS_IS_RUNNING = 1780
    PERL5_CPAN_IS_RUNNING = 1780
    PERL5_CPAN_IS_RUNNING_IN_RECURSION = 969,1780
    PERL_CR_SMOKER_CURRENT = HTML-GenToc-3.20
    PERL_EXTUTILS_AUTOINSTALL = --defaultdeps
    PERL_MM_USE_DEFAULT = 1
    SHELL = /bin/bash
    TERM = xterm

Perl special variables (and OS-specific diagnostics, for MSWin32):

    $^X = /opt/perls/nothreads/perl-5.14.1/bin/perl
    $UID/$EUID = 1000 / 1000
    $GID = 1000 24 25 27 29 30 44 46 1000
    $EGID = 1000 24 25 27 29 30 44 46 1000

Perl module toolchain versions installed:

    Module              Have    
    ------------------- --------
    CPAN                1.9800  
    CPAN::Meta          2.112621
    Cwd                 3.36    
    ExtUtils::CBuilder  0.280203
    ExtUtils::Command   1.17    
    ExtUtils::Install   1.56    
    ExtUtils::MakeMaker 6.63_02 
    ExtUtils::Manifest  1.60    
    ExtUtils::ParseXS   3.05    
    File::Spec          3.33    
    JSON                2.53    
    JSON::PP            2.27200 
    Module::Build       0.39_01 
    Module::Signature   0.68    
    Parse::CPAN::Meta   1.4401  
    Test::Harness       3.23    
    Test::More          0.98    
    YAML                0.73    
    YAML::Syck          1.17    
    version             0.94    


--

Summary of my perl5 (revision 5 version 14 subversion 1) configuration:
   
  Platform:
    osname=linux, osvers=2.6.32-5-kirkwood, archname=armv5tel-linux
    uname='linux plugpc 2.6.32-5-kirkwood #1 tue mar 8 10:56:14 utc 2011 armv5tel gnulinux '
    config_args='-des -Dprefix=/opt/perls/nothreads/perl-5.14.1'
    hint=recommended, useposix=true, d_sigaction=define
    useithreads=undef, usemultiplicity=undef
    useperlio=define, d_sfio=undef, uselargefiles=define, usesocks=undef
    use64bitint=undef, use64bitall=undef, uselongdouble=undef
    usemymalloc=n, bincompat5005=undef
  Compiler:
    cc='cc', ccflags ='-fno-strict-aliasing -pipe -fstack-protector -I/usr/local/include -D_LARGEFILE_SOURCE -D_FILE_OFFSET_BITS=64',
    optimize='-O2',
    cppflags='-fno-strict-aliasing -pipe -fstack-protector -I/usr/local/include'
    ccversion='', gccversion='4.4.5', gccosandvers=''
    intsize=4, longsize=4, ptrsize=4, doublesize=8, byteorder=1234
    d_longlong=define, longlongsize=8, d_longdbl=define, longdblsize=8
    ivtype='long', ivsize=4, nvtype='double', nvsize=8, Off_t='off_t', lseeksize=8
    alignbytes=8, prototype=define
  Linker and Libraries:
    ld='cc', ldflags =' -fstack-protector -L/usr/local/lib'
    libpth=/usr/local/lib /lib /usr/lib /usr/lib/arm-linux-gnueabi
    libs=-lnsl -lgdbm -ldb -ldl -lm -lcrypt -lutil -lc -lgdbm_compat
    perllibs=-lnsl -ldl -lm -lcrypt -lutil -lc
    libc=/lib/libc-2.11.2.so, so=so, useshrplib=false, libperl=libperl.a
    gnulibc_version='2.11.2'
  Dynamic Linking:
    dlsrc=dl_dlopen.xs, dlext=so, d_dlsymun=undef, ccdlflags='-Wl,-E'
    cccdlflags='-fPIC', lddlflags='-shared -O2 -L/usr/local/lib -fstack-protector'


Characteristics of this binary (from libperl): 
  Compile-time options: PERL_DONT_CREATE_GVSV PERL_MALLOC_WRAP
                        PERL_PRESERVE_IVUV USE_LARGE_FILES USE_PERLIO
                        USE_PERL_ATOF
  Built under linux
  Compiled at Aug 15 2011 20:41:16
  %ENV:
    PERL5LIB=""
    PERL5OPT=""
    PERL5_CPANPLUS_IS_RUNNING="1780"
    PERL5_CPAN_IS_RUNNING="1780"
    PERL5_CPAN_IS_RUNNING_IN_RECURSION="969,1780"
    PERL_CR_SMOKER_CURRENT="HTML-GenToc-3.20"
    PERL_EXTUTILS_AUTOINSTALL="--defaultdeps"
    PERL_MM_USE_DEFAULT="1"
  @INC:
    /opt/perls/nothreads/perl-5.14.1/lib/site_perl/5.14.1/armv5tel-linux
    /opt/perls/nothreads/perl-5.14.1/lib/site_perl/5.14.1
    /opt/perls/nothreads/perl-5.14.1/lib/5.14.1/armv5tel-linux
    /opt/perls/nothreads/perl-5.14.1/lib/5.14.1
    .