B-Generate v1.56 Perl 5 v5.18.4 x86_64-dragonfly

Status
Pass
From
Nigel Horne
Dist
B-Generate v1.56
Platform
Perl 5 v5.18.4 x86_64-dragonfly
Date
2018-08-21 17:19:43
ID
64fbe370-a566-11e8-8fb1-ef5133556b3f
This distribution has been tested as part of the CPAN Testers
project, supporting the Perl programming language.  See
http://wiki.cpantesters.org/ for more information or email
questions to cpan-testers-discuss@perl.org


--
Dear Reini Urban,

This is a computer-generated report for B-Generate-1.56
on perl 5.18.4, created by CPAN-Reporter-1.2018.

Thank you for uploading your work to CPAN.  Congratulations!
All tests were successful.

Sections of this report:

    * Tester comments
    * Program output
    * Prerequisites
    * Environment and other context

------------------------------
TESTER COMMENTS
------------------------------

Additional comments from tester:

this report is from an automated smoke testing program
and was not reviewed by a human for accuracy

------------------------------
PROGRAM OUTPUT
------------------------------

Output from '/usr/bin/make test':

"/home/njh/perl5/perlbrew/perls/perl-5.18.4/bin/perl" -MExtUtils::Command::MM -e 'cp_nonempty' -- Generate.bs blib/arch/auto/B/Generate/Generate.bs 644
"/home/njh/perl5/perlbrew/perls/perl-5.18.4/bin/perl" "-MExtUtils::Command::MM" "-MTest::Harness" "-e" "undef *Test::Harness::Switches; test_harness(0, 'blib/lib', 'blib/arch')" t/*.t
Name "DB::single" used only once: possible typo at t/basic.t line 32.
# search for const(PV 'lead') in &foo::baz
# changed 'lead' into 'gold'
# search for const(PV 'bad') in ANON &CODE(0x801275f90)
# changed 'bad' into 'good'
# found first add
# search for const(IV 30) after the add
# found const(IV 30)
# changed add - const(IV 30) into 13
# find_cv &foo::baz->START
t/basic.t ......... ok
t/const.t ......... ok
t/cpan70396.t ..... ok
t/cpan70398.t ..... ok
t/find_cv.t ....... ok
t/new_cv.t ........ ok
t/op_list.t ....... ok
t/op_list_bgen.t .. ok
t/scope.t ......... ok
t/svclasses.t ..... ok
All tests successful.
Files=10, Tests=54,  2 wallclock secs ( 0.08 usr  0.06 sys +  1.45 cusr  0.71 csys =  2.30 CPU)
Result: PASS

------------------------------
PREREQUISITES
------------------------------

Prerequisite modules loaded:

requires:

    Module              Need Have    
    ------------------- ---- --------
    B                   0    1.42_02 
    ExtUtils::CBuilder  0    0.280210
    ExtUtils::Embed     0    1.30    

build_requires:

    Module              Need Have    
    ------------------- ---- --------
    ExtUtils::MakeMaker 0    7.30    

configure_requires:

    Module              Need Have    
    ------------------- ---- --------
    ExtUtils::MakeMaker 0    7.30    


------------------------------
ENVIRONMENT AND OTHER CONTEXT
------------------------------

Environment variables:

    AUTOMATED_TESTING = 1
    PATH = /home/njh/perl5/perlbrew/bin:/home/njh/perl5/perlbrew/perls/perl-5.18.4/bin:src/njh/smoker/bin:/bin:/sbin:/usr/bin:/usr/sbin:/usr/local/bin:/usr/local/sbin:/usr/pkg/bin:/usr/pkg/sbin
    PERL5LIB = /home/njh/.cpan/build/B-CallChecker-0.001-2/blib/arch:/home/njh/.cpan/build/B-CallChecker-0.001-2/blib/lib:/home/njh/.cpan/build/Devel-CallChecker-0.008-2/blib/arch:/home/njh/.cpan/build/Devel-CallChecker-0.008-2/blib/lib:/home/njh/.cpan/build/DynaLoader-Functions-0.003-2/blib/arch:/home/njh/.cpan/build/DynaLoader-Functions-0.003-2/blib/lib:/home/njh/.cpan/build/Carp-Always-0.16-2/blib/arch:/home/njh/.cpan/build/Carp-Always-0.16-2/blib/lib:/home/njh/.cpan/build/Term-Choose-1.627-2/blib/arch:/home/njh/.cpan/build/Term-Choose-1.627-2/blib/lib
    PERL5OPT = 
    PERL5_CPANPLUS_IS_RUNNING = 34102
    PERL5_CPAN_IS_RUNNING = 34102
    PERLBREW_HOME = /home/njh/.perlbrew
    PERLBREW_MANPATH = /home/njh/perl5/perlbrew/perls/perl-5.18.4/man
    PERLBREW_PATH = /home/njh/perl5/perlbrew/bin:/home/njh/perl5/perlbrew/perls/perl-5.18.4/bin
    PERLBREW_PERL = perl-5.18.4
    PERLBREW_ROOT = /home/njh/perl5/perlbrew
    PERLBREW_SHELLRC_VERSION = 0.82
    PERLBREW_VERSION = 0.82
    SHELL = /bin/sh
    TMPDIR = /tmp/testwrapper.34088

Perl special variables (and OS-specific diagnostics, for MSWin32):

    $^X = /home/njh/perl5/perlbrew/perls/perl-5.18.4/bin/perl
    $UID/$EUID = 1001 / 1001
    $GID = 1001 1001 0
    $EGID = 1001 1001 0

Perl module toolchain versions installed:

    Module              Have    
    ------------------- --------
    CPAN                2.16    
    CPAN::Meta          2.143240
    Cwd                 3.40    
    ExtUtils::CBuilder  0.280210
    ExtUtils::Command   7.30    
    ExtUtils::Install   2.06    
    ExtUtils::MakeMaker 7.30    
    ExtUtils::Manifest  1.70    
    ExtUtils::ParseXS   3.18    
    File::Spec          3.40    
    JSON                2.97001 
    JSON::PP            2.97001 
    Module::Build       0.4224  
    Module::Signature   n/a     
    Parse::CPAN::Meta   1.4414  
    Test::Harness       3.39    
    Test::More          1.302136
    YAML                1.26    
    YAML::Syck          1.30    
    version             0.9902  


--

Summary of my perl5 (revision 5 version 18 subversion 4) configuration:
   
  Platform:
    osname=dragonfly, osvers=5.0-release, archname=x86_64-dragonfly
    uname='dragonfly david.bandsman.co.uk 5.0-release dragonfly v5.0.2-release #4: sun dec 3 17:42:25 est 2017 root@www.shiningsilence.com:usrobjhomejustinrelease5_0sysx86_64_generic x86_64 '
    config_args='-de -Dprefix=/home/njh/perl5/perlbrew/perls/perl-5.18.4 -Aeval:scriptdir=/home/njh/perl5/perlbrew/perls/perl-5.18.4/bin'
    hint=recommended, useposix=true, d_sigaction=define
    useithreads=undef, usemultiplicity=undef
    useperlio=define, d_sfio=undef, uselargefiles=define, usesocks=undef
    use64bitint=define, use64bitall=define, uselongdouble=undef
    usemymalloc=n, bincompat5005=undef
  Compiler:
    cc='cc', ccflags ='-DHAS_FPSETMASK -DHAS_FLOATINGPOINT_H -fno-strict-aliasing -pipe -fstack-protector -I/usr/local/include',
    optimize='-O',
    cppflags='-DHAS_FPSETMASK -DHAS_FLOATINGPOINT_H -fno-strict-aliasing -pipe -fstack-protector -I/usr/local/include'
    ccversion='', gccversion='5.4.1 [DragonFly] Release/2016-08-27', gccosandvers=''
    intsize=4, longsize=8, ptrsize=8, doublesize=8, byteorder=12345678
    d_longlong=define, longlongsize=8, d_longdbl=define, longdblsize=16
    ivtype='long', ivsize=8, nvtype='double', nvsize=8, Off_t='off_t', lseeksize=8
    alignbytes=8, prototype=define
  Linker and Libraries:
    ld='cc', ldflags ='-Wl,-E  -fstack-protector -L/usr/local/lib'
    libpth=/usr/lib /usr/local/lib
    libs=-ldl -lm -lcrypt -lutil -lc
    perllibs=-ldl -lm -lcrypt -lutil -lc
    libc=, so=so, useshrplib=false, libperl=libperl.a
    gnulibc_version=''
  Dynamic Linking:
    dlsrc=dl_dlopen.xs, dlext=so, d_dlsymun=undef, ccdlflags=' '
    cccdlflags='-DPIC -fPIC', lddlflags='-shared  -L/usr/local/lib -fstack-protector'


Characteristics of this binary (from libperl): 
  Compile-time options: HAS_TIMES PERLIO_LAYERS PERL_DONT_CREATE_GVSV
                        PERL_HASH_FUNC_ONE_AT_A_TIME_HARD PERL_MALLOC_WRAP
                        PERL_PRESERVE_IVUV PERL_SAWAMPERSAND USE_64_BIT_ALL
                        USE_64_BIT_INT USE_LARGE_FILES USE_LOCALE
                        USE_LOCALE_COLLATE USE_LOCALE_CTYPE
                        USE_LOCALE_NUMERIC USE_PERLIO USE_PERL_ATOF
  Locally applied patches:
	Devel::PatchPerl 1.48
  Built under dragonfly
  Compiled at Jan 28 2018 00:04:06
  %ENV:
    PERL5LIB="/home/njh/.cpan/build/B-CallChecker-0.001-2/blib/arch:/home/njh/.cpan/build/B-CallChecker-0.001-2/blib/lib:/home/njh/.cpan/build/Devel-CallChecker-0.008-2/blib/arch:/home/njh/.cpan/build/Devel-CallChecker-0.008-2/blib/lib:/home/njh/.cpan/build/DynaLoader-Functions-0.003-2/blib/arch:/home/njh/.cpan/build/DynaLoader-Functions-0.003-2/blib/lib:/home/njh/.cpan/build/Carp-Always-0.16-2/blib/arch:/home/njh/.cpan/build/Carp-Always-0.16-2/blib/lib:/home/njh/.cpan/build/Term-Choose-1.627-2/blib/arch:/home/njh/.cpan/build/Term-Choose-1.627-2/blib/lib"
    PERL5OPT=""
    PERL5_CPANPLUS_IS_RUNNING="34102"
    PERL5_CPAN_IS_RUNNING="34102"
    PERLBREW_HOME="/home/njh/.perlbrew"
    PERLBREW_MANPATH="/home/njh/perl5/perlbrew/perls/perl-5.18.4/man"
    PERLBREW_PATH="/home/njh/perl5/perlbrew/bin:/home/njh/perl5/perlbrew/perls/perl-5.18.4/bin"
    PERLBREW_PERL="perl-5.18.4"
    PERLBREW_ROOT="/home/njh/perl5/perlbrew"
    PERLBREW_SHELLRC_VERSION="0.82"
    PERLBREW_VERSION="0.82"
  @INC:
    /home/njh/.cpan/build/B-CallChecker-0.001-2/blib/arch
    /home/njh/.cpan/build/B-CallChecker-0.001-2/blib/lib
    /home/njh/.cpan/build/Devel-CallChecker-0.008-2/blib/arch
    /home/njh/.cpan/build/Devel-CallChecker-0.008-2/blib/lib
    /home/njh/.cpan/build/DynaLoader-Functions-0.003-2/blib/arch
    /home/njh/.cpan/build/DynaLoader-Functions-0.003-2/blib/lib
    /home/njh/.cpan/build/Carp-Always-0.16-2/blib/arch
    /home/njh/.cpan/build/Carp-Always-0.16-2/blib/lib
    /home/njh/.cpan/build/Term-Choose-1.627-2/blib/arch
    /home/njh/.cpan/build/Term-Choose-1.627-2/blib/lib
    /home/njh/perl5/perlbrew/perls/perl-5.18.4/lib/site_perl/5.18.4/x86_64-dragonfly
    /home/njh/perl5/perlbrew/perls/perl-5.18.4/lib/site_perl/5.18.4
    /home/njh/perl5/perlbrew/perls/perl-5.18.4/lib/5.18.4/x86_64-dragonfly
    /home/njh/perl5/perlbrew/perls/perl-5.18.4/lib/5.18.4
    .