Soar-Production v0.03 Perl 5 v5.40.0 x86_64-linux-ld

Status
Pass
From
Andreas J. König (ANDK)
Dist
Soar-Production v0.03
Platform
Perl 5 v5.40.0 x86_64-linux-ld
Date
2024-06-14 04:56:00
ID
650332cc-2a0a-11ef-b89d-ab19165c4ed2
This distribution has been tested as part of the CPAN Testers
project, supporting the Perl programming language.  See
http://wiki.cpantesters.org/ for more information or email
questions to cpan-testers-discuss@perl.org


--
Dear Nathan Gary Glenn,

This is a computer-generated report for Soar-Production-0.03
on perl 5.40.0, created by CPAN-Reporter-1.2019.

Thank you for uploading your work to CPAN.  Congratulations!
All tests were successful.

Sections of this report:

    * Tester comments
    * Program output
    * Prerequisites
    * Environment and other context

------------------------------
TESTER COMMENTS
------------------------------

Additional comments from tester:

this report is from an automated smoke testing program
and was not reviewed by a human for accuracy

------------------------------
PROGRAM OUTPUT
------------------------------

Output from './Build test':

t/0-use.t ........................ ok
t/00-compile.t ................... ok
# 
# 
# Generated by Dist::Zilla::Plugin::ReportVersions::Tiny v1.08
# perl: 5.040000 (wanted 5.010) on linux from /tmp/basesmoker-reloperl-HGPh/bin/perl
# 
# Carp                                          => 1.54       (want any version)
# Data::Diver                                   => 1.0101     (want any version)
# Data::Dumper                                  => 2.189      (want any version)
# Exporter::Easy                                => 0.18       (want any version)
# File::Find                                    => 1.44       (want any version)
# File::Spec                                    => 3.90       (want any version)
# File::Spec::Functions                         => 3.91       (want any version)
# File::Temp                                    => 0.2311     (want any version)
# FindBin                                       => 1.54       (want any version)
# Module::Build                                 => 0.4234     (want 0.3601) 
# Parse::RecDescent                             => 1.967015   (want any version)
# Path::Tiny                                    => 0.146      (want any version)
# Pod::Coverage::TrustPod                       => 0.100006   (want any version)
# Test::Base                                    => 0.89       (want any version)
# Test::Base::Filter                            => <undef>    (want any version)
# Test::CPAN::Meta                              => 0.25       (want any version)
# Test::Deep                                    => 1.204      (want any version)
# Test::Exception                               => 0.43       (want any version)
# Test::LongString                              => 0.17       (want any version)
# Test::More                                    => 1.302199   (want 0.88)   
# Test::Pod                                     => 1.52       (want 1.41)   
# Test::Pod::Coverage                           => 1.10       (want 1.08)   
# Test::Warn                                    => 0.37       (want any version)
# strict                                        => 1.13       (want any version)
# utf8                                          => 1.25       (want any version)
# version                                       => 0.9932     (want 0.9901) 
# warnings                                      => 1.70       (want any version)
# 
# Thanks for using my code.  I hope it works for you.
# If not, please try and include this output in the bug report.
# That will help me reproduce the issue and solve your problem.
# 
t/000-report-versions-tiny.t ..... ok
t/1-basic.t ...................... ok
t/parser/00-use.t ................ ok
t/parser/01-bad_input.t .......... ok
t/parser/01_5-comments.t ......... ok
t/parser/02-split-productions.t .. ok
t/parser/03-production-names.t ... ok
t/parser/04-documentation.t ...... ok
t/parser/05-Flags.t .............. ok
t/parser/06-State.t .............. ok
t/parser/07-variables.t .......... ok
t/parser/08-attributes.t ......... ok
t/parser/09-int.t ................ ok
t/parser/10-float.t .............. ok
t/parser/11-string.t ............. ok
t/parser/12-quoted.t ............. ok
t/parser/13-disjunct.t ........... ok
t/parser/14-conjunct.t ........... ok
t/parser/15-predicate.t .......... ok
t/parser/16-preference.t ......... ok
t/parser/17-function.t ........... ok
t/parser/18-negative.t ........... ok
t/parser/19-conjunctiveCond.t .... ok
t/parser/20-test_data.t .......... ok
t/printer/0-use.t ................ ok
t/printer/1-test_data.t .......... ok
All tests successful.
Files=28, Tests=1816, 64 wallclock secs ( 0.38 usr  0.09 sys + 62.78 cusr  1.09 csys = 64.34 CPU)
Result: PASS

------------------------------
PREREQUISITES
------------------------------

Prerequisite modules loaded:

requires:

    Module                Need   Have    
    --------------------- ------ --------
    Carp                  0      1.54    
    Data::Dumper          0      2.189   
    Exporter::Easy        0      0.18    
    Parse::RecDescent     0      1.967015
    perl                  5.010  5.040000
    strict                0      1.13    
    warnings              0      1.70    

build_requires:

    Module                Need   Have    
    --------------------- ------ --------
    Data::Diver           0      1.0101  
    File::Find            0      1.44    
    File::Spec            0      3.90    
    File::Spec::Functions 0      3.91    
    File::Temp            0      0.2311  
    FindBin               0      1.54    
    Module::Build         0.3601 0.4234  
    Path::Tiny            0      0.146   
    Test::Base            0      0.89    
    Test::Base::Filter    0      0       
    Test::Deep            0      1.204   
    Test::Exception       0      0.43    
    Test::LongString      0      0.17    
    Test::More            0.88   1.302199
    Test::Warn            0      0.37    
    utf8                  0      1.25    

configure_requires:

    Module                Need   Have    
    --------------------- ------ --------
    Module::Build         0.3601 0.4234  


------------------------------
ENVIRONMENT AND OTHER CONTEXT
------------------------------

Environment variables:

    AUTOMATED_TESTING = 1
    LANG = en_US.UTF-8
    PATH = /home/sand/bin:/usr/local/bin:/usr/local/sbin:/usr/sbin:/usr/bin:/sbin:/bin:/usr/games:/usr/local/games:/snap/bin:/usr/local/perl/bin:/usr/X11/bin
    PERL = /tmp/basesmoker-reloperl-HGPh/bin/perl
    PERL5LIB = /tmp/loop_over_bdir-2391-2Md5xB/Devel-Required-0.16-0/blib/arch:/tmp/loop_over_bdir-2391-2Md5xB/Devel-Required-0.16-0/blib/lib:/tmp/loop_over_bdir-2391-2Md5xB/Dpkg-1.22.6-0/blib/arch:/tmp/loop_over_bdir-2391-2Md5xB/Dpkg-1.22.6-0/blib/lib:/tmp/loop_over_bdir-2391-2Md5xB/AllKnowingDNS-1.7-0/blib/arch:/tmp/loop_over_bdir-2391-2Md5xB/AllKnowingDNS-1.7-0/blib/lib:/tmp/loop_over_bdir-2391-2Md5xB/HTML-Menu-TreeView-1.22-0/blib/arch:/tmp/loop_over_bdir-2391-2Md5xB/HTML-Menu-TreeView-1.22-0/blib/lib
    PERL5OPT = 
    PERL5_CPANPLUS_IS_RUNNING = 2399
    PERL5_CPAN_IS_RUNNING = 2399
    PERL_CANARY_STABILITY_NOPROMPT = 1
    PERL_MM_USE_DEFAULT = 1
    PERL_USE_UNSAFE_INC = 1
    SHELL = /usr/bin/zsh
    TERM = screen

Perl special variables (and OS-specific diagnostics, for MSWin32):

    $^X = /tmp/basesmoker-reloperl-HGPh/bin/perl
    $UID/$EUID = 1005 / 1005
    $GID = 1005 1005
    $EGID = 1005 1005

Perl module toolchain versions installed:

    Module              Have    
    ------------------- --------
    CPAN                2.36    
    CPAN::Meta          2.150010
    Cwd                 3.90    
    ExtUtils::CBuilder  0.280240
    ExtUtils::Command   7.70    
    ExtUtils::Install   2.22    
    ExtUtils::MakeMaker 7.70    
    ExtUtils::Manifest  1.75    
    ExtUtils::ParseXS   3.51    
    File::Spec          3.90    
    JSON                4.10    
    JSON::PP            4.16    
    Module::Build       0.4234  
    Module::Signature   0.88    
    Parse::CPAN::Meta   2.150010
    Test2               1.302199
    Test::Harness       3.48    
    Test::More          1.302199
    YAML                1.31    
    YAML::Syck          1.34    
    version             0.9932  


--

Summary of my perl5 (revision 5 version 40 subversion 0) configuration:
  Commit id: f22a16ecf4821b7e93d2569f630817a2631fddd9
  Platform:
    osname=linux
    osvers=5.4.0-182-generic
    archname=x86_64-linux-ld
    uname='linux k93focal 5.4.0-182-generic #202-ubuntu smp fri apr 26 12:29:36 utc 2024 x86_64 x86_64 x86_64 gnulinux '
    config_args='-Dprefix=/home/sand/src/perl/repoperls/installed-perls/host/k93focal/v5.40.0/d3e4 -Dmyhostname=k93focal -Dinstallusrbinperl=n -Uversiononly -Dusedevel -des -Ui_db -Dlibswanted=cl pthread socket inet nsl gdbm dbm malloc dl ld sun m crypt sec util c cposix posix ucb BSD gdbm_compat -Uuseithreads -Duselongdouble -DEBUGGING=both'
    hint=recommended
    useposix=true
    d_sigaction=define
    useithreads=undef
    usemultiplicity=undef
    use64bitint=define
    use64bitall=define
    uselongdouble=define
    usemymalloc=n
    default_inc_excludes_dot=define
  Compiler:
    cc='cc'
    ccflags ='-fwrapv -DDEBUGGING -fno-strict-aliasing -pipe -fstack-protector-strong -I/usr/local/include -D_LARGEFILE_SOURCE -D_FILE_OFFSET_BITS=64'
    optimize='-O2 -g'
    cppflags='-fwrapv -DDEBUGGING -fno-strict-aliasing -pipe -fstack-protector-strong -I/usr/local/include'
    ccversion=''
    gccversion='9.4.0'
    gccosandvers=''
    intsize=4
    longsize=8
    ptrsize=8
    doublesize=8
    byteorder=12345678
    doublekind=3
    d_longlong=define
    longlongsize=8
    d_longdbl=define
    longdblsize=16
    longdblkind=3
    ivtype='long'
    ivsize=8
    nvtype='long double'
    nvsize=16
    Off_t='off_t'
    lseeksize=8
    alignbytes=16
    prototype=define
  Linker and Libraries:
    ld='cc'
    ldflags =' -fstack-protector-strong -L/usr/local/lib'
    libpth=/usr/local/lib /usr/lib/x86_64-linux-gnu /usr/lib /usr/lib64
    libs=-lpthread -lnsl -ldl -lm -lcrypt -lutil -lc
    perllibs=-lpthread -lnsl -ldl -lm -lcrypt -lutil -lc
    libc=libc-2.31.so
    so=so
    useshrplib=false
    libperl=libperl.a
    gnulibc_version='2.31'
  Dynamic Linking:
    dlsrc=dl_dlopen.xs
    dlext=so
    d_dlsymun=undef
    ccdlflags='-Wl,-E'
    cccdlflags='-fPIC'
    lddlflags='-shared -O2 -g -L/usr/local/lib -fstack-protector-strong'


Characteristics of this binary (from libperl): 
  Compile-time options:
    DEBUGGING
    HAS_LONG_DOUBLE
    HAS_STRTOLD
    HAS_TIMES
    PERLIO_LAYERS
    PERL_COPY_ON_WRITE
    PERL_DONT_CREATE_GVSV
    PERL_HASH_FUNC_SIPHASH13
    PERL_HASH_USE_SBOX32
    PERL_MALLOC_WRAP
    PERL_OP_PARENT
    PERL_PRESERVE_IVUV
    PERL_USE_DEVEL
    PERL_USE_SAFE_PUTENV
    USE_64_BIT_ALL
    USE_64_BIT_INT
    USE_LARGE_FILES
    USE_LOCALE
    USE_LOCALE_COLLATE
    USE_LOCALE_CTYPE
    USE_LOCALE_NUMERIC
    USE_LOCALE_TIME
    USE_LONG_DOUBLE
    USE_PERLIO
    USE_PERL_ATOF
  Built under linux
  Compiled at Jun 11 2024 05:38:35
  %ENV:
    PERL="/tmp/basesmoker-reloperl-HGPh/bin/perl"
    PERL5LIB="/tmp/loop_over_bdir-2391-2Md5xB/Devel-Required-0.16-0/blib/arch:/tmp/loop_over_bdir-2391-2Md5xB/Devel-Required-0.16-0/blib/lib:/tmp/loop_over_bdir-2391-2Md5xB/Dpkg-1.22.6-0/blib/arch:/tmp/loop_over_bdir-2391-2Md5xB/Dpkg-1.22.6-0/blib/lib:/tmp/loop_over_bdir-2391-2Md5xB/AllKnowingDNS-1.7-0/blib/arch:/tmp/loop_over_bdir-2391-2Md5xB/AllKnowingDNS-1.7-0/blib/lib:/tmp/loop_over_bdir-2391-2Md5xB/HTML-Menu-TreeView-1.22-0/blib/arch:/tmp/loop_over_bdir-2391-2Md5xB/HTML-Menu-TreeView-1.22-0/blib/lib"
    PERL5OPT=""
    PERL5_CPANPLUS_IS_RUNNING="2399"
    PERL5_CPAN_IS_RUNNING="2399"
    PERL_CANARY_STABILITY_NOPROMPT="1"
    PERL_MM_USE_DEFAULT="1"
    PERL_USE_UNSAFE_INC="1"
  @INC:
    /tmp/loop_over_bdir-2391-2Md5xB/Devel-Required-0.16-0/blib/arch
    /tmp/loop_over_bdir-2391-2Md5xB/Devel-Required-0.16-0/blib/lib
    /tmp/loop_over_bdir-2391-2Md5xB/Dpkg-1.22.6-0/blib/arch
    /tmp/loop_over_bdir-2391-2Md5xB/Dpkg-1.22.6-0/blib/lib
    /tmp/loop_over_bdir-2391-2Md5xB/AllKnowingDNS-1.7-0/blib/arch
    /tmp/loop_over_bdir-2391-2Md5xB/AllKnowingDNS-1.7-0/blib/lib
    /tmp/loop_over_bdir-2391-2Md5xB/HTML-Menu-TreeView-1.22-0/blib/arch
    /tmp/loop_over_bdir-2391-2Md5xB/HTML-Menu-TreeView-1.22-0/blib/lib
    /home/sand/src/perl/repoperls/installed-perls/host/k93focal/v5.40.0/d3e4/lib/site_perl/5.40.0/x86_64-linux-ld
    /home/sand/src/perl/repoperls/installed-perls/host/k93focal/v5.40.0/d3e4/lib/site_perl/5.40.0
    /home/sand/src/perl/repoperls/installed-perls/host/k93focal/v5.40.0/d3e4/lib/5.40.0/x86_64-linux-ld
    /home/sand/src/perl/repoperls/installed-perls/host/k93focal/v5.40.0/d3e4/lib/5.40.0
    .