Report for DBIx-ScopedTransaction-1.1.3

Back
From: metabase:user:320bfe00-2aae-11df-837a-5e0a49663a4f
Subject: PASS DBIx-ScopedTransaction-1.1.3 v5.12.5 GNU/Linux
Date: 2013-10-22T05:18:33Z

This distribution has been tested as part of the CPAN Testers
project, supporting the Perl programming language.  See
http://wiki.cpantesters.org/ for more information or email
questions to cpan-testers-discuss@perl.org


--
Dear Guillaume Aubert,

This is a computer-generated report for DBIx-ScopedTransaction-1.1.3
on perl 5.12.5, created by CPAN-Reporter-1.2010.

Thank you for uploading your work to CPAN.  Congratulations!
All tests were successful.

Sections of this report:

    * Tester comments
    * Program output
    * Prerequisites
    * Environment and other context

------------------------------
TESTER COMMENTS
------------------------------

Additional comments from tester:

this report is from an automated smoke testing program
and was not reviewed by a human for accuracy

------------------------------
PROGRAM OUTPUT
------------------------------

Output from './Build test':

# Testing DBIx::ScopedTransaction 1.1.3, Perl 5.012005, /home/sand/src/perl/repoperls/installed-perls/perl/v5.12.5/9980/bin/perl
t/00-load.t ........................... ok
t/10-new.t ............................ ok
t/11-new-simultaneous_transactions.t .. ok
t/12-new-void_context.t ............... ok
t/15-get_database_handle.t ............ ok
t/20-commit.t ......................... ok
t/21-commit-failure.t ................. ok
t/30-rollback.t ....................... ok
t/31-rollback-failure.t ............... ok
t/40-DESTROY.t ........................ ok
t/41-DESTROY-rollback_failure.t ....... ok
t/50-is_active.t ...................... ok
All tests successful.
Files=12, Tests=72,  2 wallclock secs ( 0.04 usr  0.01 sys +  0.73 cusr  0.12 csys =  0.90 CPU)
Result: PASS

------------------------------
PREREQUISITES
------------------------------

Prerequisite modules loaded:

requires:

    Module               Need  Have    
    -------------------- ----- --------
    Carp                 0     1.32    
    Data::Validate::Type 0     1.4.2   
    perl                 5.006 5.012005
    Try::Tiny            0     0.18    

build_requires:

    Module               Need  Have    
    -------------------- ----- --------
    Data::Dumper         0     2.145   
    DBD::SQLite          0     1.40    
    DBI                  0     1.629   
    File::Spec           0     3.40    
    Test::Exception      0     0.32    
    Test::FailWarnings   0     0.008   
    Test::More           0     0.99    

configure_requires:

    Module               Need  Have    
    -------------------- ----- --------
    Module::Build        0     0.4007  


------------------------------
ENVIRONMENT AND OTHER CONTEXT
------------------------------

Environment variables:

    AUTOMATED_TESTING = 1
    LANG = en_US.UTF-8
    LANGUAGE = en_US:en
    PATH = /usr/lib/ccache:/home/sand/bin:/usr/local/bin:/usr/bin:/bin:/usr/bin/X11:/usr/games:/usr/local/perl/bin:/usr/X11/bin:/sbin:/usr/sbin
    PERL5LIB = 
    PERL5OPT = 
    PERL5_CPANPLUS_IS_RUNNING = 21986
    PERL5_CPAN_IS_RUNNING = 21986
    PERL_MM_USE_DEFAULT = 1
    SHELL = /usr/bin/zsh
    TERM = screen

Perl special variables (and OS-specific diagnostics, for MSWin32):

    $^X = /home/sand/src/perl/repoperls/installed-perls/perl/v5.12.5/9980/bin/perl
    $UID/$EUID = 1005 / 1005
    $GID = 1005 1005
    $EGID = 1005 1005

Perl module toolchain versions installed:

    Module              Have    
    ------------------- --------
    CPAN                2.00    
    CPAN::Meta          2.132830
    Cwd                 3.40    
    ExtUtils::CBuilder  0.280212
    ExtUtils::Command   1.16    
    ExtUtils::Install   1.55    
    ExtUtils::MakeMaker 6.81_02 
    ExtUtils::Manifest  1.60    
    ExtUtils::ParseXS   3.22    
    File::Spec          3.40    
    JSON                2.61    
    JSON::PP            2.27203 
    Module::Build       0.4007  
    Module::Signature   0.73    
    Parse::CPAN::Meta   1.4409  
    Test::Harness       3.29    
    Test::More          0.99    
    YAML                0.84    
    YAML::Syck          1.27    
    version             0.9904  


--

Summary of my perl5 (revision 5 version 12 subversion 5) configuration:
  Commit id: 9a9cbd715960a905dcbc9166349a73a64a007e4e
  Platform:
    osname=linux, osvers=3.10-3-amd64, archname=x86_64-linux-thread-multi
    uname='linux k83 3.10-3-amd64 #1 smp debian 3.10.11-1 (2013-09-10) x86_64 gnulinux '
    config_args='-Dprefix=/home/sand/src/perl/repoperls/installed-perls/perl/v5.12.5/9980 -Dmyhostname=k83 -Dinstallusrbinperl=n -Uversiononly -Dusedevel -des -Ui_db -Duseithreads -Uuselongdouble -DDEBUGGING=-g'
    hint=recommended, useposix=true, d_sigaction=define
    useithreads=define, usemultiplicity=define
    useperlio=define, d_sfio=undef, uselargefiles=define, usesocks=undef
    use64bitint=define, use64bitall=define, uselongdouble=undef
    usemymalloc=n, bincompat5005=undef
  Compiler:
    cc='cc', ccflags ='-D_REENTRANT -D_GNU_SOURCE -fno-strict-aliasing -pipe -fstack-protector -I/usr/local/include -D_LARGEFILE_SOURCE -D_FILE_OFFSET_BITS=64',
    optimize='-O2 -g',
    cppflags='-D_REENTRANT -D_GNU_SOURCE -fno-strict-aliasing -pipe -fstack-protector -I/usr/local/include'
    ccversion='', gccversion='4.8.1', gccosandvers=''
    intsize=4, longsize=8, ptrsize=8, doublesize=8, byteorder=12345678
    d_longlong=define, longlongsize=8, d_longdbl=define, longdblsize=16
    ivtype='long', ivsize=8, nvtype='double', nvsize=8, Off_t='off_t', lseeksize=8
    alignbytes=8, prototype=define
  Linker and Libraries:
    ld='cc', ldflags =' -fstack-protector -L/usr/local/lib'
    libpth=/usr/local/lib /lib/x86_64-linux-gnu /lib/../lib /usr/lib/x86_64-linux-gnu /usr/lib/../lib /lib /usr/lib
    libs=-lnsl -lgdbm -ldb -ldl -lm -lcrypt -lutil -lpthread -lc -lgdbm_compat
    perllibs=-lnsl -ldl -lm -lcrypt -lutil -lpthread -lc
    libc=, so=so, useshrplib=false, libperl=libperl.a
    gnulibc_version='2.17'
  Dynamic Linking:
    dlsrc=dl_dlopen.xs, dlext=so, d_dlsymun=undef, ccdlflags='-Wl,-E'
    cccdlflags='-fPIC', lddlflags='-shared -O2 -g -L/usr/local/lib -fstack-protector'


Characteristics of this binary (from libperl): 
  Compile-time options: MULTIPLICITY PERL_DONT_CREATE_GVSV
                        PERL_IMPLICIT_CONTEXT PERL_MALLOC_WRAP PERL_USE_DEVEL
                        USE_64_BIT_ALL USE_64_BIT_INT USE_ITHREADS
                        USE_LARGE_FILES USE_PERLIO USE_PERL_ATOF
                        USE_REENTRANT_API
  Built under linux
  Compiled at Oct 10 2013 23:35:27
  %ENV:
    PERL5LIB=""
    PERL5OPT=""
    PERL5_CPANPLUS_IS_RUNNING="21986"
    PERL5_CPAN_IS_RUNNING="21986"
    PERL_MM_USE_DEFAULT="1"
  @INC:
    /home/sand/src/perl/repoperls/installed-perls/perl/v5.12.5/9980/lib/site_perl/5.12.5/x86_64-linux-thread-multi
    /home/sand/src/perl/repoperls/installed-perls/perl/v5.12.5/9980/lib/site_perl/5.12.5
    /home/sand/src/perl/repoperls/installed-perls/perl/v5.12.5/9980/lib/5.12.5/x86_64-linux-thread-multi
    /home/sand/src/perl/repoperls/installed-perls/perl/v5.12.5/9980/lib/5.12.5
    .