Back
From: metabase:user:30977d10-2aae-11df-837a-5e0a49663a4f
Subject: PASS Catalyst-Authentication-Credential-RemoteHTTP-0.05 v5.15.1 GNU/Linux
Date: 2012-02-12T05:28:30Z
This distribution has been tested as part of the CPAN Testers
project, supporting the Perl programming language. See
http://wiki.cpantesters.org/ for more information or email
questions to cpan-testers-discuss@perl.org
--
Dear Nigel Metheringham,
This is a computer-generated report for Catalyst-Authentication-Credential-RemoteHTTP-0.05
on perl 5.15.1, created by CPAN-Reporter-1.2003.
Thank you for uploading your work to CPAN. Congratulations!
All tests were successful.
Sections of this report:
* Tester comments
* Program output
* Prerequisites
* Environment and other context
------------------------------
TESTER COMMENTS
------------------------------
Additional comments from tester:
this report is from an automated smoke testing program
and was not reviewed by a human for accuracy
------------------------------
PROGRAM OUTPUT
------------------------------
Output from './Build test':
t/00-compile.t ............... ok
# Testing Catalyst::Authentication::Credential::RemoteHTTP 0.05, Perl 5.015001, /home/trushel/perl/perl5151m/bin/perl
t/00-load.t .................. ok
# Testing with Perl 5.015001, /home/trushel/perl/perl5151m/bin/perl
# Carp version is 1.21
# Catalyst version is 5.90002
# Catalyst::Authentication::Store::Minimal version is undefined
# Catalyst::Controller version is undefined
# Catalyst::Exception version is undefined
# Catalyst::Test version is undefined
# English version is 1.04
# File::Find version is 1.20
# File::Temp version is 0.22
# HTTP::Server::Simple version is 0.45_02
# HTTP::Server::Simple::CGI version is 0.45_02
# IO::Socket::INET version is 1.31
# LWP::UserAgent version is 6.03
# MIME::Base64 version is 3.13
# Module::Build version is 0.38
# Moose version is 2.0402
# MooseX::Types::Moose version is 0.31
# Scalar::Util version is 1.2303
# Test::Exception version is 0.31
# Test::More version is 0.98
# base version is 2.15
# namespace::autoclean version is 0.13
# strict version is 1.04
# warnings version is 1.12
t/000-report-versions.t ...... ok
t/author-critic.t ............ skipped: these tests are for testing by the author
t/author-pod-spell.t ......... skipped: these tests are for testing by the author
t/live.t ..................... ok
t/release-dist-manifest.t .... skipped: these tests are for release candidate testing
t/release-distmeta.t ......... skipped: these tests are for release candidate testing
t/release-eol.t .............. skipped: these tests are for release candidate testing
t/release-has-version.t ...... skipped: these tests are for release candidate testing
t/release-kwalitee.t ......... skipped: these tests are for release candidate testing
t/release-minimum-version.t .. skipped: these tests are for release candidate testing
t/release-no-tabs.t .......... skipped: these tests are for release candidate testing
t/release-pod-coverage.t ..... skipped: these tests are for release candidate testing
t/release-pod-syntax.t ....... skipped: these tests are for release candidate testing
t/release-portability.t ...... skipped: these tests are for release candidate testing
t/release-synopsis.t ......... skipped: these tests are for release candidate testing
t/release-unused-vars.t ...... skipped: these tests are for release candidate testing
All tests successful.
Files=18, Tests=43, 12 wallclock secs ( 0.05 usr 0.04 sys + 2.52 cusr 0.20 csys = 2.81 CPU)
Result: PASS
------------------------------
PREREQUISITES
------------------------------
Prerequisite modules loaded:
requires:
Module Need Have
---------------------------------------- -------- --------
base 0 2.15
Catalyst::Exception 0 0
LWP::UserAgent 0 6.03
Moose 0 2.0402
MooseX::Types::Moose 0 0.31
namespace::autoclean 0 0.13
perl 5.008005 5.015001
strict 0 1.04
warnings 0 1.12
build_requires:
Module Need Have
---------------------------------------- -------- --------
Carp 0 1.21
Catalyst 0 5.90002
Catalyst::Authentication::Store::Minimal 0 0
! Catalyst::Controller 0 broken
Catalyst::Test 0 0
English 0 1.04
File::Find 0 1.20
File::Temp 0 0.22
HTTP::Server::Simple 0 0.45_02
HTTP::Server::Simple::CGI 0 0.45_02
IO::Socket::INET 0 1.31
MIME::Base64 0 3.13
Module::Build 0.3601 0.3800
Scalar::Util 0 1.23_03
Test::Exception 0 0.31
Test::More 0.94 0.98
configure_requires:
Module Need Have
---------------------------------------- -------- --------
Module::Build 0.3601 0.3800
------------------------------
ENVIRONMENT AND OTHER CONTEXT
------------------------------
Environment variables:
AUTOMATED_TESTING = 1
LANG = en_US.UTF-8
PATH = /usr/local/sbin:/usr/local/bin:/usr/sbin:/usr/bin:/sbin:/bin
PERL5LIB =
PERL5OPT =
PERL5_CPANPLUS_IS_RUNNING = 25142
PERL5_CPAN_IS_RUNNING = 25142
PERL5_CPAN_IS_RUNNING_IN_RECURSION = 9841,25142
PERL_CR_SMOKER_CURRENT = Catalyst-Authentication-Credential-RemoteHTTP-0.05
PERL_EXTUTILS_AUTOINSTALL = --defaultdeps
PERL_MM_USE_DEFAULT = 1
SHELL = /bin/bash
TERM = xterm
Perl special variables (and OS-specific diagnostics, for MSWin32):
$^X = /home/trushel/perl/perl5151m/bin/perl
$UID/$EUID = 138375 / 138375
$GID = 5762 4 20 21 24 25 26 30 44 46 104 105 119 122 431 5762
$EGID = 5762 4 20 21 24 25 26 30 44 46 104 105 119 122 431 5762
Perl module toolchain versions installed:
Module Have
------------------- --------
CPAN 1.9800
CPAN::Meta 2.120351
Cwd 3.39_01
ExtUtils::CBuilder 0.280202
ExtUtils::Command 1.17
ExtUtils::Install 1.54
ExtUtils::MakeMaker 6.63_02
ExtUtils::Manifest 1.60
ExtUtils::ParseXS 3.15
File::Spec 3.39_01
JSON 2.53
JSON::PP 2.27200
Module::Build 0.3800
Module::Signature 0.68
Parse::CPAN::Meta 1.4402
Test::Harness 3.23
Test::More 0.98
YAML 0.80
YAML::Syck 1.20_01
version 0.96
--
Summary of my perl5 (revision 5 version 15 subversion 1) configuration:
Platform:
osname=linux, osvers=2.6.32-33-generic, archname=x86_64-linux-multi
uname='linux trushel-glaptop 2.6.32-33-generic #70-ubuntu smp thu jul 7 21:13:52 utc 2011 x86_64 gnulinux '
config_args=''
hint=recommended, useposix=true, d_sigaction=define
useithreads=undef, usemultiplicity=define
useperlio=define, d_sfio=undef, uselargefiles=define, usesocks=undef
use64bitint=define, use64bitall=define, uselongdouble=undef
usemymalloc=n, bincompat5005=undef
Compiler:
cc='cc', ccflags ='-fno-strict-aliasing -pipe -fstack-protector -I/usr/local/include -D_LARGEFILE_SOURCE -D_FILE_OFFSET_BITS=64',
optimize='-O2',
cppflags='-fno-strict-aliasing -pipe -fstack-protector -I/usr/local/include'
ccversion='', gccversion='4.4.3', gccosandvers=''
intsize=4, longsize=8, ptrsize=8, doublesize=8, byteorder=12345678
d_longlong=define, longlongsize=8, d_longdbl=define, longdblsize=16
ivtype='long', ivsize=8, nvtype='double', nvsize=8, Off_t='off_t', lseeksize=8
alignbytes=8, prototype=define
Linker and Libraries:
ld='cc', ldflags =' -fstack-protector -L/usr/local/lib'
libpth=/usr/local/lib /lib/../lib /usr/lib/../lib /lib /usr/lib /usr/lib/x86_64-linux-gnu /lib64 /usr/lib64
libs=-lnsl -ldb -ldl -lm -lcrypt -lutil -lc
perllibs=-lnsl -ldl -lm -lcrypt -lutil -lc
libc=/lib/libc-2.11.1.so, so=so, useshrplib=false, libperl=libperl.a
gnulibc_version='2.11.1'
Dynamic Linking:
dlsrc=dl_dlopen.xs, dlext=so, d_dlsymun=undef, ccdlflags='-Wl,-E'
cccdlflags='-fPIC', lddlflags='-shared -O2 -L/usr/local/lib -fstack-protector'
Characteristics of this binary (from libperl):
Compile-time options: HAS_TIMES MULTIPLICITY PERLIO_LAYERS
PERL_DONT_CREATE_GVSV PERL_IMPLICIT_CONTEXT
PERL_MALLOC_WRAP PERL_PRESERVE_IVUV USE_64_BIT_ALL
USE_64_BIT_INT USE_LARGE_FILES USE_LOCALE
USE_LOCALE_COLLATE USE_LOCALE_CTYPE
USE_LOCALE_NUMERIC USE_PERLIO USE_PERL_ATOF
Built under linux
Compiled at Jul 21 2011 07:34:19
%ENV:
PERL5LIB=""
PERL5OPT=""
PERL5_CPANPLUS_IS_RUNNING="25142"
PERL5_CPAN_IS_RUNNING="25142"
PERL5_CPAN_IS_RUNNING_IN_RECURSION="9841,25142"
PERL_CR_SMOKER_CURRENT="Catalyst-Authentication-Credential-RemoteHTTP-0.05"
PERL_EXTUTILS_AUTOINSTALL="--defaultdeps"
PERL_MM_USE_DEFAULT="1"
@INC:
/home/trushel/perl/perl5151m/lib/site_perl/5.15.1/x86_64-linux-multi
/home/trushel/perl/perl5151m/lib/site_perl/5.15.1
/home/trushel/perl/perl5151m/lib/5.15.1/x86_64-linux-multi
/home/trushel/perl/perl5151m/lib/5.15.1
.