Report for Google-AJAX-Library-0.022

Back
From: metabase:user:320bfe00-2aae-11df-837a-5e0a49663a4f
Subject: PASS Google-AJAX-Library-0.022 v5.13.7 GNU/Linux
Date: 2010-11-24T14:59:12Z

This distribution has been tested as part of the CPAN Testers
project, supporting the Perl programming language.  See
http://wiki.cpantesters.org/ for more information or email
questions to cpan-testers-discuss@perl.org


--
Dear Robert Krimen,

This is a computer-generated report for Google-AJAX-Library-0.022
on perl 5.13.7, created by CPAN-Reporter-1.1803.

Thank you for uploading your work to CPAN.  Congratulations!
All tests were successful.

Sections of this report:

    * Tester comments
    * Program output
    * Prerequisites
    * Environment and other context

------------------------------
TESTER COMMENTS
------------------------------

Additional comments from tester:

none provided

------------------------------
PROGRAM OUTPUT
------------------------------

Output from '/usr/bin/make test':

make[1]: Entering directory `/home/sand/.cpan/build/Google-AJAX-Library-0.022-6SIXbS'
PERL_DL_NONLAZY=1 /home/src/perl/repoperls/installed-perls/perl/v5.13.7-74-g68adb2b/bin/perl "-MExtUtils::Command::MM" "-e" "test_harness(0, 'blib/lib', 'blib/arch')" t/*.t
You are overwriting a locally defined function (file) with an accessor at /home/src/perl/repoperls/installed-perls/perl/v5.13.7-74-g68adb2b/lib/site_perl/5.13.7/x86_64-linux-thread-multi-ld/Moose/Meta/Attribute.pm line 566
	Moose::Meta::Attribute::_process_accessors('Moose::Meta::Attribute=HASH(0x28e1638)', 'reader', 'file', undef) called at /home/src/perl/repoperls/installed-perls/perl/v5.13.7-74-g68adb2b/lib/site_perl/5.13.7/x86_64-linux-thread-multi-ld/Class/MOP/Attribute.pm line 360
	Class::MOP::Attribute::install_accessors('Moose::Meta::Attribute=HASH(0x28e1638)') called at /home/src/perl/repoperls/installed-perls/perl/v5.13.7-74-g68adb2b/lib/site_perl/5.13.7/x86_64-linux-thread-multi-ld/Moose/Meta/Attribute.pm line 532
	Moose::Meta::Attribute::install_accessors('Moose::Meta::Attribute=HASH(0x28e1638)') called at /home/src/perl/repoperls/installed-perls/perl/v5.13.7-74-g68adb2b/lib/site_perl/5.13.7/x86_64-linux-thread-multi-ld/Class/MOP/Class.pm line 789
	Class::MOP::Class::__ANON__() called at /home/src/perl/repoperls/installed-perls/perl/v5.13.7-74-g68adb2b/lib/site_perl/5.13.7/Try/Tiny.pm line 76
	eval {...} called at /home/src/perl/repoperls/installed-perls/perl/v5.13.7-74-g68adb2b/lib/site_perl/5.13.7/Try/Tiny.pm line 67
	Try::Tiny::try('CODE(0x1a2da80)', 'Try::Tiny::Catch=REF(0x1a2deb8)') called at /home/src/perl/repoperls/installed-perls/perl/v5.13.7-74-g68adb2b/lib/site_perl/5.13.7/x86_64-linux-thread-multi-ld/Class/MOP/Class.pm line 794
	Class::MOP::Class::_post_add_attribute('Moose::Meta::Class=HASH(0x230d878)', 'Moose::Meta::Attribute=HASH(0x28e1638)') called at /home/src/perl/repoperls/installed-perls/perl/v5.13.7-74-g68adb2b/lib/site_perl/5.13.7/x86_64-linux-thread-multi-ld/Class/MOP/Mixin/HasAttributes.pm line 45
	Class::MOP::Mixin::HasAttributes::add_attribute('Moose::Meta::Class=HASH(0x230d878)', 'Moose::Meta::Attribute=HASH(0x28e1638)') called at /home/src/perl/repoperls/installed-perls/perl/v5.13.7-74-g68adb2b/lib/site_perl/5.13.7/x86_64-linux-thread-multi-ld/Moose/Meta/Class.pm line 304
	Moose::Meta::Class::add_attribute('Moose::Meta::Class=HASH(0x230d878)', 'file', 'definition_context', 'HASH(0x28cfa38)', 'is', 'ro') called at /home/src/perl/repoperls/installed-perls/perl/v5.13.7-74-g68adb2b/lib/site_perl/5.13.7/x86_64-linux-thread-multi-ld/Moose.pm line 70
	Moose::has('Moose::Meta::Class=HASH(0x230d878)', 'file', 'is', 'ro') called at /home/src/perl/repoperls/installed-perls/perl/v5.13.7-74-g68adb2b/lib/site_perl/5.13.7/x86_64-linux-thread-multi-ld/Moose/Exporter.pm line 359
	Moose::has('file', 'is', 'ro') called at /home/sand/.cpan/build/Google-AJAX-Library-0.022-6SIXbS/blib/lib/Google/AJAX/Library.pm line 32
	require Google/AJAX/Library.pm called at t/01-basic.t line 5
	main::BEGIN() called at /home/sand/.cpan/build/Google-AJAX-Library-0.022-6SIXbS/blib/lib/Google/AJAX/Library.pm line 0
	eval {...} called at /home/sand/.cpan/build/Google-AJAX-Library-0.022-6SIXbS/blib/lib/Google/AJAX/Library.pm line 0
t/01-basic.t .... ok
You are overwriting a locally defined function (file) with an accessor at /home/src/perl/repoperls/installed-perls/perl/v5.13.7-74-g68adb2b/lib/site_perl/5.13.7/x86_64-linux-thread-multi-ld/Moose/Meta/Attribute.pm line 566
	Moose::Meta::Attribute::_process_accessors('Moose::Meta::Attribute=HASH(0x19c6958)', 'reader', 'file', undef) called at /home/src/perl/repoperls/installed-perls/perl/v5.13.7-74-g68adb2b/lib/site_perl/5.13.7/x86_64-linux-thread-multi-ld/Class/MOP/Attribute.pm line 360
	Class::MOP::Attribute::install_accessors('Moose::Meta::Attribute=HASH(0x19c6958)') called at /home/src/perl/repoperls/installed-perls/perl/v5.13.7-74-g68adb2b/lib/site_perl/5.13.7/x86_64-linux-thread-multi-ld/Moose/Meta/Attribute.pm line 532
	Moose::Meta::Attribute::install_accessors('Moose::Meta::Attribute=HASH(0x19c6958)') called at /home/src/perl/repoperls/installed-perls/perl/v5.13.7-74-g68adb2b/lib/site_perl/5.13.7/x86_64-linux-thread-multi-ld/Class/MOP/Class.pm line 789
	Class::MOP::Class::__ANON__() called at /home/src/perl/repoperls/installed-perls/perl/v5.13.7-74-g68adb2b/lib/site_perl/5.13.7/Try/Tiny.pm line 76
	eval {...} called at /home/src/perl/repoperls/installed-perls/perl/v5.13.7-74-g68adb2b/lib/site_perl/5.13.7/Try/Tiny.pm line 67
	Try::Tiny::try('CODE(0xb12d50)', 'Try::Tiny::Catch=REF(0xb13188)') called at /home/src/perl/repoperls/installed-perls/perl/v5.13.7-74-g68adb2b/lib/site_perl/5.13.7/x86_64-linux-thread-multi-ld/Class/MOP/Class.pm line 794
	Class::MOP::Class::_post_add_attribute('Moose::Meta::Class=HASH(0x13f2cc8)', 'Moose::Meta::Attribute=HASH(0x19c6958)') called at /home/src/perl/repoperls/installed-perls/perl/v5.13.7-74-g68adb2b/lib/site_perl/5.13.7/x86_64-linux-thread-multi-ld/Class/MOP/Mixin/HasAttributes.pm line 45
	Class::MOP::Mixin::HasAttributes::add_attribute('Moose::Meta::Class=HASH(0x13f2cc8)', 'Moose::Meta::Attribute=HASH(0x19c6958)') called at /home/src/perl/repoperls/installed-perls/perl/v5.13.7-74-g68adb2b/lib/site_perl/5.13.7/x86_64-linux-thread-multi-ld/Moose/Meta/Class.pm line 304
	Moose::Meta::Class::add_attribute('Moose::Meta::Class=HASH(0x13f2cc8)', 'file', 'definition_context', 'HASH(0x19b4e38)', 'is', 'ro') called at /home/src/perl/repoperls/installed-perls/perl/v5.13.7-74-g68adb2b/lib/site_perl/5.13.7/x86_64-linux-thread-multi-ld/Moose.pm line 70
	Moose::has('Moose::Meta::Class=HASH(0x13f2cc8)', 'file', 'is', 'ro') called at /home/src/perl/repoperls/installed-perls/perl/v5.13.7-74-g68adb2b/lib/site_perl/5.13.7/x86_64-linux-thread-multi-ld/Moose/Exporter.pm line 359
	Moose::has('file', 'is', 'ro') called at /home/sand/.cpan/build/Google-AJAX-Library-0.022-6SIXbS/blib/lib/Google/AJAX/Library.pm line 32
	require Google/AJAX/Library.pm called at t/02-library.t line 5
	main::BEGIN() called at /home/sand/.cpan/build/Google-AJAX-Library-0.022-6SIXbS/blib/lib/Google/AJAX/Library.pm line 0
	eval {...} called at /home/sand/.cpan/build/Google-AJAX-Library-0.022-6SIXbS/blib/lib/Google/AJAX/Library.pm line 0
t/02-library.t .. ok
You are overwriting a locally defined function (file) with an accessor at /home/src/perl/repoperls/installed-perls/perl/v5.13.7-74-g68adb2b/lib/site_perl/5.13.7/x86_64-linux-thread-multi-ld/Moose/Meta/Attribute.pm line 566
	Moose::Meta::Attribute::_process_accessors('Moose::Meta::Attribute=HASH(0x2b80148)', 'reader', 'file', undef) called at /home/src/perl/repoperls/installed-perls/perl/v5.13.7-74-g68adb2b/lib/site_perl/5.13.7/x86_64-linux-thread-multi-ld/Class/MOP/Attribute.pm line 360
	Class::MOP::Attribute::install_accessors('Moose::Meta::Attribute=HASH(0x2b80148)') called at /home/src/perl/repoperls/installed-perls/perl/v5.13.7-74-g68adb2b/lib/site_perl/5.13.7/x86_64-linux-thread-multi-ld/Moose/Meta/Attribute.pm line 532
	Moose::Meta::Attribute::install_accessors('Moose::Meta::Attribute=HASH(0x2b80148)') called at /home/src/perl/repoperls/installed-perls/perl/v5.13.7-74-g68adb2b/lib/site_perl/5.13.7/x86_64-linux-thread-multi-ld/Class/MOP/Class.pm line 789
	Class::MOP::Class::__ANON__() called at /home/src/perl/repoperls/installed-perls/perl/v5.13.7-74-g68adb2b/lib/site_perl/5.13.7/Try/Tiny.pm line 76
	eval {...} called at /home/src/perl/repoperls/installed-perls/perl/v5.13.7-74-g68adb2b/lib/site_perl/5.13.7/Try/Tiny.pm line 67
	Try::Tiny::try('CODE(0x1ccc7b0)', 'Try::Tiny::Catch=REF(0x1cccbe8)') called at /home/src/perl/repoperls/installed-perls/perl/v5.13.7-74-g68adb2b/lib/site_perl/5.13.7/x86_64-linux-thread-multi-ld/Class/MOP/Class.pm line 794
	Class::MOP::Class::_post_add_attribute('Moose::Meta::Class=HASH(0x25ac528)', 'Moose::Meta::Attribute=HASH(0x2b80148)') called at /home/src/perl/repoperls/installed-perls/perl/v5.13.7-74-g68adb2b/lib/site_perl/5.13.7/x86_64-linux-thread-multi-ld/Class/MOP/Mixin/HasAttributes.pm line 45
	Class::MOP::Mixin::HasAttributes::add_attribute('Moose::Meta::Class=HASH(0x25ac528)', 'Moose::Meta::Attribute=HASH(0x2b80148)') called at /home/src/perl/repoperls/installed-perls/perl/v5.13.7-74-g68adb2b/lib/site_perl/5.13.7/x86_64-linux-thread-multi-ld/Moose/Meta/Class.pm line 304
	Moose::Meta::Class::add_attribute('Moose::Meta::Class=HASH(0x25ac528)', 'file', 'definition_context', 'HASH(0x2b6e598)', 'is', 'ro') called at /home/src/perl/repoperls/installed-perls/perl/v5.13.7-74-g68adb2b/lib/site_perl/5.13.7/x86_64-linux-thread-multi-ld/Moose.pm line 70
	Moose::has('Moose::Meta::Class=HASH(0x25ac528)', 'file', 'is', 'ro') called at /home/src/perl/repoperls/installed-perls/perl/v5.13.7-74-g68adb2b/lib/site_perl/5.13.7/x86_64-linux-thread-multi-ld/Moose/Exporter.pm line 359
	Moose::has('file', 'is', 'ro') called at /home/sand/.cpan/build/Google-AJAX-Library-0.022-6SIXbS/blib/lib/Google/AJAX/Library.pm line 32
	require Google/AJAX/Library.pm called at t/03-fetch.t line 5
	main::BEGIN() called at /home/sand/.cpan/build/Google-AJAX-Library-0.022-6SIXbS/blib/lib/Google/AJAX/Library.pm line 0
	eval {...} called at /home/sand/.cpan/build/Google-AJAX-Library-0.022-6SIXbS/blib/lib/Google/AJAX/Library.pm line 0
t/03-fetch.t .... skipped: Not going out to http://ajax.googleapis.com to test fetching/writing
All tests successful.
Files=3, Tests=61,  1 wallclock secs ( 0.03 usr  0.01 sys +  0.83 cusr  0.11 csys =  0.98 CPU)
Result: PASS
make[1]: Leaving directory `/home/sand/.cpan/build/Google-AJAX-Library-0.022-6SIXbS'

------------------------------
PREREQUISITES
------------------------------

Prerequisite modules loaded:

requires:

    Module              Need Have   
    ------------------- ---- -------
    Carp::Clan::Share   0    0.013  
    HTML::Declare       0    2.4    
    LWP::UserAgent      0    5.835  
    Moose               0    1.17   
    Path::Class         0    0.21   
    URI                 0    1.56   

build_requires:

    Module              Need Have   
    ------------------- ---- -------
    File::Temp          0    0.22   
    Test::Most          0    0.23   

configure_requires:

    Module              Need Have   
    ------------------- ---- -------
    ExtUtils::MakeMaker 6.31 6.57_05


------------------------------
ENVIRONMENT AND OTHER CONTEXT
------------------------------

Environment variables:

    LANG = en_US.UTF-8
    PATH = /home/sand/bin:/usr/local/bin:/usr/bin:/bin:/usr/bin/X11:/usr/games:/usr/local/perl/bin:/usr/X11/bin:/sbin:/usr/sbin
    PERL5LIB = /home/sand/.cpan/build/ProjectBuilder-0.9.10-nLdE6H/blib/arch:/home/sand/.cpan/build/ProjectBuilder-0.9.10-nLdE6H/blib/lib:/home/sand/.cpan/build/Mail-SpamAssassin-2.43-unfMSk/blib/arch:/home/sand/.cpan/build/Mail-SpamAssassin-2.43-unfMSk/blib/lib
    PERL5OPT = 
    PERL5_CPANPLUS_IS_RUNNING = 4120
    PERL5_CPAN_IS_RUNNING = 4120
    SHELL = /usr/bin/zsh
    TERM = screen

Perl special variables (and OS-specific diagnostics, for MSWin32):

    $^X = /home/src/perl/repoperls/installed-perls/perl/v5.13.7-74-g68adb2b/bin/perl
    $UID/$EUID = 1001 / 1001
    $GID = 1001 1001
    $EGID = 1001 1001

Perl module toolchain versions installed:

    Module              Have   
    ------------------- -------
    CPAN                1.94_62
    Cwd                 3.34   
    ExtUtils::CBuilder  0.2703 
    ExtUtils::Command   1.16   
    ExtUtils::Install   1.55   
    ExtUtils::MakeMaker 6.57_05
    ExtUtils::Manifest  1.58   
    ExtUtils::ParseXS   2.2207 
    File::Spec          3.33   
    Module::Build       0.3607 
    Module::Signature   0.66   
    Test::Harness       3.22   
    Test::More          0.97_01
    YAML                0.72   
    YAML::Syck          1.17   
    version             0.85   


--

Summary of my perl5 (revision 5 version 13 subversion 7) configuration:
  Commit id: 68adb2b0c592afeb71b5a6a4f15af308d54a0db4
  Platform:
    osname=linux, osvers=2.6.32-5-amd64, archname=x86_64-linux-thread-multi-ld
    uname='linux k81 2.6.32-5-amd64 #1 smp sat oct 30 14:18:21 utc 2010 x86_64 gnulinux '
    config_args='-Dprefix=/home/src/perl/repoperls/installed-perls/perl/v5.13.7-74-g68adb2b -Dinstallusrbinperl=n -Uversiononly -Dusedevel -des -Ui_db -Duseithreads -Duselongdouble'
    hint=recommended, useposix=true, d_sigaction=define
    useithreads=define, usemultiplicity=define
    useperlio=define, d_sfio=undef, uselargefiles=define, usesocks=undef
    use64bitint=define, use64bitall=define, uselongdouble=define
    usemymalloc=n, bincompat5005=undef
  Compiler:
    cc='cc', ccflags ='-D_REENTRANT -D_GNU_SOURCE -fno-strict-aliasing -pipe -fstack-protector -I/usr/local/include -D_LARGEFILE_SOURCE -D_FILE_OFFSET_BITS=64',
    optimize='-O2',
    cppflags='-D_REENTRANT -D_GNU_SOURCE -fno-strict-aliasing -pipe -fstack-protector -I/usr/local/include'
    ccversion='', gccversion='4.4.5', gccosandvers=''
    intsize=4, longsize=8, ptrsize=8, doublesize=8, byteorder=12345678
    d_longlong=define, longlongsize=8, d_longdbl=define, longdblsize=16
    ivtype='long', ivsize=8, nvtype='long double', nvsize=16, Off_t='off_t', lseeksize=8
    alignbytes=16, prototype=define
  Linker and Libraries:
    ld='cc', ldflags =' -fstack-protector -L/usr/local/lib'
    libpth=/usr/local/lib /lib /usr/lib /lib64 /usr/lib64
    libs=-lnsl -lgdbm -ldb -ldl -lm -lcrypt -lutil -lpthread -lc -lgdbm_compat
    perllibs=-lnsl -ldl -lm -lcrypt -lutil -lpthread -lc
    libc=/lib/libc-2.11.2.so, so=so, useshrplib=false, libperl=libperl.a
    gnulibc_version='2.11.2'
  Dynamic Linking:
    dlsrc=dl_dlopen.xs, dlext=so, d_dlsymun=undef, ccdlflags='-Wl,-E'
    cccdlflags='-fPIC', lddlflags='-shared -O2 -L/usr/local/lib -fstack-protector'


Characteristics of this binary (from libperl): 
  Compile-time options: MULTIPLICITY PERL_DONT_CREATE_GVSV
                        PERL_IMPLICIT_CONTEXT PERL_MALLOC_WRAP PERL_USE_DEVEL
                        USE_64_BIT_ALL USE_64_BIT_INT USE_ITHREADS
                        USE_LARGE_FILES USE_LONG_DOUBLE USE_PERLIO
                        USE_PERL_ATOF USE_REENTRANT_API
  Built under linux
  Compiled at Nov 24 2010 06:53:38
  %ENV:
    PERL5LIB="/home/sand/.cpan/build/ProjectBuilder-0.9.10-nLdE6H/blib/arch:/home/sand/.cpan/build/ProjectBuilder-0.9.10-nLdE6H/blib/lib:/home/sand/.cpan/build/Mail-SpamAssassin-2.43-unfMSk/blib/arch:/home/sand/.cpan/build/Mail-SpamAssassin-2.43-unfMSk/blib/lib"
    PERL5OPT=""
    PERL5_CPANPLUS_IS_RUNNING="4120"
    PERL5_CPAN_IS_RUNNING="4120"
  @INC:
    /home/sand/.cpan/build/ProjectBuilder-0.9.10-nLdE6H/blib/arch
    /home/sand/.cpan/build/ProjectBuilder-0.9.10-nLdE6H/blib/lib
    /home/sand/.cpan/build/Mail-SpamAssassin-2.43-unfMSk/blib/arch
    /home/sand/.cpan/build/Mail-SpamAssassin-2.43-unfMSk/blib/lib
    /home/src/perl/repoperls/installed-perls/perl/v5.13.7-74-g68adb2b/lib/site_perl/5.13.7/x86_64-linux-thread-multi-ld
    /home/src/perl/repoperls/installed-perls/perl/v5.13.7-74-g68adb2b/lib/site_perl/5.13.7
    /home/src/perl/repoperls/installed-perls/perl/v5.13.7-74-g68adb2b/lib/5.13.7/x86_64-linux-thread-multi-ld
    /home/src/perl/repoperls/installed-perls/perl/v5.13.7-74-g68adb2b/lib/5.13.7
    .