Class-Singleton v1.6 Perl 5 v5.30.1 MSWin32-x64-multi-thread

Status
Pass
From
William Scherz
Dist
Class-Singleton v1.6
Platform
Perl 5 v5.30.1 MSWin32-x64-multi-thread
Date
2021-03-27 03:24:07
ID
65ed6f9e-75ab-1014-8029-340a54d63c4c
This distribution has been tested as part of the CPAN Testers
project, supporting the Perl programming language.  See
http://wiki.cpantesters.org/ for more information or email
questions to cpan-testers-discuss@perl.org


--
Dear Steve Hay,

This is a computer-generated report for Class-Singleton-1.6
on perl 5.30.1, created by CPAN-Reporter-1.2018.

Thank you for uploading your work to CPAN.  Congratulations!
All tests were successful.

Sections of this report:

    * Tester comments
    * Program output
    * Prerequisites
    * Environment and other context

------------------------------
TESTER COMMENTS
------------------------------

Additional comments from tester:

none provided

------------------------------
PROGRAM OUTPUT
------------------------------

Output from 'D:\Lang\perl\c\bin\gmake.exe test':

"D:\Lang\Perl\perl\bin\perl.exe" "-MExtUtils::Command::MM" "-MTest::Harness" "-e" "undef *Test::Harness::Switches; test_harness(0, 'blib\lib', 'blib\arch')" t/*.t
t/changes.t ....... skipped: Author testing only
t/critic.t ........ skipped: Author testing only
t/pod.t ........... skipped: Author testing only
t/pod_coverage.t .. skipped: Author testing only
t/singleton.t ..... ok
All tests successful.
Files=5, Tests=29,  2 wallclock secs ( 0.05 usr +  0.05 sys =  0.09 CPU)
Result: PASS

------------------------------
PREREQUISITES
------------------------------

Prerequisite modules loaded:

requires:

    Module              Need     Have    
    ------------------- -------- --------
    perl                5.008001 5.030001
    strict              0        1.11    
    warnings            0        1.44    

build_requires:

    Module              Need     Have    
    ------------------- -------- --------
    base                0        2.27    
    ExtUtils::MakeMaker 0        7.44    
    Test::More          0        1.302171

configure_requires:

    Module              Need     Have    
    ------------------- -------- --------
    ExtUtils::MakeMaker 6.64     7.44    
    perl                5.008001 5.030001
    strict              0        1.11    
    warnings            0        1.44    


------------------------------
ENVIRONMENT AND OTHER CONTEXT
------------------------------

Environment variables:

    COMSPEC = C:\WINDOWS\system32\cmd.exe
    NUMBER_OF_PROCESSORS = 4
    PATH = D:\Lang\Python38\Scripts\;D:\Lang\Python38\;d:\bat\;C:\WINDOWS\system32;C:\WINDOWS;C:\WINDOWS\System32\Wbem;C:\ProgramData\Oracle\Java\javapath;C:\Program Files (x86)\AMD APP\bin\x86_64;C:\Program Files (x86)\AMD APP\bin\x86;C:\WINDOWS\System32\WindowsPowerShell\v1.0\;C:\Program Files (x86)\ATI Technologies\ATI.ACE\Core-Static;C:\Program Files\Microsoft Windows Performance Toolkit\;C:\Users\Billy\.dnx\bin;C:\Program Files\Microsoft DNX\Dnvm\;C:\Program Files\Microsoft SQL Server\120\Tools\Binn\;D:\Lang\Perl\c\bin;D:\Lang\Perl\perl\site\bin;D:\Lang\Perl\perl\bin;C:\WINDOWS\system32;C:\WINDOWS;C:\WINDOWS\System32\Wbem;C:\WINDOWS\System32\WindowsPowerShell\v1.0\;C:\WINDOWS\System32\OpenSSH\;C:\Program Files (x86)\GitExtensions\;C:\Program Files\dotnet\;d:\bin\MiKTeX 2.9\miktex\bin\x64\;D:\Lang\Go\bin;C:\Program Files (x86)\dotnet\;C:\Users\wscherz\.cargo\bin;d:\wscherz\perl5\bin;C:\Users\wscherz\AppData\Local\Microsoft\WindowsApps;D:\bin\Git\cmd;D:\bin\Vim\vim81;C:\Users\wscherz\go\bin;
    PERL5LIB = d:\wscherz\perl5\lib\perl5
    PERL5OPT = 
    PERL5_CPANPLUS_IS_RUNNING = 10140
    PERL5_CPAN_IS_RUNNING = 10140
    PERL_MB_OPT = --install-base=d:\\wscherz\\perl5
    PERL_MM_OPT = INSTALL_BASE=d:\\wscherz\\perl5
    PERL_USE_UNSAFE_INC = 1
    PROCESSOR_IDENTIFIER = Intel64 Family 6 Model 23 Stepping 7, GenuineIntel
    TEMP = C:\Users\wscherz\AppData\Local\Temp

Perl special variables (and OS-specific diagnostics, for MSWin32):

    $^X = D:\Lang\Perl\perl\bin\perl.exe
    $UID/$EUID = 0 / 0
    $GID = 0
    $EGID = 0
    Win32::GetOSName = Win10
    Win32::GetOSVersion = , 10, 0, 19042, 2, 0, 0, 256, 1
    Win32::FsType = NTFS
    Win32::IsAdminUser = 0

Perl module toolchain versions installed:

    Module              Have    
    ------------------- --------
    CPAN                2.28    
    CPAN::Meta          2.150010
    Cwd                 3.78    
    ExtUtils::CBuilder  0.280234
    ExtUtils::Command   7.44    
    ExtUtils::Install   2.14    
    ExtUtils::MakeMaker 7.44    
    ExtUtils::Manifest  1.72    
    ExtUtils::ParseXS   3.40    
    File::Spec          3.78    
    JSON                4.02    
    JSON::PP            4.04    
    Module::Build       0.4231  
    Module::Signature   n/a     
    Parse::CPAN::Meta   2.150010
    Test::Harness       3.42    
    Test::More          1.302171
    YAML                1.30    
    YAML::Syck          n/a     
    version             0.9924  


--

Summary of my perl5 (revision 5 version 30 subversion 1) configuration:
   
  Platform:
    osname=MSWin32
    osvers=10.0.18363.476
    archname=MSWin32-x64-multi-thread
    uname='Win32 strawberry-perl 5.30.1.1 #1 Fri Nov 22 02:24:29 2019 x64'
    config_args='undef'
    hint=recommended
    useposix=true
    d_sigaction=undef
    useithreads=define
    usemultiplicity=define
    use64bitint=define
    use64bitall=undef
    uselongdouble=undef
    usemymalloc=n
    default_inc_excludes_dot=define
    bincompat5005=undef
  Compiler:
    cc='gcc'
    ccflags =' -s -O2 -DWIN32 -DWIN64 -DCONSERVATIVE -D__USE_MINGW_ANSI_STDIO -DPERL_TEXTMODE_SCRIPTS -DPERL_IMPLICIT_CONTEXT -DPERL_IMPLICIT_SYS -DUSE_PERLIO -fwrapv -fno-strict-aliasing -mms-bitfields'
    optimize='-s -O2'
    cppflags='-DWIN32'
    ccversion=''
    gccversion='8.3.0'
    gccosandvers=''
    intsize=4
    longsize=4
    ptrsize=8
    doublesize=8
    byteorder=12345678
    doublekind=3
    d_longlong=define
    longlongsize=8
    d_longdbl=define
    longdblsize=16
    longdblkind=3
    ivtype='long long'
    ivsize=8
    nvtype='double'
    nvsize=8
    Off_t='long long'
    lseeksize=8
    alignbytes=8
    prototype=define
  Linker and Libraries:
    ld='g++'
    ldflags ='-s -L"D:\Lang\perl\perl\lib\CORE" -L"D:\Lang\perl\c\lib"'
    libpth=D:\Lang\perl\c\lib D:\Lang\perl\c\x86_64-w64-mingw32\lib D:\Lang\perl\c\lib\gcc\x86_64-w64-mingw32\8.3.0
    libs= -lmoldname -lkernel32 -luser32 -lgdi32 -lwinspool -lcomdlg32 -ladvapi32 -lshell32 -lole32 -loleaut32 -lnetapi32 -luuid -lws2_32 -lmpr -lwinmm -lversion -lodbc32 -lodbccp32 -lcomctl32
    perllibs= -lmoldname -lkernel32 -luser32 -lgdi32 -lwinspool -lcomdlg32 -ladvapi32 -lshell32 -lole32 -loleaut32 -lnetapi32 -luuid -lws2_32 -lmpr -lwinmm -lversion -lodbc32 -lodbccp32 -lcomctl32
    libc=
    so=dll
    useshrplib=true
    libperl=libperl530.a
    gnulibc_version=''
  Dynamic Linking:
    dlsrc=dl_win32.xs
    dlext=xs.dll
    d_dlsymun=undef
    ccdlflags=' '
    cccdlflags=' '
    lddlflags='-mdll -s -L"D:\Lang\perl\perl\lib\CORE" -L"D:\Lang\perl\c\lib"'


Characteristics of this binary (from libperl): 
  Compile-time options:
    HAS_TIMES
    HAVE_INTERP_INTERN
    MULTIPLICITY
    PERLIO_LAYERS
    PERL_COPY_ON_WRITE
    PERL_DONT_CREATE_GVSV
    PERL_IMPLICIT_CONTEXT
    PERL_IMPLICIT_SYS
    PERL_MALLOC_WRAP
    PERL_OP_PARENT
    PERL_PRESERVE_IVUV
    USE_64_BIT_INT
    USE_ITHREADS
    USE_LARGE_FILES
    USE_LOCALE
    USE_LOCALE_COLLATE
    USE_LOCALE_CTYPE
    USE_LOCALE_NUMERIC
    USE_LOCALE_TIME
    USE_PERLIO
    USE_PERL_ATOF
  Built under MSWin32
  Compiled at Nov 22 2019 02:30:43
  %ENV:
    PERL5LIB="d:\wscherz\perl5\lib\perl5"
    PERL5_CPANPLUS_IS_RUNNING="10140"
    PERL5_CPAN_IS_RUNNING="10140"
    PERL_MB_OPT="--install-base=d:\\wscherz\\perl5"
    PERL_MM_OPT="INSTALL_BASE=d:\\wscherz\\perl5"
    PERL_USE_UNSAFE_INC="1"
  @INC:
    d:\wscherz\perl5\lib\perl5/MSWin32-x64-multi-thread
    d:\wscherz\perl5\lib\perl5
    D:/Lang/perl/perl/site/lib
    D:/Lang/perl/perl/vendor/lib
    D:/Lang/perl/perl/lib
    .