HTML-TreeBuilder-LibXML v0.28 Perl 5 v5.24.4 x86_64-linux-ld

Status
Pass
From
Slaven Rezić
Dist
HTML-TreeBuilder-LibXML v0.28
Platform
Perl 5 v5.24.4 x86_64-linux-ld
Date
2024-09-04 14:03:02
ID
6627bf90-6ac6-11ef-beef-4c156e8775ea
This distribution has been tested as part of the CPAN Testers
project, supporting the Perl programming language.  See
http://wiki.cpantesters.org/ for more information or email
questions to cpan-testers-discuss@perl.org


--
Dear Dave Cross,

This is a computer-generated report for HTML-TreeBuilder-LibXML-0.28
on perl 5.24.4, created by CPAN-Reporter-1.2019.

Thank you for uploading your work to CPAN.  Congratulations!
All tests were successful.

Sections of this report:

    * Tester comments
    * Program output
    * Prerequisites
    * Environment and other context

------------------------------
TESTER COMMENTS
------------------------------

Additional comments from tester:

none provided

------------------------------
PROGRAM OUTPUT
------------------------------

Output from './Build test':

# soft dependencies
# HTML::TreeBuilder::XPath: 0.14
t/00_compile.t .............. ok
# HTML::TreeBuilder::XPath
# HTML::TreeBuilder::LibXML
t/01_simple.t ............... ok
t/02_web_scraper.t .......... skipped: this test requires Web::Scraper
t/03_destructor.t ........... ok
t/04_new_methods.t .......... ok
t/05_empty.t ................ ok
t/06_web_query.t ............ skipped: this test requires Web::Query
t/HTML-TreeBuilder-XPath.t .. ok
t/blanks.t .................. ok
t/clone_list.t .............. ok
t/content_list.t ............ ok
t/delete_content.t .......... ok
t/detach.t .................. ok
t/disembowel.t .............. ok
t/guts.t .................... ok
t/issue-12.t ................ ok
t/matches.t ................. ok
t/parent.t .................. ok
t/postinsert.t .............. ok
t/preinsert.t ............... ok
t/push_content.t ............ ok
t/replace_with.t ............ ok
t/unshift_content.t ......... ok
All tests successful.

Test Summary Report
-------------------
t/HTML-TreeBuilder-XPath.t (Wstat: 0 Tests: 31 Failed: 0)
  TODO passed:   10-13
Files=23, Tests=162,  2 wallclock secs ( 0.06 usr  0.03 sys +  1.27 cusr  0.41 csys =  1.77 CPU)
Result: PASS

------------------------------
PREREQUISITES
------------------------------

Prerequisite modules loaded:

requires:

    Module                   Need     Have    
    ------------------------ -------- --------
    HTML::TreeBuilder::XPath 0.14     0.14    
    LWP::UserAgent           6        6.77    
    perl                     5.008001 5.024004
    URI                      0        5.28    
    XML::LibXML              1.7      2.0210  

build_requires:

    Module                   Need     Have    
    ------------------------ -------- --------
    Test::Exception          0        0.43    
    Test::More               0.98     1.302200

configure_requires:

    Module                   Need     Have    
    ------------------------ -------- --------
    Module::Build::Tiny      0.035    0.048   


------------------------------
ENVIRONMENT AND OTHER CONTEXT
------------------------------

Environment variables:

    LANG = en_US.UTF-8
    PATH = /usr/local/bin:/usr/bin:/bin:/usr/local/sbin:/usr/sbin:/sbin:/home/cpansand/bin/linux-gnu:/home/cpansand/bin/sh:/home/cpansand/bin:/usr/games:/home/cpansand/devel:/home/eserte/src/srezic-misc/scripts
    PERL5LIB = /home/cpansand/.cpan/build/2024090412/HTML-TreeBuilder-XPath-0.14-2/blib/arch:/home/cpansand/.cpan/build/2024090412/HTML-TreeBuilder-XPath-0.14-2/blib/lib:/home/cpansand/.cpan/build/2024090412/XML-XPathEngine-0.14-2/blib/arch:/home/cpansand/.cpan/build/2024090412/XML-XPathEngine-0.14-2/blib/lib:/home/cpansand/.cpan/build/2024090412/Future-HTTP-0.17-3/blib/arch:/home/cpansand/.cpan/build/2024090412/Future-HTTP-0.17-3/blib/lib:/home/cpansand/.cpan/build/2024090412/Test-HTTP-LocalServer-0.76-3/blib/arch:/home/cpansand/.cpan/build/2024090412/Test-HTTP-LocalServer-0.76-3/blib/lib:/home/cpansand/.cpan/build/2024090412/HTTP-Request-AsCGI-1.2-3/blib/arch:/home/cpansand/.cpan/build/2024090412/HTTP-Request-AsCGI-1.2-3/blib/lib:/home/cpansand/.cpan/build/2024090412/AnyEvent-HTTP-2.25-3/blib/arch:/home/cpansand/.cpan/build/2024090412/AnyEvent-HTTP-2.25-3/blib/lib:/home/cpansand/.cpan/build/2024090412/AnyEvent-Future-0.05-3/blib/arch:/home/cpansand/.cpan/build/2024090412/AnyEvent-Future-0.05-3/blib/lib
    PERL5OPT = 
    PERL5_CPANPLUS_IS_RUNNING = 3743600
    PERL5_CPAN_IS_RUNNING = 3743600
    PERL5_CPAN_IS_RUNNING_IN_RECURSION = 3732766,3743600
    PERLDOC = -MPod::Perldoc::ToTextOverstrike
    PERL_BATCH = yes
    PERL_CANARY_STABILITY_NOPROMPT = 1
    PERL_CPAN_REPORTER_CONFIG = /var/tmp/cpansmoker-1023/2024090412/cpanreporter_000_config.ini
    PERL_EXTUTILS_AUTOINSTALL = --defaultdeps
    PERL_USE_UNSAFE_INC = 1
    SHELL = /usr/bin/zsh
    TERM = screen
    TMPDIR = /var/tmp/cpansmoker-1023/2024090412

Perl special variables (and OS-specific diagnostics, for MSWin32):

    $^X = /opt/perl-5.24.4D/bin/perl
    $UID/$EUID = 1023 / 1023
    $GID = 1023 1023
    $EGID = 1023 1023

Perl module toolchain versions installed:

    Module              Have    
    ------------------- --------
    CPAN                2.37    
    CPAN::Meta          2.150010
    Cwd                 3.75    
    ExtUtils::CBuilder  0.280236
    ExtUtils::Command   7.70    
    ExtUtils::Install   2.06    
    ExtUtils::MakeMaker 7.70    
    ExtUtils::Manifest  1.70    
    ExtUtils::ParseXS   3.31    
    File::Spec          3.75    
    JSON                4.10    
    JSON::PP            4.16    
    Module::Build       0.4234  
    Module::Signature   n/a     
    Parse::CPAN::Meta   2.150010
    Test2               1.302200
    Test::Harness       3.36_01 
    Test::More          1.302200
    YAML                1.31    
    YAML::Syck          1.34    
    version             0.9916  


--

Summary of my perl5 (revision 5 version 24 subversion 4) configuration:
   
  Platform:
    osname=linux, osvers=5.14.0-427.24.1.el9_4.x86_64, archname=x86_64-linux-ld
    uname='linux rockylinux9-2gb-ash-1-cloud3.cloud 5.14.0-427.24.1.el9_4.x86_64 #1 smp preempt_dynamic mon jul 8 17:47:19 utc 2024 x86_64 x86_64 x86_64 gnulinux '
    config_args='-ds -e -Dprefix=/opt/perl-5.24.4D -Uinstallusrbinperl -Duselongdouble -Dcf_email=srezic@cpan.org'
    hint=recommended, useposix=true, d_sigaction=define
    useithreads=undef, usemultiplicity=undef
    use64bitint=define, use64bitall=define, uselongdouble=define
    usemymalloc=n, bincompat5005=undef
  Compiler:
    cc='cc', ccflags ='-fwrapv -fno-strict-aliasing -pipe -fstack-protector-strong -I/usr/local/include -D_LARGEFILE_SOURCE -D_FILE_OFFSET_BITS=64 -D_FORTIFY_SOURCE=2',
    optimize='-O2',
    cppflags='-fwrapv -fno-strict-aliasing -pipe -fstack-protector-strong -I/usr/local/include'
    ccversion='', gccversion='11.4.1 20231218 (Red Hat 11.4.1-3)', gccosandvers=''
    intsize=4, longsize=8, ptrsize=8, doublesize=8, byteorder=12345678, doublekind=3
    d_longlong=define, longlongsize=8, d_longdbl=define, longdblsize=16, longdblkind=3
    ivtype='long', ivsize=8, nvtype='long double', nvsize=16, Off_t='off_t', lseeksize=8
    alignbytes=16, prototype=define
  Linker and Libraries:
    ld='cc', ldflags =' -fstack-protector-strong -L/usr/local/lib'
    libpth=/usr/local/lib /usr/lib /lib/../lib64 /usr/lib/../lib64 /lib /lib64 /usr/lib64 /usr/local/lib64
    libs=-lpthread -ldb -ldl -lm -lcrypt -lutil -lc
    perllibs=-lpthread -ldl -lm -lcrypt -lutil -lc
    libc=/lib/../lib64/libc.so.6, so=so, useshrplib=false, libperl=libperl.a
    gnulibc_version='2.34'
  Dynamic Linking:
    dlsrc=dl_dlopen.xs, dlext=so, d_dlsymun=undef, ccdlflags='-Wl,-E'
    cccdlflags='-fPIC', lddlflags='-shared -O2 -L/usr/local/lib -fstack-protector-strong'


Characteristics of this binary (from libperl): 
  Compile-time options: HAS_TIMES PERLIO_LAYERS PERL_COPY_ON_WRITE
                        PERL_DONT_CREATE_GVSV
                        PERL_HASH_FUNC_ONE_AT_A_TIME_HARD PERL_MALLOC_WRAP
                        PERL_PRESERVE_IVUV USE_64_BIT_ALL USE_64_BIT_INT
                        USE_LARGE_FILES USE_LOCALE USE_LOCALE_COLLATE
                        USE_LOCALE_CTYPE USE_LOCALE_NUMERIC USE_LOCALE_TIME
                        USE_LONG_DOUBLE USE_PERLIO USE_PERL_ATOF
  Locally applied patches:
	Devel::PatchPerl 2.08
  Built under linux
  Compiled at Jul 19 2024 20:19:54
  %ENV:
    PERL5LIB="/home/cpansand/.cpan/build/2024090412/HTML-TreeBuilder-XPath-0.14-2/blib/arch:/home/cpansand/.cpan/build/2024090412/HTML-TreeBuilder-XPath-0.14-2/blib/lib:/home/cpansand/.cpan/build/2024090412/XML-XPathEngine-0.14-2/blib/arch:/home/cpansand/.cpan/build/2024090412/XML-XPathEngine-0.14-2/blib/lib:/home/cpansand/.cpan/build/2024090412/Future-HTTP-0.17-3/blib/arch:/home/cpansand/.cpan/build/2024090412/Future-HTTP-0.17-3/blib/lib:/home/cpansand/.cpan/build/2024090412/Test-HTTP-LocalServer-0.76-3/blib/arch:/home/cpansand/.cpan/build/2024090412/Test-HTTP-LocalServer-0.76-3/blib/lib:/home/cpansand/.cpan/build/2024090412/HTTP-Request-AsCGI-1.2-3/blib/arch:/home/cpansand/.cpan/build/2024090412/HTTP-Request-AsCGI-1.2-3/blib/lib:/home/cpansand/.cpan/build/2024090412/AnyEvent-HTTP-2.25-3/blib/arch:/home/cpansand/.cpan/build/2024090412/AnyEvent-HTTP-2.25-3/blib/lib:/home/cpansand/.cpan/build/2024090412/AnyEvent-Future-0.05-3/blib/arch:/home/cpansand/.cpan/build/2024090412/AnyEvent-Future-0.05-3/blib/lib"
    PERL5OPT=""
    PERL5_CPANPLUS_IS_RUNNING="3743600"
    PERL5_CPAN_IS_RUNNING="3743600"
    PERL5_CPAN_IS_RUNNING_IN_RECURSION="3732766,3743600"
    PERLDOC="-MPod::Perldoc::ToTextOverstrike"
    PERL_BATCH="yes"
    PERL_CANARY_STABILITY_NOPROMPT="1"
    PERL_CPAN_REPORTER_CONFIG="/var/tmp/cpansmoker-1023/2024090412/cpanreporter_000_config.ini"
    PERL_EXTUTILS_AUTOINSTALL="--defaultdeps"
    PERL_USE_UNSAFE_INC="1"
  @INC:
    /home/cpansand/.cpan/build/2024090412/HTML-TreeBuilder-XPath-0.14-2/blib/arch
    /home/cpansand/.cpan/build/2024090412/HTML-TreeBuilder-XPath-0.14-2/blib/lib
    /home/cpansand/.cpan/build/2024090412/XML-XPathEngine-0.14-2/blib/arch
    /home/cpansand/.cpan/build/2024090412/XML-XPathEngine-0.14-2/blib/lib
    /home/cpansand/.cpan/build/2024090412/Future-HTTP-0.17-3/blib/arch
    /home/cpansand/.cpan/build/2024090412/Future-HTTP-0.17-3/blib/lib
    /home/cpansand/.cpan/build/2024090412/Test-HTTP-LocalServer-0.76-3/blib/arch
    /home/cpansand/.cpan/build/2024090412/Test-HTTP-LocalServer-0.76-3/blib/lib
    /home/cpansand/.cpan/build/2024090412/HTTP-Request-AsCGI-1.2-3/blib/arch
    /home/cpansand/.cpan/build/2024090412/HTTP-Request-AsCGI-1.2-3/blib/lib
    /home/cpansand/.cpan/build/2024090412/AnyEvent-HTTP-2.25-3/blib/arch
    /home/cpansand/.cpan/build/2024090412/AnyEvent-HTTP-2.25-3/blib/lib
    /home/cpansand/.cpan/build/2024090412/AnyEvent-Future-0.05-3/blib/arch
    /home/cpansand/.cpan/build/2024090412/AnyEvent-Future-0.05-3/blib/lib
    /opt/perl-5.24.4D/lib/site_perl/5.24.4/x86_64-linux-ld
    /opt/perl-5.24.4D/lib/site_perl/5.24.4
    /opt/perl-5.24.4D/lib/5.24.4/x86_64-linux-ld
    /opt/perl-5.24.4D/lib/5.24.4
    .