Perl6-Say v0.16 Perl 5 v5.10.1 i386-freebsd-thread-multi-64int

Status
Pass
From
Chris Williams (BINGOS)
Dist
Perl6-Say v0.16
Platform
Perl 5 v5.10.1 i386-freebsd-thread-multi-64int
Date
2010-07-18 03:27:31
ID
66446c22-921c-11df-9ebc-c4a68065c34d
This distribution has been tested as part of the CPAN Testers
project, supporting the Perl programming language.  See
http://wiki.cpantesters.org/ for more information or email
questions to cpan-testers-discuss@perl.org


--

Dear CHORNY,
    
This is a computer-generated error report created automatically by
CPANPLUS, version 0.9007. Testers personal comments may appear 
at the end of this report.

MAKE TEST passed:
t/01_stdout-mod.t .... ok
t/01_stdout.t ........ ok
t/02_file.t .......... ok
t/03_list.t .......... ok
t/04_file_list.t ..... ok
t/05_scalar_ref.t .... ok
t/06_io.t ............ ok
t/07_select.t ........ ok
t/08_iohandle_say.t .. ok
t/09_ors.t ........... ok
All tests successful.
Files=10, Tests=171,  4 wallclock secs ( 0.08 usr  0.44 sys +  0.83 cusr  1.77 csys =  3.12 CPU)
Result: PASS

[MSG] [Sun Jul 18 04:27:31 2010] Sending test report for 'Perl6-Say-0.16'

This report was machine-generated by CPANPLUS::Dist::YACSmoke 0.58.
Powered by minismokebox version 0.26

------------------------------
ENVIRONMENT AND OTHER CONTEXT
------------------------------

Environment variables:

    AUTOMATED_TESTING = 1
    PATH = /sbin:/bin:/usr/sbin:/usr/bin:/usr/games:/usr/local/sbin:/usr/local/bin:/usr/X11R6/bin:/home/cpan/bin
    PERL5LIB = :/usr/home/cpan/pit/rel/conf/perl-5.10.1/.cpanplus/5.10.1/build/Perl6-Say-0.16/blib/lib:/usr/home/cpan/pit/rel/conf/perl-5.10.1/.cpanplus/5.10.1/build/Perl6-Say-0.16/blib/arch
    PERL5_CPANPLUS_IS_RUNNING = 25092
    PERL5_CPANPLUS_IS_VERSION = 0.9007
    PERL5_MINISMOKEBOX = 0.26
    PERL5_YACSMOKE_BASE = /usr/home/cpan/pit/rel/conf/perl-5.10.1
    PERL_EXTUTILS_AUTOINSTALL = --defaultdeps
    PERL_MM_USE_DEFAULT = 1
    SHELL = /usr/local/bin/bash
    TERM = screen

Perl special variables (and OS-specific diagnostics, for MSWin32):

    Perl: $^X = /usr/home/cpan/pit/rel/perl-5.10.1/bin/perl
    UID:  $<  = 1001
    EUID: $>  = 1001
    GID:  $(  = 1001 1001 1001
    EGID: $)  = 1001 1001 1001


-------------------------------


--

Summary of my perl5 (revision 5 version 10 subversion 1) configuration:
   
  Platform:
    osname=freebsd, osvers=6.4-release, archname=i386-freebsd-thread-multi-64int
    uname='freebsd diafol-rhyddha64.bingosnet.co.uk 6.4-release freebsd 6.4-release #0: wed nov 26 11:43:51 utc 2008 root@dessler.cse.buffalo.edu:usrobjusrsrcsysgeneric i386 '
    config_args='-de -Dprefix=/usr/home/cpan/pit/rel/perl-5.10.1 -Dusethreads -Duse64bitint'
    hint=recommended, useposix=true, d_sigaction=define
    useithreads=define, usemultiplicity=define
    useperlio=define, d_sfio=undef, uselargefiles=define, usesocks=undef
    use64bitint=define, use64bitall=undef, uselongdouble=undef
    usemymalloc=n, bincompat5005=undef
  Compiler:
    cc='cc', ccflags ='-DHAS_FPSETMASK -DHAS_FLOATINGPOINT_H -fno-strict-aliasing -pipe -I/usr/local/include',
    optimize='-O',
    cppflags='-DHAS_FPSETMASK -DHAS_FLOATINGPOINT_H -fno-strict-aliasing -pipe -I/usr/local/include'
    ccversion='', gccversion='3.4.6 [FreeBSD] 20060305', gccosandvers=''
    intsize=4, longsize=4, ptrsize=4, doublesize=8, byteorder=12345678
    d_longlong=define, longlongsize=8, d_longdbl=define, longdblsize=12
    ivtype='long long', ivsize=8, nvtype='double', nvsize=8, Off_t='off_t', lseeksize=8
    alignbytes=4, prototype=define
  Linker and Libraries:
    ld='cc', ldflags ='-pthread -Wl,-E  -L/usr/local/lib'
    libpth=/usr/lib /usr/local/lib
    libs=-lm -lcrypt
    perllibs=-lm -lcrypt
    libc=, so=so, useshrplib=false, libperl=libperl.a
    gnulibc_version=''
  Dynamic Linking:
    dlsrc=dl_dlopen.xs, dlext=so, d_dlsymun=undef, ccdlflags=' '
    cccdlflags='-DPIC -fPIC', lddlflags='-shared  -L/usr/local/lib'


Characteristics of this binary (from libperl): 
  Compile-time options: MULTIPLICITY PERL_DONT_CREATE_GVSV
                        PERL_IMPLICIT_CONTEXT PERL_MALLOC_WRAP USE_64_BIT_INT
                        USE_ITHREADS USE_LARGE_FILES USE_PERLIO
                        USE_REENTRANT_API
  Built under freebsd
  Compiled at Nov  1 2009 17:29:49
  %ENV:
    PERL5LIB=":/usr/home/cpan/pit/rel/conf/perl-5.10.1/.cpanplus/5.10.1/build/Perl6-Say-0.16/blib/lib:/usr/home/cpan/pit/rel/conf/perl-5.10.1/.cpanplus/5.10.1/build/Perl6-Say-0.16/blib/arch"
    PERL5_CPANPLUS_IS_RUNNING="25092"
    PERL5_CPANPLUS_IS_VERSION="0.9007"
    PERL5_MINISMOKEBOX="0.26"
    PERL5_YACSMOKE_BASE="/usr/home/cpan/pit/rel/conf/perl-5.10.1"
    PERL_EXTUTILS_AUTOINSTALL="--defaultdeps"
    PERL_MM_USE_DEFAULT="1"
  @INC:
    /usr/home/cpan/pit/rel/conf/perl-5.10.1/.cpanplus/5.10.1/build/Perl6-Say-0.16/blib/lib
    /usr/home/cpan/pit/rel/conf/perl-5.10.1/.cpanplus/5.10.1/build/Perl6-Say-0.16/blib/arch
    /usr/home/cpan/pit/rel/perl-5.10.1/lib/5.10.1/i386-freebsd-thread-multi-64int
    /usr/home/cpan/pit/rel/perl-5.10.1/lib/5.10.1
    /usr/home/cpan/pit/rel/perl-5.10.1/lib/site_perl/5.10.1/i386-freebsd-thread-multi-64int
    /usr/home/cpan/pit/rel/perl-5.10.1/lib/site_perl/5.10.1
    .