Dist-Zilla-Plugin-SpellingCommonMistakesTests v1.001000 Perl 5 v5.22.4 x86_64-linux
- Status
- Pass
- From
- Slaven Rezić (SREZIC)
- Dist
-
Dist-Zilla-Plugin-SpellingCommonMistakesTests v1.001000
- Platform
- Perl 5 v5.22.4 x86_64-linux
- Date
- 2019-01-01 16:29:24
- ID
- 664ebae2-0de2-11e9-b771-f14e03d56d9d
This distribution has been tested as part of the CPAN Testers
project, supporting the Perl programming language. See
http://wiki.cpantesters.org/ for more information or email
questions to cpan-testers-discuss@perl.org
--
Dear Adam Lesperance,
This is a computer-generated report for Dist-Zilla-Plugin-SpellingCommonMistakesTests-1.001000
on perl 5.22.4, created by CPAN-Reporter-1.2018.
Thank you for uploading your work to CPAN. Congratulations!
All tests were successful.
Sections of this report:
* Tester comments
* Program output
* Prerequisites
* Environment and other context
------------------------------
TESTER COMMENTS
------------------------------
Additional comments from tester:
none provided
------------------------------
PROGRAM OUTPUT
------------------------------
Output from './Build test':
t/00-compile.t .................. ok
#
#
# perl: v5.22.4 (wanted 5.008) on linux from /opt/perl-5.22.4/bin/perl
#
# Dist::Zilla::Plugin::Bootstrap::lib => 1.001002 (want any version)
# Dist::Zilla::Plugin::InlineFiles => 6.012 (want any version)
# English => 1.09 (want any version)
# File::Find => 1.29 (want any version)
# File::Temp => 0.2308 (want any version)
# Module::Build => 0.4224 (want 0.3601)
# Moose => 2.2011 (want any version)
# Pod::Spell::CommonMistakes => 1.002 (want any version)
# Test::More => 1.302140 (want 0.88)
# Test::Pod::Spelling::CommonMistakes => 1.001 (want any version)
# utf8 => 1.17 (want any version)
#
# Thanks for using my code. I hope it works for you.
# If not, please try and include this output in the bug report.
# That will help me reproduce the issue and solve you problem.
#
t/000-report-versions-tiny.t .... ok
t/author-critic.t ............... skipped: these tests are for testing by the author
t/release-common_spelling.t ..... skipped: these tests are for release candidate testing
t/release-consistent-version.t .. skipped: these tests are for release candidate testing
t/release-cpan-changes.t ........ skipped: these tests are for release candidate testing
t/release-dist-manifest.t ....... skipped: these tests are for release candidate testing
t/release-distmeta.t ............ skipped: these tests are for release candidate testing
t/release-eol.t ................. skipped: these tests are for release candidate testing
t/release-has-version.t ......... skipped: these tests are for release candidate testing
t/release-kwalitee.t ............ skipped: these tests are for release candidate testing
t/release-minimum-version.t ..... skipped: these tests are for release candidate testing
t/release-no-tabs.t ............. skipped: these tests are for release candidate testing
t/release-pod-coverage.t ........ skipped: these tests are for release candidate testing
t/release-pod-syntax.t .......... skipped: these tests are for release candidate testing
t/release-portability.t ......... skipped: these tests are for release candidate testing
t/release-unused-vars.t ......... skipped: these tests are for release candidate testing
All tests successful.
Files=17, Tests=2, 1 wallclock secs ( 0.04 usr 0.09 sys + 1.01 cusr 0.22 csys = 1.36 CPU)
Result: PASS
------------------------------
PREREQUISITES
------------------------------
Prerequisite modules loaded:
requires:
Module Need Have
----------------------------------- ------ --------
Dist::Zilla::Plugin::InlineFiles 0 6.012
Moose 0 2.2011
perl 5.008 5.022004
Pod::Spell::CommonMistakes 0 1.002
Test::Pod::Spelling::CommonMistakes 0 1.001
utf8 0 1.17
build_requires:
Module Need Have
----------------------------------- ------ --------
Dist::Zilla::Plugin::Bootstrap::lib 0 1.001002
English 0 1.09
File::Find 0 1.29
File::Temp 0 0.2308
Module::Build 0.3601 0.4224
Test::More 0.88 1.302140
configure_requires:
Module Need Have
----------------------------------- ------ --------
Module::Build 0.3601 0.4224
------------------------------
ENVIRONMENT AND OTHER CONTEXT
------------------------------
Environment variables:
LANG = C
PATH = /usr/local/bin:/usr/bin:/bin:/usr/local/sbin:/usr/sbin:/sbin:/home/cpansand/bin/linux-gnu:/home/cpansand/bin/sh:/home/cpansand/bin:/usr/games:/home/cpansand/devel:/home/eserte/src/srezic-misc/scripts
PERL5LIB = /home/cpansand/.cpan/build/2019010116/Test-Pod-Spelling-CommonMistakes-1.001-2/blib/arch:/home/cpansand/.cpan/build/2019010116/Test-Pod-Spelling-CommonMistakes-1.001-2/blib/lib:/home/cpansand/.cpan/build/2019010116/Dist-Zilla-Plugin-PodInherit-0.007-2/blib/arch:/home/cpansand/.cpan/build/2019010116/Dist-Zilla-Plugin-PodInherit-0.007-2/blib/lib:/home/cpansand/.cpan/build/2019010116/Pod-Inherit-0.91-2/blib/arch:/home/cpansand/.cpan/build/2019010116/Pod-Inherit-0.91-2/blib/lib
PERL5OPT =
PERL5_CPANPLUS_IS_RUNNING = 19322
PERL5_CPAN_IS_RUNNING = 19322
PERL5_CPAN_IS_RUNNING_IN_RECURSION = 17156,19322
PERLDOC = -MPod::Perldoc::ToTextOverstrike
PERL_BATCH = yes
PERL_CANARY_STABILITY_NOPROMPT = 1
PERL_CPAN_REPORTER_CONFIG = /var/tmp/cpansmoker-1023/2019010116/cpanreporter_000_config.ini
PERL_EXTUTILS_AUTOINSTALL = --defaultdeps
PERL_USE_UNSAFE_INC = 1
SHELL = /usr/bin/zsh
TERM = screen
TMPDIR = /var/tmp/cpansmoker-1023/2019010116
Perl special variables (and OS-specific diagnostics, for MSWin32):
$^X = /opt/perl-5.22.4/bin/perl
$UID/$EUID = 1023 / 1023
$GID = 1023 1023
$EGID = 1023 1023
Perl module toolchain versions installed:
Module Have
------------------- --------
CPAN 2.16
CPAN::Meta 2.150010
Cwd 3.75
ExtUtils::CBuilder 0.280230
ExtUtils::Command 7.34
ExtUtils::Install 2.14
ExtUtils::MakeMaker 7.34
ExtUtils::Manifest 1.70
ExtUtils::ParseXS 3.35
File::Spec 3.75
JSON 4.00
JSON::PP 2.97001
Module::Build 0.4224
Module::Signature 0.83
Parse::CPAN::Meta 2.150010
Test::Harness 3.42
Test::More 1.302140
YAML 1.26
YAML::Syck 1.30
version 0.9923
--
Summary of my perl5 (revision 5 version 22 subversion 4) configuration:
Platform:
osname=linux, osvers=4.9.0-3-amd64, archname=x86_64-linux
uname='linux debian9 4.9.0-3-amd64 #1 smp debian 4.9.30-2+deb9u2 (2017-06-26) x86_64 gnulinux '
config_args='-ds -e -Dprefix=/opt/perl-5.22.4 -Dcf_email=srezic@cpan.org'
hint=recommended, useposix=true, d_sigaction=define
useithreads=undef, usemultiplicity=undef
use64bitint=define, use64bitall=define, uselongdouble=undef
usemymalloc=n, bincompat5005=undef
Compiler:
cc='cc', ccflags ='-fwrapv -fno-strict-aliasing -pipe -fstack-protector-strong -I/usr/local/include -D_LARGEFILE_SOURCE -D_FILE_OFFSET_BITS=64',
optimize='-O2',
cppflags='-fwrapv -fno-strict-aliasing -pipe -fstack-protector-strong -I/usr/local/include'
ccversion='', gccversion='6.3.0 20170516', gccosandvers=''
intsize=4, longsize=8, ptrsize=8, doublesize=8, byteorder=12345678, doublekind=3
d_longlong=define, longlongsize=8, d_longdbl=define, longdblsize=16, longdblkind=3
ivtype='long', ivsize=8, nvtype='double', nvsize=8, Off_t='off_t', lseeksize=8
alignbytes=8, prototype=define
Linker and Libraries:
ld='cc', ldflags =' -fstack-protector-strong -L/usr/local/lib'
libpth=/usr/local/lib /usr/lib/gcc/x86_64-linux-gnu/6/include-fixed /usr/include/x86_64-linux-gnu /usr/lib /lib/x86_64-linux-gnu /lib/../lib /usr/lib/x86_64-linux-gnu /usr/lib/../lib /lib
libs=-lpthread -lnsl -lgdbm -ldb -ldl -lm -lcrypt -lutil -lc -lgdbm_compat
perllibs=-lpthread -lnsl -ldl -lm -lcrypt -lutil -lc
libc=libc-2.24.so, so=so, useshrplib=false, libperl=libperl.a
gnulibc_version='2.24'
Dynamic Linking:
dlsrc=dl_dlopen.xs, dlext=so, d_dlsymun=undef, ccdlflags='-Wl,-E'
cccdlflags='-fPIC', lddlflags='-shared -O2 -L/usr/local/lib -fstack-protector-strong'
Characteristics of this binary (from libperl):
Compile-time options: HAS_TIMES PERLIO_LAYERS PERL_DONT_CREATE_GVSV
PERL_HASH_FUNC_ONE_AT_A_TIME_HARD PERL_MALLOC_WRAP
PERL_NEW_COPY_ON_WRITE PERL_PRESERVE_IVUV
USE_64_BIT_ALL USE_64_BIT_INT USE_LARGE_FILES
USE_LOCALE USE_LOCALE_COLLATE USE_LOCALE_CTYPE
USE_LOCALE_NUMERIC USE_LOCALE_TIME USE_PERLIO
USE_PERL_ATOF
Locally applied patches:
Devel::PatchPerl 1.48
Built under linux
Compiled at Jul 16 2017 05:24:52
%ENV:
PERL5LIB="/home/cpansand/.cpan/build/2019010116/Test-Pod-Spelling-CommonMistakes-1.001-2/blib/arch:/home/cpansand/.cpan/build/2019010116/Test-Pod-Spelling-CommonMistakes-1.001-2/blib/lib:/home/cpansand/.cpan/build/2019010116/Dist-Zilla-Plugin-PodInherit-0.007-2/blib/arch:/home/cpansand/.cpan/build/2019010116/Dist-Zilla-Plugin-PodInherit-0.007-2/blib/lib:/home/cpansand/.cpan/build/2019010116/Pod-Inherit-0.91-2/blib/arch:/home/cpansand/.cpan/build/2019010116/Pod-Inherit-0.91-2/blib/lib"
PERL5OPT=""
PERL5_CPANPLUS_IS_RUNNING="19322"
PERL5_CPAN_IS_RUNNING="19322"
PERL5_CPAN_IS_RUNNING_IN_RECURSION="17156,19322"
PERLDOC="-MPod::Perldoc::ToTextOverstrike"
PERL_BATCH="yes"
PERL_CANARY_STABILITY_NOPROMPT="1"
PERL_CPAN_REPORTER_CONFIG="/var/tmp/cpansmoker-1023/2019010116/cpanreporter_000_config.ini"
PERL_EXTUTILS_AUTOINSTALL="--defaultdeps"
PERL_USE_UNSAFE_INC="1"
@INC:
/home/cpansand/.cpan/build/2019010116/Test-Pod-Spelling-CommonMistakes-1.001-2/blib/arch
/home/cpansand/.cpan/build/2019010116/Test-Pod-Spelling-CommonMistakes-1.001-2/blib/lib
/home/cpansand/.cpan/build/2019010116/Dist-Zilla-Plugin-PodInherit-0.007-2/blib/arch
/home/cpansand/.cpan/build/2019010116/Dist-Zilla-Plugin-PodInherit-0.007-2/blib/lib
/home/cpansand/.cpan/build/2019010116/Pod-Inherit-0.91-2/blib/arch
/home/cpansand/.cpan/build/2019010116/Pod-Inherit-0.91-2/blib/lib
/opt/perl-5.22.4/lib/site_perl/5.22.4/x86_64-linux
/opt/perl-5.22.4/lib/site_perl/5.22.4
/opt/perl-5.22.4/lib/5.22.4/x86_64-linux
/opt/perl-5.22.4/lib/5.22.4
.