SOAP-Lite v1.27 Perl 5 v5.8.6 x86_64-linux
- Status
- Pass
- From
- Andreas J. König (ANDK)
- Dist
-
SOAP-Lite v1.27
- Platform
- Perl 5 v5.8.6 x86_64-linux
- Date
- 2018-12-11 09:51:58
- ID
- 664fc2d4-fd2a-11e8-a08f-611e47d70b67
This distribution has been tested as part of the CPAN Testers
project, supporting the Perl programming language. See
http://wiki.cpantesters.org/ for more information or email
questions to cpan-testers-discuss@perl.org
--
Dear Fred Moyer,
This is a computer-generated report for SOAP-Lite-1.27
on perl 5.8.6, created by CPAN-Reporter-1.2018.
Thank you for uploading your work to CPAN. Congratulations!
All tests were successful.
Sections of this report:
* Tester comments
* Program output
* Prerequisites
* Environment and other context
------------------------------
TESTER COMMENTS
------------------------------
Additional comments from tester:
this report is from an automated smoke testing program
and was not reviewed by a human for accuracy
------------------------------
PROGRAM OUTPUT
------------------------------
Output from '/usr/bin/make test':
PERL_DL_NONLAZY=1 "/home/sand/src/perl/repoperls/installed-perls/host/k93msid/perl-5.8.6/6fdb/bin/perl" "-MExtUtils::Command::MM" "-MTest::Harness" "-e" "undef *Test::Harness::Switches; test_harness(0, 'blib/lib', 'blib/arch')" t/*.t t/Issues/*.t t/SOAP/*.t t/SOAP/Lite/*.t t/SOAP/Lite/Deserializer/*.t t/SOAP/Schema/*.t t/SOAP/Transport/*.t t/SOAP/Transport/HTTP/*.t
t/01-core.t .................................. ok
t/010-serializer.t ........................... ok
t/012-cloneable.t ............................ ok
t/013-array-deserialization.t ................ ok
t/014_UNIVERSAL_use.t ........................ ok
t/015_UNIVERSAL_can.t ........................ ok
t/02-payload.t ............................... ok
t/03-server.t ................................ ok
t/04-attach-cid-encoded.t .................... skipped: Could not find MIME::Parser - is MIME::Tools installed? Aborting.
t/04-attach.t ................................ skipped: Could not find MIME::Parser - is MIME::Tools installed? Aborting.
t/05-customxml.t ............................. ok
Subroutine XML::Parser::Lite::_parse_re redefined at /tmp/loop_over_bdir-12160-jBZdGo/XML-Parser-Lite-0.722-0/blib/lib/XML/Parser/Lite.pm line 144.
t/06-modules.t ............................... ok
t/08-schema.t ................................ ok
t/11-cgi.t ................................... skipped: 500 Can't connect to localhost:80 (Connection refused)
t/12-cgi_https.t ............................. skipped: 501 Protocol scheme 'https' is not supported (LWP::Protocol::https not installed)
t/13-mod_perl.t .............................. skipped: 500 Can't connect to localhost:80 (Connection refused)
t/14-cgi_apache.t ............................ skipped: 500 Can't connect to localhost:80 (Connection refused)
t/15-daemon.t ................................ skipped: 500 Can't connect to localhost:80 (Connection refused)
t/17-mod_soap.t .............................. skipped: 500 Can't connect to localhost:80 (Connection refused)
t/19-apachesoap.t ............................ skipped: 500 Can't connect to localhost:8080 (Connection refused)
t/21-public.t ................................ skipped: 500 Can't connect to services.xmethods.net:80 (Name or service not known)
t/22-interop_apache.t ........................ skipped: 500 Can't connect to nagoya.apache.org:5049 (Name or service not known)
t/23-ppm.t ................................... skipped: ActiveState's ppmserver.pl server seems to be broken - skipping tests
t/24-wsdl.t .................................. skipped: 500 Can't connect to services.xmethods.net:80 (Name or service not known)
t/36-leaks.t ................................. skipped: 500 Can't connect to services.soaplite.com:80 (Temporary failure in name resolution)
t/38-packager.t .............................. skipped: MIME::Parser not installed
t/40-loopback.t .............................. ok
t/author-pod-syntax.t ........................ skipped: these tests are for testing by the author
t/Issues/rt107924.t .......................... ok
t/Issues/rt15176.t ........................... ok
Subroutine XML::Parser::Lite::_parse_re redefined at /tmp/loop_over_bdir-12160-jBZdGo/XML-Parser-Lite-0.722-0/blib/lib/XML/Parser/Lite.pm line 144.
t/Issues/rt53375.t ........................... ok
t/Issues/rt70329.t ........................... ok
t/Issues/rt70381.t ........................... skipped: This is a performance test. Set PROFILE_PERFORMANCE env var to a true value to run
t/Issues/rt72836.t ........................... skipped: Cannot test without Test::XML
t/Issues/rt74029.t ........................... skipped: not fixed yet
t/Issues/rt74308.t ........................... ok
t/Issues/rt75169.t ........................... ok
t/Issues/rt78588.t ........................... ok
t/Issues/rt88915.t ........................... ok
t/release-kwalitee.t ......................... skipped: these tests are for release candidate testing
t/SOAP/Data.t ................................ ok
t/SOAP/Lite/Deserializer/XMLSchema1999.t ..... ok
t/SOAP/Lite/Deserializer/XMLSchema2001.t ..... ok
t/SOAP/Lite/Deserializer/XMLSchemaSOAP1_1.t .. ok
t/SOAP/Lite/Deserializer/XMLSchemaSOAP1_2.t .. ok
t/SOAP/Lite/Packager.t ....................... ok
t/SOAP/Schema/WSDL.t ......................... ok
t/SOAP/Serializer.t .......................... ok
t/SOAP/Transport/HTTP.t ...................... ok
t/SOAP/Transport/HTTP/CGI.t .................. ok
t/SOAP/Transport/IO.t ........................ ok
t/SOAP/Transport/LOCAL.t ..................... ok
t/SOAP/Transport/LOOPBACK.t .................. ok
t/SOAP/Transport/MAILTO.t .................... skipped: Cannot test without Test::MockObject
t/SOAP/Transport/POP3.t ...................... ok
Use of uninitialized value in length at /tmp/loop_over_bdir-12160-jBZdGo/SOAP-Lite-1.27-0/blib/lib/SOAP/Lite.pm line 407.
t/SOAP/Transport/TCP.t ....................... ok
All tests successful.
Files=56, Tests=838, 19 wallclock secs ( 0.20 usr 0.27 sys + 4.84 cusr 1.23 csys = 6.54 CPU)
Result: PASS
------------------------------
PREREQUISITES
------------------------------
Prerequisite modules loaded:
requires:
Module Need Have
-------------------- -------- --------
Class::Inspector 0 1.32
Compress::Zlib 0 2.081
constant 0 1.04
IO::SessionData 1.03 1.03
! IO::Socket::SSL 0 n/a
! LWP::Protocol::https 0 n/a
LWP::UserAgent 0 6.36
MIME::Base64 0 3.05
perl 5.006000 5.008006
Scalar::Util 0 1.50
Task::Weaken 0 1.06
URI 0 1.74
XML::Parser 2.23 2.44
build_requires:
Module Need Have
-------------------- -------- --------
ExtUtils::MakeMaker 0 7.34
IO::File 0 1.39
Test::More 0 1.302141
Test::Warn 0 0.36
XML::Parser::Lite 0.715 0.722
configure_requires:
Module Need Have
-------------------- -------- --------
ExtUtils::MakeMaker 0 7.34
------------------------------
ENVIRONMENT AND OTHER CONTEXT
------------------------------
Environment variables:
AUTOMATED_TESTING = 1
LANG = en_US.UTF-8
PATH = /home/sand/bin:/usr/local/bin:/usr/bin:/bin:/usr/games:/usr/local/perl/bin:/usr/X11/bin:/sbin:/usr/sbin
PERL5LIB = /tmp/loop_over_bdir-12160-jBZdGo/XML-Parser-Lite-0.722-0/blib/arch:/tmp/loop_over_bdir-12160-jBZdGo/XML-Parser-Lite-0.722-0/blib/lib:/tmp/loop_over_bdir-12160-jBZdGo/Test-Warn-0.36-0/blib/arch:/tmp/loop_over_bdir-12160-jBZdGo/Test-Warn-0.36-0/blib/lib:/tmp/loop_over_bdir-12160-jBZdGo/IO-SessionData-1.03-0/blib/arch:/tmp/loop_over_bdir-12160-jBZdGo/IO-SessionData-1.03-0/blib/lib:/tmp/loop_over_bdir-12160-jBZdGo/Tie-IxHash-1.23-0/blib/arch:/tmp/loop_over_bdir-12160-jBZdGo/Tie-IxHash-1.23-0/blib/lib
PERL5OPT =
PERL5_CPANPLUS_IS_RUNNING = 12161
PERL5_CPAN_IS_RUNNING = 12161
PERL5_CPAN_IS_RUNNING_IN_RECURSION = 6113,12161
PERL_CANARY_STABILITY_NOPROMPT = 1
PERL_MM_USE_DEFAULT = 1
PERL_USE_UNSAFE_INC = 1
SHELL = /usr/bin/zsh
TERM = screen
Perl special variables (and OS-specific diagnostics, for MSWin32):
$^X = /home/sand/src/perl/repoperls/installed-perls/host/k93msid/perl-5.8.6/6fdb/bin/perl
$UID/$EUID = 1005 / 1005
$GID = 1005 1005
$EGID = 1005 1005
Perl module toolchain versions installed:
Module Have
------------------- --------
CPAN 2.21
CPAN::Meta 2.150010
Cwd 3.75
ExtUtils::CBuilder 0.280230
ExtUtils::Command 7.34
ExtUtils::Install 2.06
ExtUtils::MakeMaker 7.34
ExtUtils::Manifest 1.70
ExtUtils::ParseXS 3.35
File::Spec 3.75
JSON 4.00
JSON::PP 4.00
Module::Build 0.4224
Module::Signature 0.83
Parse::CPAN::Meta 2.150010
Test::Harness 3.42
Test::More 1.302141
YAML n/a
YAML::Syck 1.31
version 0.9924
--
Summary of my perl5 (revision 5 version 8 subversion 6) configuration:
Platform:
osname=linux, osvers=4.18.0-2-amd64, archname=x86_64-linux
uname='linux k93msid 4.18.0-2-amd64 #1 smp debian 4.18.10-2 (2018-10-07) x86_64 gnulinux '
config_args='-Dprefix=/home/sand/src/perl/repoperls/installed-perls/host/k93msid/perl-5.8.6/6fdb -Dmyhostname=k93msid -Dinstallusrbinperl=n -Uversiononly -Dusedevel -des -Ui_db -Dlibswanted=cl pthread socket inet nsl gdbm dbm malloc dl ld sun m crypt sec util c cposix posix ucb BSD gdbm_compat -Uuseithreads -Uuselongdouble -Doptimize=-g'
hint=recommended, useposix=true, d_sigaction=define
usethreads=undef use5005threads=undef useithreads=undef usemultiplicity=undef
useperlio=define d_sfio=undef uselargefiles=define usesocks=undef
use64bitint=define use64bitall=define uselongdouble=undef
usemymalloc=n, bincompat5005=undef
Compiler:
cc='cc', ccflags ='-DDEBUGGING -fno-strict-aliasing -pipe -I/usr/local/include -D_LARGEFILE_SOURCE -D_FILE_OFFSET_BITS=64',
optimize='-g',
cppflags='-DDEBUGGING -fno-strict-aliasing -pipe -I/usr/local/include'
ccversion='', gccversion='8.2.0', gccosandvers=''
intsize=4, longsize=8, ptrsize=8, doublesize=8, byteorder=12345678
d_longlong=define, longlongsize=8, d_longdbl=define, longdblsize=16
ivtype='long', ivsize=8, nvtype='double', nvsize=8, Off_t='off_t', lseeksize=8
alignbytes=8, prototype=define
Linker and Libraries:
ld='cc', ldflags =' -L/usr/local/lib'
libpth=/usr/local/lib /lib/x86_64-linux-gnu /lib/../lib /usr/lib/x86_64-linux-gnu /usr/lib/../lib /lib /usr/lib
libs=-lpthread -lnsl -ldl -lm -lcrypt -lutil -lc
perllibs=-lpthread -lnsl -ldl -lm -lcrypt -lutil -lc
libc=libc-2.27.so, so=so, useshrplib=false, libperl=libperl.a
gnulibc_version='2.27'
Dynamic Linking:
dlsrc=dl_dlopen.xs, dlext=so, d_dlsymun=undef, ccdlflags='-Wl,-E'
cccdlflags='-fpic', lddlflags='-shared -L/usr/local/lib'
Characteristics of this binary (from libperl):
Compile-time options: DEBUGGING USE_64_BIT_INT USE_64_BIT_ALL USE_LARGE_FILES
Locally applied patches:
MAINT23539
Built under linux
Compiled at Dec 8 2018 17:08:57
%ENV:
PERL5LIB="/tmp/loop_over_bdir-12160-jBZdGo/XML-Parser-Lite-0.722-0/blib/arch:/tmp/loop_over_bdir-12160-jBZdGo/XML-Parser-Lite-0.722-0/blib/lib:/tmp/loop_over_bdir-12160-jBZdGo/Test-Warn-0.36-0/blib/arch:/tmp/loop_over_bdir-12160-jBZdGo/Test-Warn-0.36-0/blib/lib:/tmp/loop_over_bdir-12160-jBZdGo/IO-SessionData-1.03-0/blib/arch:/tmp/loop_over_bdir-12160-jBZdGo/IO-SessionData-1.03-0/blib/lib:/tmp/loop_over_bdir-12160-jBZdGo/Tie-IxHash-1.23-0/blib/arch:/tmp/loop_over_bdir-12160-jBZdGo/Tie-IxHash-1.23-0/blib/lib"
PERL5OPT=""
PERL5_CPANPLUS_IS_RUNNING="12161"
PERL5_CPAN_IS_RUNNING="12161"
PERL5_CPAN_IS_RUNNING_IN_RECURSION="6113,12161"
PERL_CANARY_STABILITY_NOPROMPT="1"
PERL_MM_USE_DEFAULT="1"
PERL_USE_UNSAFE_INC="1"
@INC:
/tmp/loop_over_bdir-12160-jBZdGo/XML-Parser-Lite-0.722-0/blib/arch
/tmp/loop_over_bdir-12160-jBZdGo/XML-Parser-Lite-0.722-0/blib/lib
/tmp/loop_over_bdir-12160-jBZdGo/Test-Warn-0.36-0/blib/arch
/tmp/loop_over_bdir-12160-jBZdGo/Test-Warn-0.36-0/blib/lib
/tmp/loop_over_bdir-12160-jBZdGo/IO-SessionData-1.03-0/blib/arch
/tmp/loop_over_bdir-12160-jBZdGo/IO-SessionData-1.03-0/blib/lib
/tmp/loop_over_bdir-12160-jBZdGo/Tie-IxHash-1.23-0/blib/arch
/tmp/loop_over_bdir-12160-jBZdGo/Tie-IxHash-1.23-0/blib/lib
/home/sand/src/perl/repoperls/installed-perls/host/k93msid/perl-5.8.6/6fdb/lib/5.8.6/x86_64-linux
/home/sand/src/perl/repoperls/installed-perls/host/k93msid/perl-5.8.6/6fdb/lib/5.8.6
/home/sand/src/perl/repoperls/installed-perls/host/k93msid/perl-5.8.6/6fdb/lib/site_perl/5.8.6/x86_64-linux
/home/sand/src/perl/repoperls/installed-perls/host/k93msid/perl-5.8.6/6fdb/lib/site_perl/5.8.6
/home/sand/src/perl/repoperls/installed-perls/host/k93msid/perl-5.8.6/6fdb/lib/site_perl
.