Mail-DKIM v1.20240923 Perl 5 v5.18.4 x86_64-linux-thread-multi

Status
Pass
From
David Cantrell (DCANTRELL)
Dist
Mail-DKIM v1.20240923
Platform
Perl 5 v5.18.4 x86_64-linux-thread-multi
Date
2024-09-24 00:24:45
ID
66600b6c-7a0b-11ef-9178-c43cbd54ed19
This distribution has been tested as part of the CPAN Testers
project, supporting the Perl programming language.  See
http://wiki.cpantesters.org/ for more information or email
questions to cpan-testers-discuss@perl.org


--
Dear Marc Bradshaw,

This is a computer-generated report for Mail-DKIM-1.20240923
on perl 5.18.4, created by CPAN-Reporter-1.2018.

Thank you for uploading your work to CPAN.  Congratulations!
All tests were successful.

Sections of this report:

    * Tester comments
    * Program output
    * Prerequisites
    * Environment and other context

------------------------------
TESTER COMMENTS
------------------------------

Additional comments from tester:

this report is from an automated smoke testing program
and was not reviewed by a human for accuracy

------------------------------
PROGRAM OUTPUT
------------------------------

Output from '/usr/bin/make test':

PERL_DL_NONLAZY=1 "/home/david/cpantesting/perl-5.18.4/bin/perl" "-MExtUtils::Command::MM" "-MTest::Harness" "-e" "undef *Test::Harness::Switches; test_harness(0, 'blib/lib', 'blib/arch')" t/*.t
t/adsp.t ........................ ok
Authentication-Results Header parse error: not expecting a string at /home/david/cpantesting/perl-5.18.4/.cpan/build/Mail-DKIM-1.20240923-HTadFJ/blib/lib/Mail/DKIM/ARC/Signer.pm line 116.

Authentication-Results: Garbage Authentication-Results Header - SHOULD NOT PARSE at /home/david/cpantesting/perl-5.18.4/.cpan/build/Mail-DKIM-1.20240923-HTadFJ/blib/lib/Mail/DKIM/ARC/Signer.pm line 121.
t/arc-draft-sign-tests.t ........ ok
t/arc-draft-validation-tests.t .. ok
t/arc-signer.t .................. ok
t/author-pod-syntax.t ........... skipped: these tests are for testing by the author
t/dev-manifest.t ................ skipped: Author tests not required for installation
t/external_signer.t ............. ok
t/Mail-DKIM.t ................... ok
t/policy.t ...................... ok
t/public_key.t .................. ok
t/signature.t ................... ok
t/signer.t ...................... ok
t/signer_dk.t ................... ok
t/signer_expiration.t ........... ok
t/signer_expiration_set_time.t .. ok
t/signer_policy.t ............... ok
t/simple_canonicalization.t ..... ok
t/textwrap.t .................... ok
did not cache that DNS entry: 2023-05-ed25519-does-not-exist._domainkey.wander.science
>>>
No results: NXDOMAIN
<<<
t/verifier.t .................... ok
t/verifier_strict.t ............. ok
All tests successful.
Files=20, Tests=495, 28 wallclock secs ( 0.21 usr  0.07 sys +  4.99 cusr  0.73 csys =  6.00 CPU)
Result: PASS

------------------------------
PREREQUISITES
------------------------------

Prerequisite modules loaded:

requires:

    Module                                          Need  Have      
    ----------------------------------------------- ----- ----------
    base                                            0     2.23      
    Carp                                            0     1.50      
    Crypt::OpenSSL::RSA                             0     0.33      
    Crypt::PK::Ed25519                              0     0.081     
    Digest::SHA                                     0     6.04      
    Mail::Address                                   0     2.21      
    Mail::AuthenticationResults::Header::AuthServID 0     2.20231031
    Mail::AuthenticationResults::Parser             0     2.20231031
    MIME::Base64                                    0     3.16      
    Net::DNS                                        0     1.47      
    perl                                            5.006 5.018004  
    strict                                          0     1.07      
    warnings                                        0     1.18      

build_requires:

    Module                                          Need  Have      
    ----------------------------------------------- ----- ----------
    Data::Dumper                                    0     2.183     
    ExtUtils::MakeMaker                             0     7.70      
    lib                                             0     0.63      
    Net::DNS::Resolver                              0     1981      
    Net::DNS::Resolver::Mock                        0     1.20230216
    Test::More                                      0     1.302198  
    Test::RequiresInternet                          0     0.05      
    Test::Simple                                    0     1.302198  
    YAML                                            0     1.30      
    YAML::XS                                        0     0.88      

configure_requires:

    Module                                          Need  Have      
    ----------------------------------------------- ----- ----------
    ExtUtils::MakeMaker                             0     7.70      


------------------------------
ENVIRONMENT AND OTHER CONTEXT
------------------------------

Environment variables:

    AUTOMATED_TESTING = 1
    LANG = en_GB.UTF-8
    LANGUAGE = en_GB:en
    LC_TERMINAL = iTerm2
    LC_TERMINAL_VERSION = 3.5.4
    NONINTERACTIVE_TESTING = 1
    PATH = /home/david/.nvm/versions/node/v20.17.0/bin:/home/david/.cargo/bin:/home/david/perl5/perlbrew/bin:/home/david/perl5/perlbrew/perls/perl-5.30.2/bin:/home/david/bin:/usr/local/bin:/usr/bin:/bin:/usr/local/games:/usr/games
    PERL = 5.18.4
    PERL5LIB = 
    PERL5OPT = 
    PERL5_CPANPLUS_IS_RUNNING = 279523
    PERL5_CPAN_IS_RUNNING = 279523
    PERLBREW_HOME = /home/david/.perlbrew
    PERLBREW_MANPATH = /home/david/perl5/perlbrew/perls/perl-5.30.2/man
    PERLBREW_PATH = /home/david/perl5/perlbrew/bin:/home/david/perl5/perlbrew/perls/perl-5.30.2/bin
    PERLBREW_PERL = perl-5.30.2
    PERLBREW_ROOT = /home/david/perl5/perlbrew
    PERLBREW_SHELLRC_VERSION = 0.98
    PERLBREW_VERSION = 0.98
    PERLVER = 5.18.4
    PERL_INLINE_DIRECTORY = /home/david/.Inline-5.18.4
    PERL_MM_USE_DEFAULT = 1
    PERL_USE_UNSAFE_INC = 0
    SHELL = /bin/bash
    TERM = screen

Perl special variables (and OS-specific diagnostics, for MSWin32):

    $^X = /home/david/cpantesting/perl-5.18.4/bin/perl
    $UID/$EUID = 1000 / 1000
    $GID = 1000 24 25 27 29 30 44 46 109 1000
    $EGID = 1000 24 25 27 29 30 44 46 109 1000

Perl module toolchain versions installed:

    Module              Have    
    ------------------- --------
    CPAN                2.00    
    CPAN::Meta          2.150010
    Cwd                 3.75    
    ExtUtils::CBuilder  0.280236
    ExtUtils::Command   7.70    
    ExtUtils::Install   2.22    
    ExtUtils::MakeMaker 7.70    
    ExtUtils::Manifest  1.75    
    ExtUtils::ParseXS   3.51    
    File::Spec          3.75    
    JSON                4.10    
    JSON::PP            4.16    
    Module::Build       0.4234  
    Module::Signature   n/a     
    Parse::CPAN::Meta   2.150010
    Test::Harness       3.48    
    Test::More          1.302198
    YAML                1.30    
    YAML::Syck          n/a     
    version             0.9930  


--

Summary of my perl5 (revision 5 version 18 subversion 4) configuration:
   
  Platform:
    osname=linux, osvers=5.10.0-11-amd64, archname=x86_64-linux-thread-multi
    uname='linux cpantesting-linux-utm 5.10.0-11-amd64 #1 smp debian 5.10.92-1 (2022-01-18) x86_64 gnulinux '
    config_args='-de -Dusethreads -Dprefix=/home/david/cpantesting/perl-5.18.4 -A ccflags=-fwrapv'
    hint=recommended, useposix=true, d_sigaction=define
    useithreads=define, usemultiplicity=define
    useperlio=define, d_sfio=undef, uselargefiles=define, usesocks=undef
    use64bitint=define, use64bitall=define, uselongdouble=undef
    usemymalloc=n, bincompat5005=undef
  Compiler:
    cc='cc', ccflags ='-D_REENTRANT -D_GNU_SOURCE -fwrapv -fno-strict-aliasing -pipe -fstack-protector -I/usr/local/include -D_LARGEFILE_SOURCE -D_FILE_OFFSET_BITS=64',
    optimize='-O2',
    cppflags='-D_REENTRANT -D_GNU_SOURCE -fwrapv -fno-strict-aliasing -pipe -fstack-protector -I/usr/local/include'
    ccversion='', gccversion='10.2.1 20210110', gccosandvers=''
    intsize=4, longsize=8, ptrsize=8, doublesize=8, byteorder=12345678
    d_longlong=define, longlongsize=8, d_longdbl=define, longdblsize=16
    ivtype='long', ivsize=8, nvtype='double', nvsize=8, Off_t='off_t', lseeksize=8
    alignbytes=8, prototype=define
  Linker and Libraries:
    ld='cc', ldflags =' -fstack-protector -L/usr/local/lib'
    libpth=/usr/local/lib /lib/x86_64-linux-gnu /lib/../lib /usr/lib/x86_64-linux-gnu /usr/lib/../lib /lib /usr/lib /lib64 /usr/lib64
    libs=-lnsl -ldl -lm -lcrypt -lutil -lpthread -lc
    perllibs=-lnsl -ldl -lm -lcrypt -lutil -lpthread -lc
    libc=libc-2.31.so, so=so, useshrplib=false, libperl=libperl.a
    gnulibc_version='2.31'
  Dynamic Linking:
    dlsrc=dl_dlopen.xs, dlext=so, d_dlsymun=undef, ccdlflags='-Wl,-E'
    cccdlflags='-fPIC', lddlflags='-shared -O2 -L/usr/local/lib -fstack-protector'


Characteristics of this binary (from libperl): 
  Compile-time options: HAS_TIMES MULTIPLICITY PERLIO_LAYERS
                        PERL_DONT_CREATE_GVSV
                        PERL_HASH_FUNC_ONE_AT_A_TIME_HARD
                        PERL_IMPLICIT_CONTEXT PERL_MALLOC_WRAP
                        PERL_PRESERVE_IVUV PERL_SAWAMPERSAND USE_64_BIT_ALL
                        USE_64_BIT_INT USE_ITHREADS USE_LARGE_FILES
                        USE_LOCALE USE_LOCALE_COLLATE USE_LOCALE_CTYPE
                        USE_LOCALE_NUMERIC USE_PERLIO USE_PERL_ATOF
                        USE_REENTRANT_API
  Locally applied patches:
	Devel::PatchPerl 2.08
  Built under linux
  Compiled at Feb  5 2022 21:05:21
  %ENV:
    PERL="5.18.4"
    PERL5LIB=""
    PERL5OPT=""
    PERL5_CPANPLUS_IS_RUNNING="279523"
    PERL5_CPAN_IS_RUNNING="279523"
    PERLBREW_HOME="/home/david/.perlbrew"
    PERLBREW_MANPATH="/home/david/perl5/perlbrew/perls/perl-5.30.2/man"
    PERLBREW_PATH="/home/david/perl5/perlbrew/bin:/home/david/perl5/perlbrew/perls/perl-5.30.2/bin"
    PERLBREW_PERL="perl-5.30.2"
    PERLBREW_ROOT="/home/david/perl5/perlbrew"
    PERLBREW_SHELLRC_VERSION="0.98"
    PERLBREW_VERSION="0.98"
    PERLVER="5.18.4"
    PERL_INLINE_DIRECTORY="/home/david/.Inline-5.18.4"
    PERL_MM_USE_DEFAULT="1"
    PERL_USE_UNSAFE_INC="0"
  @INC:
    /home/david/cpantesting/perl-5.18.4/lib/site_perl/5.18.4/x86_64-linux-thread-multi
    /home/david/cpantesting/perl-5.18.4/lib/site_perl/5.18.4
    /home/david/cpantesting/perl-5.18.4/lib/5.18.4/x86_64-linux-thread-multi
    /home/david/cpantesting/perl-5.18.4/lib/5.18.4
    .