HTTP-Request-Generator v0.10 Perl 5 v5.22.4 x86_64-linux-thread-multi

Status
Pass
From
David Cantrell (DCANTRELL)
Dist
HTTP-Request-Generator v0.10
Platform
Perl 5 v5.22.4 x86_64-linux-thread-multi
Date
2020-10-09 14:54:58
ID
6675320c-0a3f-11eb-94b7-df94a1724e2f
This distribution has been tested as part of the CPAN Testers
project, supporting the Perl programming language.  See
http://wiki.cpantesters.org/ for more information or email
questions to cpan-testers-discuss@perl.org


--
Dear Max Maischein,

This is a computer-generated report for HTTP-Request-Generator-0.10
on perl 5.22.4, created by CPAN-Reporter-1.2018.

Thank you for uploading your work to CPAN.  Congratulations!
All tests were successful.

Sections of this report:

    * Tester comments
    * Program output
    * Prerequisites
    * Environment and other context

------------------------------
TESTER COMMENTS
------------------------------

Additional comments from tester:

this report is from an automated smoke testing program
and was not reviewed by a human for accuracy

------------------------------
PROGRAM OUTPUT
------------------------------

Output from '/usr/bin/make test':

PERL_DL_NONLAZY=1 "/home/david/cpantesting/perl-5.22.4/bin/perl" "-MExtUtils::Command::MM" "-MTest::Harness" "-e" "undef *Test::Harness::Switches; test_harness(0, 'blib/lib', 'blib/arch')" t/00-load.t t/02-http-generator.t t/03-wrap-http-request.t t/03-wrap-plack.t t/03-wrap.t t/04-url-expansion.t
# Testing HTTP::Request::Generator 0.10, Perl 5.022004
# Algorithm::Loops 1.032
# Carp 1.36
# Config 5.022004
# Cwd 3.56_02
# DynaLoader 1.32
# Encode 2.72_01
# Encode::Alias 2.19
# Encode::Config 2.05
# Encode::Encoding 2.07
# Exporter 5.72
# Exporter::Heavy 5.72
# Exporter::Tiny 1.002002
# ExtUtils::Liblist 7.4902
# ExtUtils::Liblist::Kid 7.4902
# ExtUtils::MM 7.4902
# ExtUtils::MM_Any 7.4902
# ExtUtils::MM_Unix 7.4902
# ExtUtils::MY 7.4902
# ExtUtils::MakeMaker 7.4902
# ExtUtils::MakeMaker::Config 7.4902
# ExtUtils::MakeMaker::Locale 7.4902
# ExtUtils::MakeMaker::version 7.4902
# File::Basename 2.85
# File::Glob 1.24
# File::Path 2.09
# File::Spec 3.56_02
# File::Spec::Unix 3.56_02
# Filter::Simple 0.92
# Filter::Util::Call 1.54
# Filter::signatures 0.17
# HTTP::Request::Generator 0.10
# I18N::Langinfo 0.12
# IO 1.35_01
# IO::Handle 1.35
# List::MoreUtils 0.428
# List::MoreUtils::PP 0.428
# List::MoreUtils::XS 0.428
# PerlIO 1.09
# SelectSaver 1.02
# SelfLoader 1.22
# Symbol 1.07
# Test::Builder 1.001014
# Test::Builder::Module 1.001014
# Test::More 1.001014
# Text::Balanced 2.03
# URI 1.76
# URI::Escape 3.31
# XSLoader 0.24
# base 2.2201
# bytes 1.04
# constant 1.33
# feature 1.40
# overload 1.26
# overloading 0.02
# re 0.32
# strict 1.09
# vars 1.03
# version 0.9909
# version::regex 0.9909
# warnings 1.34
# warnings::register 1.04
t/00-load.t ............... ok
t/02-http-generator.t ..... ok
t/03-wrap-http-request.t .. skipped: Couldn't load test prerequiste modules: Can't locate HTTP/Headers.pm in @INC (you may need to install the HTTP::Headers module) (@INC contains: /home/david/cpantesting/perl-5.22.4/.cpan/build/HTTP-Request-Generator-0.10-_FESiO/blib/lib /home/david/cpantesting/perl-5.22.4/.cpan/build/HTTP-Request-Generator-0.10-_FESiO/blib/arch /home/david/cpantesting/perl-5.22.4/lib/site_perl/5.22.4/x86_64-linux-thread-multi /home/david/cpantesting/perl-5.22.4/lib/site_perl/5.22.4 /home/david/cpantesting/perl-5.22.4/lib/5.22.4/x86_64-linux-thread-multi /home/david/cpantesting/perl-5.22.4/lib/5.22.4 .) at t/03-wrap-http-request.t line 8.
t/03-wrap-plack.t ......... skipped: Couldn't load test prerequiste modules: Can't locate Plack/Request.pm in @INC (you may need to install the Plack::Request module) (@INC contains: /home/david/cpantesting/perl-5.22.4/.cpan/build/HTTP-Request-Generator-0.10-_FESiO/blib/lib /home/david/cpantesting/perl-5.22.4/.cpan/build/HTTP-Request-Generator-0.10-_FESiO/blib/arch /home/david/cpantesting/perl-5.22.4/lib/site_perl/5.22.4/x86_64-linux-thread-multi /home/david/cpantesting/perl-5.22.4/lib/site_perl/5.22.4 /home/david/cpantesting/perl-5.22.4/lib/5.22.4/x86_64-linux-thread-multi /home/david/cpantesting/perl-5.22.4/lib/5.22.4 .) at t/03-wrap-plack.t line 9.
t/03-wrap.t ............... skipped: Couldn't load test prerequiste modules: Can't locate HTTP/Headers.pm in @INC (you may need to install the HTTP::Headers module) (@INC contains: /home/david/cpantesting/perl-5.22.4/.cpan/build/HTTP-Request-Generator-0.10-_FESiO/blib/lib /home/david/cpantesting/perl-5.22.4/.cpan/build/HTTP-Request-Generator-0.10-_FESiO/blib/arch /home/david/cpantesting/perl-5.22.4/lib/site_perl/5.22.4/x86_64-linux-thread-multi /home/david/cpantesting/perl-5.22.4/lib/site_perl/5.22.4 /home/david/cpantesting/perl-5.22.4/lib/5.22.4/x86_64-linux-thread-multi /home/david/cpantesting/perl-5.22.4/lib/5.22.4 .) at t/03-wrap.t line 8.
t/04-url-expansion.t ...... ok
All tests successful.
Files=6, Tests=43, 10 wallclock secs ( 0.03 usr  0.01 sys +  1.23 cusr  0.03 csys =  1.30 CPU)
Result: PASS

------------------------------
PREREQUISITES
------------------------------

Prerequisite modules loaded:

requires:

    Module              Need  Have    
    ------------------- ----- --------
    Algorithm::Loops    0     1.032   
    Carp                0     1.36    
    Exporter            5     5.72    
    Filter::signatures  0     0.17    
    List::MoreUtils     0     0.428   
    perl                5.006 5.022004
    URI                 0     1.76    
    URI::Escape         0     3.31    

build_requires:

    Module              Need  Have    
    ------------------- ----- --------
    Data::Dumper        0     2.158   
    ExtUtils::MakeMaker 0     7.49_02 
    File::Spec          0     3.56_02 
    Test::More          0     1.001014

configure_requires:

    Module              Need  Have    
    ------------------- ----- --------
    ExtUtils::MakeMaker 0     7.49_02 


------------------------------
ENVIRONMENT AND OTHER CONTEXT
------------------------------

Environment variables:

    AUTOMATED_TESTING = 1
    LANG = en_US.UTF-8
    NONINTERACTIVE_TESTING = 1
    PATH = /usr/local/bin:/usr/bin:/bin:/usr/local/games:/usr/games
    PERL = 5.22.4
    PERL5LIB = 
    PERL5OPT = 
    PERL5_CPANPLUS_IS_RUNNING = 12027
    PERL5_CPAN_IS_RUNNING = 12027
    PERLVER = 5.22.4
    PERL_INLINE_DIRECTORY = /home/david/.Inline-5.22.4
    PERL_MM_USE_DEFAULT = 1
    PERL_USE_UNSAFE_INC = 0
    SHELL = /bin/bash
    TERM = screen

Perl special variables (and OS-specific diagnostics, for MSWin32):

    $^X = /home/david/cpantesting/perl-5.22.4/bin/perl
    $UID/$EUID = 1000 / 1000
    $GID = 1000 27 1000
    $EGID = 1000 27 1000

Perl module toolchain versions installed:

    Module              Have      
    ------------------- ----------
    CPAN                2.11_01   
    CPAN::Meta          2.150001  
    Cwd                 3.56_02   
    ExtUtils::CBuilder  0.280221  
    ExtUtils::Command   7.49_02   
    ExtUtils::Install   2.06      
    ExtUtils::MakeMaker 7.49_02   
    ExtUtils::Manifest  1.70      
    ExtUtils::ParseXS   3.28      
    File::Spec          3.56_02   
    JSON                n/a       
    JSON::PP            2.27300_01
    Module::Build       n/a       
    Module::Signature   n/a       
    Parse::CPAN::Meta   1.4414_001
    Test::Harness       3.35_01   
    Test::More          1.001014  
    YAML                n/a       
    YAML::Syck          n/a       
    version             0.9909    


--

Summary of my perl5 (revision 5 version 22 subversion 4) configuration:
   
  Platform:
    osname=linux, osvers=4.9.0-8-amd64, archname=x86_64-linux-thread-multi
    uname='linux pigsty 4.9.0-8-amd64 #1 smp debian 4.9.144-3 (2019-02-02) x86_64 gnulinux '
    config_args='-de -Duse64bitall -Dusethreads -Dprefix=/home/david/cpantesting/perl-5.22.4'
    hint=recommended, useposix=true, d_sigaction=define
    useithreads=define, usemultiplicity=define
    use64bitint=define, use64bitall=define, uselongdouble=undef
    usemymalloc=n, bincompat5005=undef
  Compiler:
    cc='cc', ccflags ='-D_REENTRANT -D_GNU_SOURCE -fwrapv -fno-strict-aliasing -pipe -fstack-protector-strong -I/usr/local/include -D_LARGEFILE_SOURCE -D_FILE_OFFSET_BITS=64',
    optimize='-O2',
    cppflags='-D_REENTRANT -D_GNU_SOURCE -fwrapv -fno-strict-aliasing -pipe -fstack-protector-strong -I/usr/local/include'
    ccversion='', gccversion='6.3.0 20170516', gccosandvers=''
    intsize=4, longsize=8, ptrsize=8, doublesize=8, byteorder=12345678, doublekind=3
    d_longlong=define, longlongsize=8, d_longdbl=define, longdblsize=16, longdblkind=3
    ivtype='long', ivsize=8, nvtype='double', nvsize=8, Off_t='off_t', lseeksize=8
    alignbytes=8, prototype=define
  Linker and Libraries:
    ld='cc', ldflags =' -fstack-protector-strong -L/usr/local/lib'
    libpth=/usr/local/lib /usr/lib/gcc/x86_64-linux-gnu/6/include-fixed /usr/include/x86_64-linux-gnu /usr/lib /lib/x86_64-linux-gnu /lib/../lib /usr/lib/x86_64-linux-gnu /usr/lib/../lib /lib
    libs=-lpthread -lnsl -ldb -ldl -lm -lcrypt -lutil -lc
    perllibs=-lpthread -lnsl -ldl -lm -lcrypt -lutil -lc
    libc=libc-2.24.so, so=so, useshrplib=false, libperl=libperl.a
    gnulibc_version='2.24'
  Dynamic Linking:
    dlsrc=dl_dlopen.xs, dlext=so, d_dlsymun=undef, ccdlflags='-Wl,-E'
    cccdlflags='-fPIC', lddlflags='-shared -O2 -L/usr/local/lib -fstack-protector-strong'


Characteristics of this binary (from libperl): 
  Compile-time options: HAS_TIMES MULTIPLICITY PERLIO_LAYERS
                        PERL_DONT_CREATE_GVSV
                        PERL_HASH_FUNC_ONE_AT_A_TIME_HARD
                        PERL_IMPLICIT_CONTEXT PERL_MALLOC_WRAP
                        PERL_NEW_COPY_ON_WRITE PERL_PRESERVE_IVUV
                        USE_64_BIT_ALL USE_64_BIT_INT USE_ITHREADS
                        USE_LARGE_FILES USE_LOCALE USE_LOCALE_COLLATE
                        USE_LOCALE_CTYPE USE_LOCALE_NUMERIC USE_LOCALE_TIME
                        USE_PERLIO USE_PERL_ATOF USE_REENTRANT_API
  Locally applied patches:
	Devel::PatchPerl 1.56
  Built under linux
  Compiled at Apr 25 2019 12:09:05
  %ENV:
    PERL="5.22.4"
    PERL5LIB=""
    PERL5OPT=""
    PERL5_CPANPLUS_IS_RUNNING="12027"
    PERL5_CPAN_IS_RUNNING="12027"
    PERLVER="5.22.4"
    PERL_INLINE_DIRECTORY="/home/david/.Inline-5.22.4"
    PERL_MM_USE_DEFAULT="1"
    PERL_USE_UNSAFE_INC="0"
  @INC:
    /home/david/cpantesting/perl-5.22.4/lib/site_perl/5.22.4/x86_64-linux-thread-multi
    /home/david/cpantesting/perl-5.22.4/lib/site_perl/5.22.4
    /home/david/cpantesting/perl-5.22.4/lib/5.22.4/x86_64-linux-thread-multi
    /home/david/cpantesting/perl-5.22.4/lib/5.22.4
    .