utf8-all v0.024 Perl 5 v5.28.2 MSWin32-x64-multi-thread
- Status
- Pass
- From
- LNATION
- Dist
-
utf8-all v0.024
- Platform
- Perl 5 v5.28.2 MSWin32-x64-multi-thread
- Date
- 2025-05-18 17:12:39
- ID
- 667cd25c-6d5e-1014-94db-bcb6ae0c5ba0
This distribution has been tested as part of the CPAN Testers
project, supporting the Perl programming language. See
http://wiki.cpantesters.org/ for more information or email
questions to cpan-testers-discuss@perl.org
--
Dear Hayo Baan,
This is a computer-generated report for utf8-all-0.024
on perl 5.28.2, created by CPAN-Reporter-1.2020.
Thank you for uploading your work to CPAN. Congratulations!
All tests were successful.
Sections of this report:
* Tester comments
* Program output
* Prerequisites
* Environment and other context
------------------------------
TESTER COMMENTS
------------------------------
Additional comments from tester:
this report is from an automated smoke testing program
and was not reviewed by a human for accuracy
------------------------------
PROGRAM OUTPUT
------------------------------
Output from 'C:\STRAWB~1\c\bin\gmake.exe test':
"C:\Strawberry\perl\bin\perl.exe" "-MExtUtils::Command::MM" "-MTest::Harness" "-e" "undef *Test::Harness::Switches; test_harness(0, 'blib\lib', 'blib\arch')" t/*.t
t/00-compile.t ....... ok
t/ARGV.t ............. ok
t/ARGV_nonmain.t ..... ok
t/ARGV_twice.t ....... ok
t/autodie.t .......... skipped: MSWin32 does not have proper utf-8 file system support
t/charnames.t ........ ok
t/FATAL_utf8.t ....... ok
t/fc.t ............... ok
t/force_global.t ..... ok
t/glob.t ............. skipped: MSWin32 does not have proper utf-8 file system support
t/global_nonmain.t ... ok
t/lexical-again.t .... ok
t/lexical.t .......... ok
t/no_global.t ........ ok
t/open.t ............. ok
t/readdir.t .......... skipped: MSWin32 does not have proper utf-8 file system support
t/readlink.t ......... skipped: MSWin32 does not have proper utf-8 file system support
t/readpipe.t ......... skipped: MSWin32 does not have proper utf-8 file system support
t/threads.t .......... ok
t/unicode_eval.t ..... ok
t/unicode_strings.t .. ok
t/utf8.t ............. ok
t/utf8_check.t ....... skipped: MSWin32 does not have proper utf-8 file system support
All tests successful.
Files=23, Tests=98, 5 wallclock secs ( 0.12 usr + 0.08 sys = 0.20 CPU)
Result: PASS
------------------------------
PREREQUISITES
------------------------------
Prerequisite modules loaded:
requires:
Module Need Have
------------------- ----- --------
Carp 0 1.50
charnames 0 1.45
Encode 0 3.21
feature 0 1.52
Import::Into 0 1.002005
open 0 1.11
parent 0 0.237
perl 5.010 5.028002
PerlIO::utf8_strict 0 0.010
strict 0 1.11
Symbol 0 1.08
utf8 0 1.21
warnings 0 1.42
build_requires:
Module Need Have
------------------- ----- --------
autodie 0 2.29
blib 1.01 1.07
constant 0 1.33
ExtUtils::MakeMaker 0 7.74
File::Spec 0 3.75
IO::Handle 0 1.39
IPC::Open3 0 1.20
PerlIO 0 1.10
Test::Exception 0 0.43
Test::Fatal 0 0.017
Test::More 0.96 1.302212
Test::Warn 0 0.36
threads 0 2.22
threads::shared 0 1.59
version 0.77 0.9924
configure_requires:
Module Need Have
------------------- ----- --------
ExtUtils::MakeMaker 0 7.74
perl 5.010 5.028002
------------------------------
ENVIRONMENT AND OTHER CONTEXT
------------------------------
Environment variables:
AUTOMATED_TESTING = 1
COMSPEC = C:\Windows\system32\cmd.exe
NUMBER_OF_PROCESSORS = 2
PATH = C:\Windows\system32;C:\Windows;C:\Windows\System32\Wbem;C:\Windows\System32\WindowsPowerShell\v1.0\;C:\Windows\System32\OpenSSH\;C:\Program Files\Amazon\cfn-bootstrap\;C:\Strawberry\c\bin;C:\Strawberry\perl\site\bin;C:\Strawberry\perl\bin;C:\Users\Administrator\AppData\Local\Microsoft\WindowsApps;C:\Users\Administrator\AppData\Local\Microsoft\WinGet\Links;
PERL5LIB = C:\STRAWB~1\cpan\build\Test-Kwalitee-Extra-v0.4.0-0/blib/arch;C:\STRAWB~1\cpan\build\Test-Kwalitee-Extra-v0.4.0-0/blib/lib
PERL5OPT =
PERL5_CPANPLUS_IS_RUNNING = 7728
PERL5_CPAN_IS_RUNNING = 7728
PERL5_CPAN_IS_RUNNING_IN_RECURSION = 4272,7728
PERL_CR_SMOKER_CURRENT = sympatic-0.2
PERL_EXTUTILS_AUTOINSTALL = --defaultdeps
PERL_MM_USE_DEFAULT = 1
PERL_USE_UNSAFE_INC = 1
PROCESSOR_IDENTIFIER = Intel64 Family 6 Model 85 Stepping 7, GenuineIntel
TEMP = C:\Users\ADMINI~1\AppData\Local\Temp\2
Perl special variables (and OS-specific diagnostics, for MSWin32):
$^X = C:\Strawberry\perl\bin\perl.exe
$UID/$EUID = 0 / 0
$GID = 0
$EGID = 0
Win32::GetOSName = Win10
Win32::GetOSVersion = , 10, 0, 26100, 2, 0, 0, 400, 3
Win32::FsType = NTFS
Win32::IsAdminUser = 1
Perl module toolchain versions installed:
Module Have
------------------- --------
CPAN 2.26
CPAN::Meta 2.150010
Cwd 3.75
ExtUtils::CBuilder 0.280236
ExtUtils::Command 7.74
ExtUtils::Install 2.14
ExtUtils::MakeMaker 7.74
ExtUtils::Manifest 1.75
ExtUtils::ParseXS 3.57
File::Spec 3.75
JSON 4.02
JSON::PP 4.16
Module::Build 0.4229
Module::Signature n/a
Parse::CPAN::Meta 2.150010
Test2 1.302212
Test::Harness 3.52
Test::More 1.302212
YAML 1.28
YAML::Syck 1.34
version 0.9924
--
Summary of my perl5 (revision 5 version 28 subversion 2) configuration:
Platform:
osname=MSWin32
osvers=10.0.17763.437
archname=MSWin32-x64-multi-thread
uname='Win32 strawberry-perl 5.28.2.1 #1 Wed May 1 21:18:04 2019 x64'
config_args='undef'
hint=recommended
useposix=true
d_sigaction=undef
useithreads=define
usemultiplicity=define
use64bitint=define
use64bitall=undef
uselongdouble=undef
usemymalloc=n
default_inc_excludes_dot=define
bincompat5005=undef
Compiler:
cc='gcc'
ccflags =' -s -O2 -DWIN32 -DWIN64 -DCONSERVATIVE -D__USE_MINGW_ANSI_STDIO -DPERL_TEXTMODE_SCRIPTS -DPERL_IMPLICIT_CONTEXT -DPERL_IMPLICIT_SYS -DUSE_PERLIO -fwrapv -fno-strict-aliasing -mms-bitfields'
optimize='-s -O2'
cppflags='-DWIN32'
ccversion=''
gccversion='7.1.0'
gccosandvers=''
intsize=4
longsize=4
ptrsize=8
doublesize=8
byteorder=12345678
doublekind=3
d_longlong=define
longlongsize=8
d_longdbl=define
longdblsize=16
longdblkind=3
ivtype='long long'
ivsize=8
nvtype='double'
nvsize=8
Off_t='long long'
lseeksize=8
alignbytes=8
prototype=define
Linker and Libraries:
ld='g++'
ldflags ='-s -L"C:\STRAWB~1\perl\lib\CORE" -L"C:\STRAWB~1\c\lib"'
libpth=C:\STRAWB~1\c\lib C:\STRAWB~1\c\x86_64-w64-mingw32\lib C:\STRAWB~1\c\lib\gcc\x86_64-w64-mingw32\7.1.0
libs= -lmoldname -lkernel32 -luser32 -lgdi32 -lwinspool -lcomdlg32 -ladvapi32 -lshell32 -lole32 -loleaut32 -lnetapi32 -luuid -lws2_32 -lmpr -lwinmm -lversion -lodbc32 -lodbccp32 -lcomctl32
perllibs= -lmoldname -lkernel32 -luser32 -lgdi32 -lwinspool -lcomdlg32 -ladvapi32 -lshell32 -lole32 -loleaut32 -lnetapi32 -luuid -lws2_32 -lmpr -lwinmm -lversion -lodbc32 -lodbccp32 -lcomctl32
libc=
so=dll
useshrplib=true
libperl=libperl528.a
gnulibc_version=''
Dynamic Linking:
dlsrc=dl_win32.xs
dlext=xs.dll
d_dlsymun=undef
ccdlflags=' '
cccdlflags=' '
lddlflags='-mdll -s -L"C:\STRAWB~1\perl\lib\CORE" -L"C:\STRAWB~1\c\lib"'
Characteristics of this binary (from libperl):
Compile-time options:
HAS_TIMES
HAVE_INTERP_INTERN
MULTIPLICITY
PERLIO_LAYERS
PERL_COPY_ON_WRITE
PERL_DONT_CREATE_GVSV
PERL_IMPLICIT_CONTEXT
PERL_IMPLICIT_SYS
PERL_MALLOC_WRAP
PERL_OP_PARENT
PERL_PRESERVE_IVUV
USE_64_BIT_INT
USE_ITHREADS
USE_LARGE_FILES
USE_LOCALE
USE_LOCALE_COLLATE
USE_LOCALE_CTYPE
USE_LOCALE_NUMERIC
USE_LOCALE_TIME
USE_PERLIO
USE_PERL_ATOF
Built under MSWin32
Compiled at May 1 2019 21:42:15
%ENV:
PERL5LIB="C:\STRAWB~1\cpan\build\Test-Kwalitee-Extra-v0.4.0-0/blib/arch;C:\STRAWB~1\cpan\build\Test-Kwalitee-Extra-v0.4.0-0/blib/lib"
PERL5_CPANPLUS_IS_RUNNING="7728"
PERL5_CPAN_IS_RUNNING="7728"
PERL5_CPAN_IS_RUNNING_IN_RECURSION="4272,7728"
PERL_CR_SMOKER_CURRENT="sympatic-0.2"
PERL_EXTUTILS_AUTOINSTALL="--defaultdeps"
PERL_MM_USE_DEFAULT="1"
PERL_USE_UNSAFE_INC="1"
@INC:
C:\STRAWB~1\cpan\build\Test-Kwalitee-Extra-v0.4.0-0/blib/arch
C:\STRAWB~1\cpan\build\Test-Kwalitee-Extra-v0.4.0-0/blib/lib
C:/Strawberry/perl/site/lib
C:/Strawberry/perl/vendor/lib
C:/Strawberry/perl/lib
.