Format-Util v0.14 Perl 5 v5.20.3 x86_64-linux-multi
- Status
- Pass
- From
- Nigel Horne
- Dist
-
Format-Util v0.14
- Platform
- Perl 5 v5.20.3 x86_64-linux-multi
- Date
- 2018-05-11 04:54:34
- ID
- 667f8a06-54d7-11e8-abdf-cbfdacc42408
This distribution has been tested as part of the CPAN Testers
project, supporting the Perl programming language. See
http://wiki.cpantesters.org/ for more information or email
questions to cpan-testers-discuss@perl.org
--
Dear Binary.com,
This is a computer-generated report for Format-Util-0.14
on perl 5.20.3, created by CPAN-Reporter-1.2018.
Thank you for uploading your work to CPAN. Congratulations!
All tests were successful.
Sections of this report:
* Tester comments
* Program output
* Prerequisites
* Environment and other context
------------------------------
TESTER COMMENTS
------------------------------
Additional comments from tester:
this report is from an automated smoke testing program
and was not reviewed by a human for accuracy
------------------------------
PROGRAM OUTPUT
------------------------------
Output from '/usr/bin/make test':
Skip blib/lib/auto/share/dist/Format-Util/precision.yml (unchanged)
PERL_DL_NONLAZY=1 "/home/njh/perl5/perlbrew/perls/perl-5.20.3-multi/bin/perl" "-MExtUtils::Command::MM" "-MTest::Harness" "-e" "undef *Test::Harness::Switches; test_harness(0, 'blib/lib', 'blib/arch')" t/*.t
t/boilerplate.t ........ ok
#
# Versions for all modules listed in MYMETA.json (including optional ones):
#
# === Configure Requires ===
#
# Module Want Have
# ----------------------- ---- ----
# ExtUtils::MakeMaker 6.48 7.34
# File::ShareDir::Install 0.06 0.13
#
# === Build Requires ===
#
# Module Want Have
# ------------------- ---- ----
# ExtUtils::MakeMaker any 7.34
#
# === Test Requires ===
#
# Module Want Have
# ------------------- ----- --------
# ExtUtils::MakeMaker any 7.34
# File::Spec any 3.62
# IO::Handle any 1.35
# IPC::Open3 any 1.16
# Test::CheckDeps 0.010 0.010
# Test::Exception any 0.43
# Test::More 0.94 1.302120
# Test::NoWarnings any 1.04
#
# === Test Recommends ===
#
# Module Want Have
# ---------- -------- --------
# CPAN::Meta 2.120900 2.150010
#
# === Runtime Requires ===
#
# Module Want Have
# -------------- ---- --------
# Encode any 2.93
# File::ShareDir any 1.104
# Math::BigFloat any 1.999811
# Math::BigInt any 1.999811
# POSIX any 1.38_03
# Scalar::Util any 1.49
# YAML::XS any 0.69
#
t/00-report-prereqs.t .. ok
t/00-check-deps.t ...... ok
t/00-compile.t ......... ok
t/Strings.t ............ ok
t/Numbers.t ............ ok
All tests successful.
Test Summary Report
-------------------
t/boilerplate.t (Wstat: 0 Tests: 3 Failed: 0)
TODO passed: 1-2
Files=6, Tests=39, 1 wallclock secs ( 0.05 usr 0.01 sys + 0.75 cusr 0.05 csys = 0.86 CPU)
Result: PASS
------------------------------
PREREQUISITES
------------------------------
Prerequisite modules loaded:
requires:
Module Need Have
----------------------- -------- --------
Encode 0 2.93
File::ShareDir 0 1.104
Math::BigFloat 0 1.999811
Math::BigInt 0 1.999811
perl 5.014000 5.020003
POSIX 0 1.38_03
Scalar::Util 0 1.49
YAML::XS 0 0.69
build_requires:
Module Need Have
----------------------- -------- --------
ExtUtils::MakeMaker 0 7.34
File::Spec 0 3.62
IO::Handle 0 1.35
IPC::Open3 0 1.16
Test::CheckDeps 0.010 0.010
Test::Exception 0 0.43
Test::More 0.94 1.302120
Test::NoWarnings 0 1.04
configure_requires:
Module Need Have
----------------------- -------- --------
ExtUtils::MakeMaker 6.48 7.34
File::ShareDir::Install 0.06 0.13
------------------------------
ENVIRONMENT AND OTHER CONTEXT
------------------------------
Environment variables:
AUTOMATED_TESTING = 1
HARNESS_OPTIONS = j4
LANG = en_GB.UTF-8
LANGUAGE = en_GB:en
PATH = /home/njh/perl5/perlbrew/bin:/home/njh/perl5/perlbrew/perls/perl-5.20.3-multi/bin:src/njh/smoker/bin:/usr/bin:/bin
PERL5LIB = /home/njh/.cpan/build/File-ShareDir-1.104-22/blib/arch:/home/njh/.cpan/build/File-ShareDir-1.104-22/blib/lib:/home/njh/.cpan/build/File-ShareDir-Install-0.13-34/blib/arch:/home/njh/.cpan/build/File-ShareDir-Install-0.13-34/blib/lib
PERL5OPT =
PERL5_CPANPLUS_IS_RUNNING = 29152
PERL5_CPAN_IS_RUNNING = 29152
PERLBREW_HOME = /home/njh/.perlbrew
PERLBREW_MANPATH = /home/njh/perl5/perlbrew/perls/perl-5.20.3-multi/man
PERLBREW_PATH = /home/njh/perl5/perlbrew/bin:/home/njh/perl5/perlbrew/perls/perl-5.20.3-multi/bin
PERLBREW_PERL = perl-5.20.3-multi
PERLBREW_ROOT = /home/njh/perl5/perlbrew
PERLBREW_SHELLRC_VERSION = 0.82
PERLBREW_VERSION = 0.82
SHELL = /bin/sh
TMPDIR = /tmp/testwrapper.29142
Perl special variables (and OS-specific diagnostics, for MSWin32):
$^X = /home/njh/perl5/perlbrew/perls/perl-5.20.3-multi/bin/perl
$UID/$EUID = 1000 / 1000
$GID = 1000 4 24 25 29 30 44 46 108 112 1000
$EGID = 1000 4 24 25 29 30 44 46 108 112 1000
Perl module toolchain versions installed:
Module Have
------------------- --------
CPAN 2.16
CPAN::Meta 2.150010
Cwd 3.62
ExtUtils::CBuilder 0.280230
ExtUtils::Command 7.34
ExtUtils::Install 2.14
ExtUtils::MakeMaker 7.34
ExtUtils::Manifest 1.70
ExtUtils::ParseXS 3.35
File::Spec 3.62
JSON n/a
JSON::PP 2.97000
Module::Build 0.4224
Module::Signature n/a
Parse::CPAN::Meta 2.150010
Test::Harness 3.39
Test::More 1.302120
YAML 1.24
YAML::Syck 1.30
version 0.9918
--
Summary of my perl5 (revision 5 version 20 subversion 3) configuration:
Platform:
osname=linux, osvers=4.12.0-1-amd64, archname=x86_64-linux-multi
uname='linux gateway 4.12.0-1-amd64 #1 smp debian 4.12.6-1 (2017-08-12) x86_64 gnulinux '
config_args='-de -Dprefix=/home/njh/perl5/perlbrew/perls/perl-5.20.3-multi -Dusedevel -Dusemultiplicity -Accflags= -Aeval:scriptdir=/home/njh/perl5/perlbrew/perls/perl-5.20.3-multi/bin'
hint=recommended, useposix=true, d_sigaction=define
useithreads=undef, usemultiplicity=define
use64bitint=define, use64bitall=define, uselongdouble=undef
usemymalloc=n, bincompat5005=undef
Compiler:
cc='cc', ccflags ='-fwrapv -fno-strict-aliasing -pipe -fstack-protector -I/usr/local/include -D_LARGEFILE_SOURCE -D_FILE_OFFSET_BITS=64',
optimize='-O2',
cppflags='-fwrapv -fno-strict-aliasing -pipe -fstack-protector -I/usr/local/include'
ccversion='', gccversion='7.2.0', gccosandvers=''
intsize=4, longsize=8, ptrsize=8, doublesize=8, byteorder=12345678
d_longlong=define, longlongsize=8, d_longdbl=define, longdblsize=16
ivtype='long', ivsize=8, nvtype='double', nvsize=8, Off_t='off_t', lseeksize=8
alignbytes=8, prototype=define
Linker and Libraries:
ld='cc', ldflags =' -fstack-protector -L/usr/local/lib'
libpth=/usr/local/lib /usr/lib/gcc/x86_64-linux-gnu/7/include-fixed /usr/include/x86_64-linux-gnu /usr/lib /lib/x86_64-linux-gnu /lib/../lib /usr/lib/x86_64-linux-gnu /usr/lib/../lib /lib
libs=-lpthread -lnsl -lgdbm -ldb -ldl -lm -lcrypt -lutil -lc -lgdbm_compat
perllibs=-lpthread -lnsl -ldl -lm -lcrypt -lutil -lc
libc=libc-2.24.so, so=so, useshrplib=false, libperl=libperl.a
gnulibc_version='2.24'
Dynamic Linking:
dlsrc=dl_dlopen.xs, dlext=so, d_dlsymun=undef, ccdlflags='-Wl,-E'
cccdlflags='-fPIC', lddlflags='-shared -O2 -L/usr/local/lib -fstack-protector'
Characteristics of this binary (from libperl):
Compile-time options: HAS_TIMES MULTIPLICITY PERLIO_LAYERS
PERL_DONT_CREATE_GVSV
PERL_HASH_FUNC_ONE_AT_A_TIME_HARD
PERL_IMPLICIT_CONTEXT PERL_MALLOC_WRAP
PERL_NEW_COPY_ON_WRITE PERL_PRESERVE_IVUV
PERL_USE_DEVEL USE_64_BIT_ALL USE_64_BIT_INT
USE_LARGE_FILES USE_LOCALE USE_LOCALE_COLLATE
USE_LOCALE_CTYPE USE_LOCALE_NUMERIC USE_PERLIO
USE_PERL_ATOF
Built under linux
Compiled at Sep 24 2017 15:20:04
%ENV:
PERL5LIB="/home/njh/.cpan/build/File-ShareDir-1.104-22/blib/arch:/home/njh/.cpan/build/File-ShareDir-1.104-22/blib/lib:/home/njh/.cpan/build/File-ShareDir-Install-0.13-34/blib/arch:/home/njh/.cpan/build/File-ShareDir-Install-0.13-34/blib/lib"
PERL5OPT=""
PERL5_CPANPLUS_IS_RUNNING="29152"
PERL5_CPAN_IS_RUNNING="29152"
PERLBREW_HOME="/home/njh/.perlbrew"
PERLBREW_MANPATH="/home/njh/perl5/perlbrew/perls/perl-5.20.3-multi/man"
PERLBREW_PATH="/home/njh/perl5/perlbrew/bin:/home/njh/perl5/perlbrew/perls/perl-5.20.3-multi/bin"
PERLBREW_PERL="perl-5.20.3-multi"
PERLBREW_ROOT="/home/njh/perl5/perlbrew"
PERLBREW_SHELLRC_VERSION="0.82"
PERLBREW_VERSION="0.82"
@INC:
/home/njh/.cpan/build/File-ShareDir-1.104-22/blib/arch
/home/njh/.cpan/build/File-ShareDir-1.104-22/blib/lib
/home/njh/.cpan/build/File-ShareDir-Install-0.13-34/blib/arch
/home/njh/.cpan/build/File-ShareDir-Install-0.13-34/blib/lib
/home/njh/perl5/perlbrew/perls/perl-5.20.3-multi/lib/site_perl/5.20.3/x86_64-linux-multi
/home/njh/perl5/perlbrew/perls/perl-5.20.3-multi/lib/site_perl/5.20.3
/home/njh/perl5/perlbrew/perls/perl-5.20.3-multi/lib/5.20.3/x86_64-linux-multi
/home/njh/perl5/perlbrew/perls/perl-5.20.3-multi/lib/5.20.3
.