Filter-Crypto v2.09 Perl 5 v5.16.3 MSWin32-x86-multi-thread

Status
Pass
From
Alexandr Ciornii (CHORNY)
Dist
Filter-Crypto v2.09
Platform
Perl 5 v5.16.3 MSWin32-x86-multi-thread
Date
2020-12-09 01:19:34
ID
66c154f8-6bfb-1014-b7af-cb11a240a197
This distribution has been tested as part of the CPAN Testers
project, supporting the Perl programming language.  See
http://wiki.cpantesters.org/ for more information or email
questions to cpan-testers-discuss@perl.org


--
Dear Steve Hay,

This is a computer-generated report for Filter-Crypto-2.09
on perl 5.16.3, created by CPAN-Reporter-1.2018.

Thank you for uploading your work to CPAN.  Congratulations!
All tests were successful.

Sections of this report:

    * Tester comments
    * Program output
    * Prerequisites
    * Environment and other context

------------------------------
TESTER COMMENTS
------------------------------

Additional comments from tester:

this report is from an automated smoke testing program
and was not reviewed by a human for accuracy

------------------------------
PROGRAM OUTPUT
------------------------------

Output from 'C:\strawberry163\c\bin\dmake.exe test':

C:\"strawberry163\perl\bin\perl.exe" -MExtUtils::Command::MM -e cp_nonempty -- CryptFile.bs ..\blib\arch\auto\Filter\Crypto\CryptFile\CryptFile.bs 644
C:\"strawberry163\perl\bin\perl.exe" -MExtUtils::Command::MM -e cp_nonempty -- Decrypt.bs ..\blib\arch\auto\Filter\Crypto\Decrypt\Decrypt.bs 644
C:\"strawberry163\perl\bin\perl.exe" "-MExtUtils::Command::MM" "-MTest::Harness" "-e" "undef *Test::Harness::Switches; test_harness(0, 'blib\lib', 'blib\arch')" t/*.t
t/01_imports_01.t .... ok
t/01_imports_02.t .... ok
t/01_imports_03.t .... ok
t/01_imports_04.t .... ok
t/02_function.t ...... ok
t/03_script.t ........ ok
t/04_par.t ........... skipped: PAR::Filter required to test PAR::Filter::Crypto
t/05_errstr.t ........ ok
t/06_changes.t ....... skipped: Author testing only
t/07_critic.t ........ skipped: Author testing only
t/08_pod.t ........... skipped: Author testing only
t/09_pod_coverage.t .. skipped: Author testing only
All tests successful.
Files=12, Tests=432, 52 wallclock secs ( 0.13 usr +  0.08 sys =  0.21 CPU)
Result: PASS

------------------------------
PREREQUISITES
------------------------------

Prerequisite modules loaded:

requires:

    Module                Need     Have     
    --------------------- -------- ---------
    Carp                  0        1.26     
    Config                0        0        
    constant              0        1.25     
    Cwd                   0        3.40     
    Exporter              0        5.68     
    ExtUtils::MakeMaker   6.66     7.56     
    Fcntl                 0        1.11     
    File::Basename        0        2.84     
    File::Copy            0        2.23     
    File::Find            0        1.20     
    File::Spec::Functions 0        3.40     
    File::Temp            0        0.22     
    Getopt::Long          0        2.42     
    perl                  5.008001 5.016003 
    Pod::Usage            1.15     1.63     
    Scalar::Util          0        1.38     
    strict                0        1.07     
    Text::ParseWords      0        3.28     
    Text::Wrap            0        2013.0523
    warnings              0        1.13     
    XSLoader              0        0.16     

build_requires:

    Module                Need     Have     
    --------------------- -------- ---------
    blib                  0        1.06     
    ExtUtils::MakeMaker   0        7.56     
    File::Path            0        2.09     
    FindBin               0        1.51     
    Test::More            0        1.001002 

configure_requires:

    Module                Need     Have     
    --------------------- -------- ---------
    Carp                  0        1.26     
    Config                0        0        
    constant              0        1.25     
    Cwd                   0        3.40     
    ExtUtils::MakeMaker   6.66     7.56     
    Fcntl                 0        1.11     
    File::Basename        0        2.84     
    File::Copy            0        2.23     
    File::Spec::Functions 0        3.40     
    Getopt::Long          0        2.42     
    perl                  5.008001 5.016003 
    Pod::Usage            1.15     1.63     
    strict                0        1.07     
    Text::Wrap            0        2013.0523
    warnings              0        1.13     


------------------------------
ENVIRONMENT AND OTHER CONTEXT
------------------------------

Environment variables:

    AUTOMATED_TESTING = 1
    COMSPEC = C:\WINDOWS\system32\cmd.exe
    NUMBER_OF_PROCESSORS = 1
    PATH = C:\WINDOWS\system32;C:\WINDOWS;C:\WINDOWS\System32\Wbem;C:\strawberry163\c\bin;C:\strawberry163\perl\site\bin;C:\strawberry163\perl\bin
    PERL5LIB = C:\strawberry163\cpan\build\ExtUtils-MakeMaker-7.56-0/blib/arch;C:\strawberry163\cpan\build\ExtUtils-MakeMaker-7.56-0/blib/lib
    PERL5OPT = 
    PERL5_CPANPLUS_IS_RUNNING = 1520
    PERL5_CPAN_IS_RUNNING = 1520
    PERL5_CPAN_IS_RUNNING_IN_RECURSION = 1180,1520
    PERL_CR_SMOKER_CURRENT = Filter-Crypto-2.09
    PERL_CR_SMOKER_RUNONCE = 1
    PERL_EXTUTILS_AUTOINSTALL = --defaultdeps
    PERL_MM_USE_DEFAULT = 1
    PROCESSOR_IDENTIFIER = x86 Family 18 Model 1 Stepping 0, AuthenticAMD
    TEMP = C:\DOCUME~1\c\LOCALS~1\Temp
    TERM = dumb

Perl special variables (and OS-specific diagnostics, for MSWin32):

    $^X = C:\strawberry163\perl\bin\perl.exe
    $UID/$EUID = 0 / 0
    $GID = 0
    $EGID = 0
    Win32::GetOSName = WinXP/.Net
    Win32::GetOSVersion = Service Pack 3, 5, 1, 2600, 2, 3, 0, 256, 1
    Win32::FsType = NTFS
    Win32::IsAdminUser = 1

Perl module toolchain versions installed:

    Module              Have    
    ------------------- --------
    CPAN                2.16    
    CPAN::Meta          2.143240
    Cwd                 3.40    
    ExtUtils::CBuilder  0.280206
    ExtUtils::Command   7.56    
    ExtUtils::Install   2.06    
    ExtUtils::MakeMaker 7.56    
    ExtUtils::Manifest  1.70    
    ExtUtils::ParseXS   3.24    
    File::Spec          3.40    
    JSON                2.90    
    JSON::PP            2.27203 
    Module::Build       0.4205  
    Module::Signature   0.70    
    Parse::CPAN::Meta   1.4414  
    Test::Harness       3.30    
    Test::More          1.001002
    YAML                0.90    
    YAML::Syck          1.24    
    version             0.9902  


--

Summary of my perl5 (revision 5 version 16 subversion 3) configuration:
   
  Platform:
    osname=MSWin32, osvers=4.0, archname=MSWin32-x86-multi-thread
    uname='Win32 strawberry-perl 5.16.3.1 #1 Tue Mar 12 13:55:20 2013 i386'
    config_args='undef'
    hint=recommended, useposix=true, d_sigaction=undef
    useithreads=define, usemultiplicity=define
    useperlio=define, d_sfio=undef, uselargefiles=define, usesocks=undef
    use64bitint=undef, use64bitall=undef, uselongdouble=undef
    usemymalloc=n, bincompat5005=undef
  Compiler:
    cc='gcc', ccflags =' -s -O2 -DWIN32  -DPERL_TEXTMODE_SCRIPTS -DPERL_IMPLICIT_CONTEXT -DPERL_IMPLICIT_SYS -fno-strict-aliasing -mms-bitfields',
    optimize='-s -O2',
    cppflags='-DWIN32'
    ccversion='', gccversion='4.6.3', gccosandvers=''
    intsize=4, longsize=4, ptrsize=4, doublesize=8, byteorder=1234
    d_longlong=undef, longlongsize=8, d_longdbl=define, longdblsize=12
    ivtype='long', ivsize=4, nvtype='double', nvsize=8, Off_t='long long', lseeksize=8
    alignbytes=8, prototype=define
  Linker and Libraries:
    ld='g++', ldflags ='-s -L"C:\strawberry163\perl\lib\CORE" -L"C:\strawberry163\c\lib"'
    libpth=C:\strawberry163\c\lib C:\strawberry163\c\i686-w64-mingw32\lib
    libs=-lmoldname -lkernel32 -luser32 -lgdi32 -lwinspool -lcomdlg32 -ladvapi32 -lshell32 -lole32 -loleaut32 -lnetapi32 -luuid -lws2_32 -lmpr -lwinmm -lversion -lodbc32 -lodbccp32 -lcomctl32
    perllibs=-lmoldname -lkernel32 -luser32 -lgdi32 -lwinspool -lcomdlg32 -ladvapi32 -lshell32 -lole32 -loleaut32 -lnetapi32 -luuid -lws2_32 -lmpr -lwinmm -lversion -lodbc32 -lodbccp32 -lcomctl32
    libc=, so=dll, useshrplib=true, libperl=libperl516.a
    gnulibc_version=''
  Dynamic Linking:
    dlsrc=dl_win32.xs, dlext=dll, d_dlsymun=undef, ccdlflags=' '
    cccdlflags=' ', lddlflags='-mdll -s -L"C:\strawberry163\perl\lib\CORE" -L"C:\strawberry163\c\lib"'


Characteristics of this binary (from libperl): 
  Compile-time options: HAS_TIMES HAVE_INTERP_INTERN MULTIPLICITY
                        PERLIO_LAYERS PERL_DONT_CREATE_GVSV
                        PERL_IMPLICIT_CONTEXT PERL_IMPLICIT_SYS
                        PERL_MALLOC_WRAP PERL_PRESERVE_IVUV PL_OP_SLAB_ALLOC
                        USE_ITHREADS USE_LARGE_FILES USE_LOCALE
                        USE_LOCALE_COLLATE USE_LOCALE_CTYPE
                        USE_LOCALE_NUMERIC USE_PERLIO USE_PERL_ATOF
  Built under MSWin32
  Compiled at Mar 12 2013 14:01:07
  %ENV:
    PERL5LIB="C:\strawberry163\cpan\build\ExtUtils-MakeMaker-7.56-0/blib/arch;C:\strawberry163\cpan\build\ExtUtils-MakeMaker-7.56-0/blib/lib"
    PERL5_CPANPLUS_IS_RUNNING="1520"
    PERL5_CPAN_IS_RUNNING="1520"
    PERL5_CPAN_IS_RUNNING_IN_RECURSION="1180,1520"
    PERL_CR_SMOKER_CURRENT="Filter-Crypto-2.09"
    PERL_CR_SMOKER_RUNONCE="1"
    PERL_EXTUTILS_AUTOINSTALL="--defaultdeps"
    PERL_MM_USE_DEFAULT="1"
  @INC:
    C:\strawberry163\cpan\build\ExtUtils-MakeMaker-7.56-0/blib/arch
    C:\strawberry163\cpan\build\ExtUtils-MakeMaker-7.56-0/blib/lib
    C:/strawberry163/perl/site/lib
    C:/strawberry163/perl/vendor/lib
    C:/strawberry163/perl/lib
    .