Lab-Measurement v3.931 Perl 5 v5.20.0 x86_64-linux

Status
Pass
From
Slaven Rezić
Dist
Lab-Measurement v3.931
Platform
Perl 5 v5.20.0 x86_64-linux
Date
2025-05-06 17:06:07
ID
66c29b5a-2a9c-11f0-9752-a23b6e8775ea
This distribution has been tested as part of the CPAN Testers
project, supporting the Perl programming language.  See
http://wiki.cpantesters.org/ for more information or email
questions to cpan-testers-discuss@perl.org


--
Dear Andreas K. Huettel,

This is a computer-generated report for Lab-Measurement-3.931
on perl 5.20.0, created by CPAN-Reporter-1.2018.

Thank you for uploading your work to CPAN.  Congratulations!
All tests were successful.

Sections of this report:

    * Tester comments
    * Program output
    * Prerequisites
    * Environment and other context

------------------------------
TESTER COMMENTS
------------------------------

Additional comments from tester:

none provided

------------------------------
PROGRAM OUTPUT
------------------------------

Output from '/usr/bin/make test':

PERL_DL_NONLAZY=1 "/opt/perl-5.20.0/bin/perl" "-MExtUtils::Command::MM" "-MTest::Harness" "-e" "undef *Test::Harness::Switches; test_harness(0, 'blib/lib', 'blib/arch')" t/*.t t/Lab/Test/*.t t/Moose/*.t t/Moose/Connection/*.t t/Moose/DataFile/*.t t/Moose/DataFile/Gnuplot/*.t t/Moose/Instrument/*.t t/Moose/Instrument/OI_Mercury/*.t
# checking installed modules
# not using PDL::Graphics::Gnuplot
# using PDL::IO::CSV
# not using USB::TMC
# not using Lab::VXI11
# not using LinuxGpib
# not using Lab::Zhinst
Can't locate package AutoLoader for @Math::Round::ISA at /opt/perl-5.20.0/lib/5.20.0/Module/Load.pm line 91.
# using Math::Round
# not using Lab::VISA
# not using sys/ioctl.ph
# not using linux/usb/tmc.ph
# trying to load Lab/Moose.pm ...
Too late to run INIT block at /home/cpansand/.cpan/build/2025050619/Lab-Measurement-3.931-0/blib/lib/Lab/Moose.pm line 157.
# trying to load Lab/Moose/Catfile.pm ...
# trying to load Lab/Moose/Instrument.pm ...
# trying to load Lab/Moose/Connection.pm ...
# trying to load Lab/Moose/DataFolder.pm ...
# trying to load Lab/Moose/Countdown.pm ...
# trying to load Lab/Moose/DataFile.pm ...
# trying to load Lab/Moose/Stabilizer.pm ...
# trying to load Lab/Moose/Sweep.pm ...
# trying to load Lab/Moose/Sweep/Continuous.pm ...
# trying to load Lab/Moose/Sweep/DataFile.pm ...
# trying to load Lab/Moose/Sweep/Step.pm ...
# trying to load Lab/Moose/Sweep/Continuous/Magnet.pm ...
# trying to load Lab/Moose/Sweep/Continuous/Time.pm ...
# trying to load Lab/Moose/Sweep/Continuous/Voltage.pm ...
# trying to load Lab/Moose/Sweep/Step/Pulsedelay.pm ...
# trying to load Lab/Moose/Sweep/Step/Phase.pm ...
# trying to load Lab/Moose/Sweep/Step/Pulsewidth.pm ...
# trying to load Lab/Moose/Sweep/Step/Repeat.pm ...
# trying to load Lab/Moose/Sweep/Step/Frequency.pm ...
# trying to load Lab/Moose/Sweep/Step/Magnet.pm ...
# trying to load Lab/Moose/Sweep/Step/Temperature.pm ...
# trying to load Lab/Moose/Sweep/Step/Power.pm ...
# trying to load Lab/Moose/Sweep/Step/Voltage.pm ...
# trying to load Lab/Moose/DataFile/Meta.pm ...
# trying to load Lab/Moose/DataFile/Read.pm ...
# trying to load Lab/Moose/DataFile/Gnuplot/Compressed.pm ...
# trying to load Lab/Moose/Instrument/HP3458A.pm ...
# trying to load Lab/Moose/Instrument/ProStep4.pm ...
# trying to load Lab/Moose/Instrument/RS_ZVM.pm ...
# trying to load Lab/Moose/Instrument/ZI_HDAWG.pm ...
# trying to load Lab/Moose/Instrument/TBS1000C.pm ...
# trying to load Lab/Moose/Instrument/Keithley2400.pm ...
# trying to load Lab/Moose/Instrument/Keithley2450.pm ...
# trying to load Lab/Moose/Instrument/OI_Common.pm ...
# trying to load Lab/Moose/Instrument/Agilent33120A.pm ...
# trying to load Lab/Moose/Instrument/HP33120A.pm ...
# trying to load Lab/Moose/Instrument/KeysightDSOS604A.pm ...
# trying to load Lab/Moose/Instrument/NanonisTramea.pm ...
# trying to load Lab/Moose/Instrument/OI_IPS.pm ...
# trying to load Lab/Moose/Instrument/Keysight34470A.pm ...
# trying to load Lab/Moose/Instrument/DummySource.pm ...
# trying to load Lab/Moose/Instrument/Yokogawa7651.pm ...
# trying to load Lab/Moose/Instrument/KeysightB2901A.pm ...
# trying to load Lab/Moose/Instrument/Keithley2000.pm ...
# trying to load Lab/Moose/Instrument/ZI_HF2LI.pm ...
# trying to load Lab/Moose/Instrument/KeysightE3633E.pm ...
# trying to load Lab/Moose/Instrument/Agilent33210A.pm ...
# trying to load Lab/Moose/Instrument/HP34420A.pm ...
# trying to load Lab/Moose/Instrument/OI_ILM210.pm ...
# trying to load Lab/Moose/Instrument/Lakeshore350.pm ...
# trying to load Lab/Moose/Instrument/RS_SMB.pm ...
# trying to load Lab/Moose/Instrument/ZI_MFIA.pm ...
# trying to load Lab/Moose/Instrument/Synctek_MCL1_540.pm ...
# trying to load Lab/Moose/Instrument/AMI_430.pm ...
# trying to load Lab/Moose/Instrument/OI_ITC503.pm ...
# trying to load Lab/Moose/Instrument/RS_ZNL.pm ...
# trying to load Lab/Moose/Instrument/HP83732A.pm ...
# trying to load Lab/Moose/Instrument/SCPIBlock.pm ...
# trying to load Lab/Moose/Instrument/Keysight33600.pm ...
# trying to load Lab/Moose/Instrument/RS_ZVA.pm ...
# trying to load Lab/Moose/Instrument/Log.pm ...
# trying to load Lab/Moose/Instrument/Agilent34460A.pm ...
# trying to load Lab/Moose/Instrument/AH2700A.pm ...
# trying to load Lab/Moose/Instrument/HP34410A.pm ...
# trying to load Lab/Moose/Instrument/SR830.pm ...
# trying to load Lab/Moose/Instrument/VNASweep.pm ...
# trying to load Lab/Moose/Instrument/Common.pm ...
# trying to load Lab/Moose/Instrument/Cryomagnetics_4G.pm ...
# trying to load Lab/Moose/Instrument/Agilent34410A.pm ...
# trying to load Lab/Moose/Instrument/SignalRecovery7265.pm ...
Useless use of multiplication (*) in void context at /home/cpansand/.cpan/build/2025050619/Lab-Measurement-3.931-0/blib/lib/Lab/Moose/Instrument/SignalRecovery7265.pm line 1201.
# trying to load Lab/Moose/Instrument/ZI_MFLI.pm ...
# trying to load Lab/Moose/Instrument/Rigol_DG5000.pm ...
# trying to load Lab/Moose/Instrument/AdjustRange.pm ...
# trying to load Lab/Moose/Instrument/AttoCube_AMC.pm ...
# trying to load Lab/Moose/Instrument/Bluefors_Temp.pm ...
# trying to load Lab/Moose/Instrument/ABB_TRMC2.pm ...
The ABB_TRMC2 driver is untested so far. Feedback welcome... at t/00-load.t line 121.
# trying to load Lab/Moose/Instrument/Lakeshore372.pm ...
# trying to load Lab/Moose/Instrument/Cache.pm ...
# trying to load Lab/Moose/Instrument/LinearStepSweep.pm ...
# trying to load Lab/Moose/Instrument/OI_Triton.pm ...
# trying to load Lab/Moose/Instrument/KeysightN9310A.pm ...
# trying to load Lab/Moose/Instrument/YokogawaGS200.pm ...
# trying to load Lab/Moose/Instrument/RS_FSV.pm ...
# trying to load Lab/Moose/Instrument/Lakeshore340.pm ...
# trying to load Lab/Moose/Instrument/RS_RTB2000.pm ...
# trying to load Lab/Moose/Instrument/OI_Mercury/Magnet.pm ...
# trying to load Lab/Moose/Instrument/SCPI/Unit.pm ...
# trying to load Lab/Moose/Instrument/SCPI/Initiate.pm ...
# trying to load Lab/Moose/Instrument/SCPI/Instrument.pm ...
# trying to load Lab/Moose/Instrument/SCPI/Format.pm ...
# trying to load Lab/Moose/Instrument/SCPI/Sense/NPLC.pm ...
# trying to load Lab/Moose/Instrument/SCPI/Sense/Protection.pm ...
# trying to load Lab/Moose/Instrument/SCPI/Sense/Frequency.pm ...
# trying to load Lab/Moose/Instrument/SCPI/Sense/Null.pm ...
# trying to load Lab/Moose/Instrument/SCPI/Sense/Range.pm ...
# trying to load Lab/Moose/Instrument/SCPI/Sense/Impedance.pm ...
# trying to load Lab/Moose/Instrument/SCPI/Sense/Power.pm ...
# trying to load Lab/Moose/Instrument/SCPI/Sense/Average.pm ...
# trying to load Lab/Moose/Instrument/SCPI/Sense/Sweep.pm ...
# trying to load Lab/Moose/Instrument/SCPI/Sense/Bandwidth.pm ...
# trying to load Lab/Moose/Instrument/SCPI/Sense/Function.pm ...
# trying to load Lab/Moose/Instrument/SCPI/Sense/Function/Concurrent.pm ...
# trying to load Lab/Moose/Instrument/SCPI/Source/Range.pm ...
# trying to load Lab/Moose/Instrument/SCPI/Source/Power.pm ...
# trying to load Lab/Moose/Instrument/SCPI/Source/Function.pm ...
# trying to load Lab/Moose/Instrument/SCPI/Source/Level.pm ...
# trying to load Lab/Moose/Instrument/SCPI/Output/State.pm ...
# trying to load Lab/Moose/Instrument/SCPI/Display/Window.pm ...
# trying to load Lab/Moose/Instrument/Lakeshore340/Helium3.pm ...
# trying to load Lab/Moose/Instrument/OI_IPS/Strunk_3He.pm ...
# trying to load Lab/Moose/Connection/Mock.pm ...
# trying to load Lab/Moose/Connection/IsoBus.pm ...
# trying to load Lab/Moose/Connection/HTTP.pm ...
# trying to load Lab/Moose/Connection/Debug.pm ...
# trying to load Lab/Moose/Connection/Socket.pm ...
# trying to load Lab/Moose/Connection/WWW.pm ...
t/00-load.t ............................. ok
# 
# Versions for all modules listed in MYMETA.json (including optional ones):
# 
# === Configure Requires ===
# 
#     Module              Want Have
#     ------------------- ---- ----
#     ExtUtils::MakeMaker  any 7.24
# 
# === Build Requires ===
# 
#     Module              Want Have
#     ------------------- ---- ----
#     ExtUtils::MakeMaker  any 7.24
# 
# === Test Requires ===
# 
#     Module                      Want     Have
#     ----------------------- -------- --------
#     ExtUtils::MakeMaker          any     7.24
#     File::Find                   any     1.27
#     File::Glob                   any     1.23
#     File::Slurper                any    0.009
#     File::Spec                   any     3.62
#     File::Spec::Functions        any     3.62
#     File::Temp                   any   0.2304
#     Getopt::Long                 any     2.49
#     IO::Uncompress::Bunzip2      any    2.064
#     PDL::Ufunc                   any    undef
#     Test::Builder::Module        any 1.302209
#     Test::Fatal                  any    0.014
#     Test::File                   any     1.44
#     Test::More              1.001014 1.302209
#     Test::Tester                 any 1.302209
#     Text::Diff                   any     1.44
#     aliased                      any     0.34
#     lib                          any     0.63
#     parent                       any    0.234
# 
# === Test Recommends ===
# 
#     Module         Want     Have
#     ---------- -------- --------
#     CPAN::Meta 2.120900 2.150010
# 
# === Runtime Requires ===
# 
#     Module                           Want     Have
#     ---------------------------- -------- --------
#     Carp                              any     1.38
#     Class::Method::Modifiers         2.11     2.12
#     Clone                            0.31     0.38
#     Data::Dumper                      any    2.161
#     DateTime                          any     1.36
#     Encode                            any     2.85
#     Exception::Class                  1.0     1.40
#     Exporter                          any     5.70
#     Fcntl                             any     1.11
#     File::Basename                    any     2.85
#     File::Copy                        any     2.29
#     File::Path                        any     2.12
#     HTTP::Request                     any     6.11
#     IO::Handle                        any     1.35
#     IO::Select                        any     1.22
#     IO::Socket::INET                  any     1.35
#     JSON::PP                          any  2.27400
#     LWP::Simple                       any     6.15
#     LWP::UserAgent                    any     6.15
#     List::MoreUtils                   any    0.416
#     List::Util                        any     1.53
#     Math::Round                       any     0.07
#     Module::Load                     0.26     0.32
#     Moose                          2.1213   2.1805
#     Moose::Role                       any   2.1805
#     Moose::Util::TypeConstraints      any   2.1805
#     MooseX::Params::Validate         0.18     0.21
#     MooseX::StrictConstructor         any     0.19
#     Net::RFC3161::Timestamp           any    0.020
#     PDL                             2.007    2.016
#     PDL::Core                         any    2.016
#     PDL::IO::CSV                      any    0.011
#     PDL::NiceSlice                    any    1.001
#     POSIX                             any  1.38_03
#     Role::Tiny                   1.003004 2.000003
#     Scalar::Util                      any     1.53
#     Socket                            any    2.023
#     Statistics::Descriptive           any   3.0612
#     Sys::Hostname                     any     1.18
#     Term::ReadKey                    2.30     2.33
#     Test::More                   1.001014 1.302209
#     Tie::IxHash                       any     1.23
#     Time::HiRes                       any   1.9739
#     Time::Seconds                     any     1.31
#     Try::Tiny                        0.22     0.27
#     YAML::XS                         0.41     0.62
#     constant                          any     1.33
#     integer                           any     1.01
#     namespace::autoclean             0.20     0.28
#     strict                            any     1.08
#     utf8                              any     1.13
#     warnings                          any     1.23
# 
t/00-report-prereqs.t ................... ok
t/Dataset.t ............................. skipped: known to fail
t/Lab/Test/test.t ....................... ok
t/Meta.t ................................ skipped: known to fail
t/Moose/Connection/Socket.t ............. ok
t/Moose/DataFile/Gnuplot.t .............. skipped: test requires PDL::Graphics::Gnuplot
t/Moose/DataFile/Gnuplot/Compressed.t ... ok
t/Moose/DataFile/Read.t ................. ok
t/Moose/DataFolder.t .................... ok
Use of uninitialized value in string ne at /home/cpansand/.cpan/build/2025050619/Lab-Measurement-3.931-0/blib/lib/Lab/Moose/Instrument.pm line 141.
t/Moose/Instrument/base.t ............... ok
t/Moose/Instrument/DummySource.t ........ ok
t/Moose/Instrument/HP34410A.t ........... ok
t/Moose/Instrument/HP34420A.t ........... ok
t/Moose/Instrument/HP8596E.t ............ skipped: test requires PDL::Graphics::Gnuplot
t/Moose/Instrument/HPE4400B.t ........... skipped: test requires PDL::Graphics::Gnuplot
t/Moose/Instrument/Keithley2400.t ....... ok
t/Moose/Instrument/KeysightB2901A.t ..... ok
t/Moose/Instrument/OI_Mercury/Magnet.t .. ok
t/Moose/Instrument/Rigol_DSA815.t ....... skipped: test requires PDL::Graphics::Gnuplot
setting data format: REAL, 32 at /home/cpansand/.cpan/build/2025050619/Lab-Measurement-3.931-0/blib/lib/Lab/Moose/Instrument/RS_FSV.pm line 66.
t/Moose/Instrument/RS_FSV.t ............. ok
t/Moose/Instrument/RS_SMB.t ............. ok
setting data format: REAL, 32 at /home/cpansand/.cpan/build/2025050619/Lab-Measurement-3.931-0/blib/lib/Lab/Moose/Instrument/VNASweep.pm line 119.
t/Moose/Instrument/RS_ZVA.t ............. ok
setting data format: REAL, 32 at /home/cpansand/.cpan/build/2025050619/Lab-Measurement-3.931-0/blib/lib/Lab/Moose/Instrument/VNASweep.pm line 119.
t/Moose/Instrument/RS_ZVM.t ............. ok
t/Moose/Instrument/SR830.t .............. ok
t/Moose/Instrument/YokogawaGS200.t ...... ok
t/Moose/Instrument/ZI_MFIA.t ............ ok
t/Moose/Instrument/ZI_MFLI.t ............ ok
Name "PDL::Graphics::Gnuplot::gp_version" used only once: possible typo at t/Moose/Plot.t line 30.
t/Moose/Plot.t .......................... skipped: test requires PDL::Graphics::Gnuplot
t/Moose/Stabilizer.t .................... ok
t/Moose/Sweep-Continuous-Time.t ......... ok
Going to sweep start:
Setpoint: 0
Rate: 2
 at t/Moose/Sweep-Continuous-Voltage.t line 77.
Starting sweep
Setpoint: 10.5
Rate: 2
 at t/Moose/Sweep-Continuous-Voltage.t line 77.
Starting sweep
Setpoint: 0
Rate: 5
 at t/Moose/Sweep-Continuous-Voltage.t line 77.
t/Moose/Sweep-Continuous-Voltage.t ...... ok
t/Moose/Sweep-Plot.t .................... skipped: test requires PDL::Graphics::Gnuplot
dir: /var/tmp/cpansmoker-1023/2025050619/btTo9Gyvxx/sweep
t/Moose/Sweep.t ......................... ok
All tests successful.
Files=34, Tests=592, 39 wallclock secs ( 0.08 usr  0.09 sys + 11.58 cusr  1.45 csys = 13.20 CPU)
Result: PASS

------------------------------
PREREQUISITES
------------------------------

Prerequisite modules loaded:

requires:

    Module                       Need     Have    
    ---------------------------- -------- --------
    Carp                         0        1.38    
    Class::Method::Modifiers     2.11     2.12    
    Clone                        0.31     0.38    
    constant                     0        1.33    
    Data::Dumper                 0        2.161   
    DateTime                     0        1.36    
    Encode                       0        2.85    
    Exception::Class             1.0      1.40    
    Exporter                     0        5.70    
    Fcntl                        0        1.11    
    File::Basename               0        2.85    
    File::Copy                   0        2.29    
    File::Path                   0        2.12    
    HTTP::Request                0        6.11    
    integer                      0        1.01    
    IO::Handle                   0        1.35    
    IO::Select                   0        1.22    
    IO::Socket::INET             0        1.35    
    JSON::PP                     0        2.27400 
    List::MoreUtils              0        0.416   
    List::Util                   0        1.53    
    LWP::Simple                  0        6.15    
    LWP::UserAgent               0        6.15    
    Math::Round                  0        0.07    
    Module::Load                 0.26     0.32    
    Moose                        2.1213   2.1805  
    Moose::Role                  0        2.1805  
    Moose::Util::TypeConstraints 0        2.1805  
    MooseX::Params::Validate     0.18     0.21    
    MooseX::StrictConstructor    0        0.19    
    namespace::autoclean         0.20     0.28    
    Net::RFC3161::Timestamp      0        0.020   
    PDL                          2.007    2.016   
    PDL::Core                    0        2.016   
    PDL::IO::CSV                 0        0.011   
    PDL::NiceSlice               0        1.001   
    perl                         5.020000 5.020000
    POSIX                        0        1.38_03 
    Role::Tiny                   1.003004 2.000003
    Scalar::Util                 0        1.53    
    Socket                       0        2.023   
    Statistics::Descriptive      0        3.0612  
    strict                       0        1.08    
    Sys::Hostname                0        1.18    
    Term::ReadKey                2.30     2.33    
    Test::More                   1.001014 1.302209
    Tie::IxHash                  0        1.23    
    Time::HiRes                  0        1.9739  
    Time::Seconds                0        1.31    
    Try::Tiny                    0.22     0.27    
    utf8                         0        1.13    
    warnings                     0        1.23    
    YAML::XS                     0.41     0.62    

build_requires:

    Module                       Need     Have    
    ---------------------------- -------- --------
    aliased                      0        0.34    
    ExtUtils::MakeMaker          0        7.24    
    File::Find                   0        1.27    
    File::Glob                   0        1.23    
    File::Slurper                0        0.009   
    File::Spec                   0        3.62    
    File::Spec::Functions        0        3.62    
    File::Temp                   0        0.2304  
    Getopt::Long                 0        2.49    
    IO::Uncompress::Bunzip2      0        2.064   
    lib                          0        0.63    
    parent                       0        0.234   
    PDL::Ufunc                   0        0       
    Test::Builder::Module        0        1.302209
    Test::Fatal                  0        0.014   
    Test::File                   0        1.44    
    Test::More                   1.001014 1.302209
    Test::Tester                 0        1.302209
    Text::Diff                   0        1.44    

configure_requires:

    Module                       Need     Have    
    ---------------------------- -------- --------
    ExtUtils::MakeMaker          0        7.24    


------------------------------
ENVIRONMENT AND OTHER CONTEXT
------------------------------

Environment variables:

    LANG = en_US.UTF-8
    LANGUAGE = en_US:en
    LC_ALL = en_US.UTF-8
    PATH = /usr/local/bin:/usr/bin:/bin:/usr/local/sbin:/usr/sbin:/sbin:/home/cpansand/bin/linux-gnu:/home/cpansand/bin/sh:/home/cpansand/bin:/usr/games:/home/cpansand/devel:/home/eserte/src/srezic-misc/scripts
    PERL5LIB = /home/cpansand/.cpan/build/2025050619/PDL-IO-CSV-0.011-0/blib/arch:/home/cpansand/.cpan/build/2025050619/PDL-IO-CSV-0.011-0/blib/lib:/home/cpansand/.cpan/build/2025050619/Net-RFC3161-Timestamp-0.020-0/blib/arch:/home/cpansand/.cpan/build/2025050619/Net-RFC3161-Timestamp-0.020-0/blib/lib:/home/cpansand/.cpan/build/2025050619/Alien-OpenSSL-0.15-0/blib/arch:/home/cpansand/.cpan/build/2025050619/Alien-OpenSSL-0.15-0/blib/lib
    PERL5OPT = 
    PERL5_CPANPLUS_IS_RUNNING = 15636
    PERL5_CPAN_IS_RUNNING = 15636
    PERL5_CPAN_IS_RUNNING_IN_RECURSION = 15258,15636
    PERLDOC = -MPod::Perldoc::ToTextOverstrike
    PERL_BATCH = yes
    PERL_CANARY_STABILITY_NOPROMPT = 1
    PERL_CPAN_REPORTER_CONFIG = /var/tmp/cpansmoker-1023/2025050619/cpanreporter_000_config.ini
    PERL_EXTUTILS_AUTOINSTALL = --defaultdeps
    PERL_USE_UNSAFE_INC = 1
    SHELL = /bin/zsh
    TERM = screen
    TMPDIR = /var/tmp/cpansmoker-1023/2025050619

Perl special variables (and OS-specific diagnostics, for MSWin32):

    $^X = /opt/perl-5.20.0/bin/perl
    $UID/$EUID = 1023 / 1023
    $GID = 1023 1023
    $EGID = 1023 1023

Perl module toolchain versions installed:

    Module              Have    
    ------------------- --------
    CPAN                2.16    
    CPAN::Meta          2.150010
    Cwd                 3.62    
    ExtUtils::CBuilder  0.280216
    ExtUtils::Command   7.24    
    ExtUtils::Install   1.67    
    ExtUtils::MakeMaker 7.24    
    ExtUtils::Manifest  1.70    
    ExtUtils::ParseXS   3.51    
    File::Spec          3.62    
    JSON                2.90    
    JSON::PP            2.27400 
    Module::Build       0.4220  
    Module::Signature   0.81    
    Parse::CPAN::Meta   2.150010
    Test::Harness       3.30    
    Test::More          1.302209
    YAML                1.17    
    YAML::Syck          1.29    
    version             0.9917  


--

Summary of my perl5 (revision 5 version 20 subversion 0) configuration:
   
  Platform:
    osname=linux, osvers=3.2.0-4-amd64, archname=x86_64-linux
    uname='linux cvrsnica-wheezy 3.2.0-4-amd64 #1 smp debian 3.2.54-2 x86_64 gnulinux '
    config_args='-ds -e -Dprefix=/opt/perl-5.20.0'
    hint=recommended, useposix=true, d_sigaction=define
    useithreads=undef, usemultiplicity=undef
    use64bitint=define, use64bitall=define, uselongdouble=undef
    usemymalloc=n, bincompat5005=undef
  Compiler:
    cc='cc', ccflags ='-fwrapv -fno-strict-aliasing -pipe -fstack-protector -I/usr/local/include -D_LARGEFILE_SOURCE -D_FILE_OFFSET_BITS=64',
    optimize='-O2',
    cppflags='-fwrapv -fno-strict-aliasing -pipe -fstack-protector -I/usr/local/include'
    ccversion='', gccversion='4.7.2', gccosandvers=''
    intsize=4, longsize=8, ptrsize=8, doublesize=8, byteorder=12345678
    d_longlong=define, longlongsize=8, d_longdbl=define, longdblsize=16
    ivtype='long', ivsize=8, nvtype='double', nvsize=8, Off_t='off_t', lseeksize=8
    alignbytes=8, prototype=define
  Linker and Libraries:
    ld='cc', ldflags =' -fstack-protector -L/usr/local/lib'
    libpth=/usr/local/lib /usr/lib/gcc/x86_64-linux-gnu/4.7/include-fixed /usr/include/x86_64-linux-gnu /usr/lib /lib/x86_64-linux-gnu /lib/../lib /usr/lib/x86_64-linux-gnu /usr/lib/../lib /lib
    libs=-lnsl -ldb -ldl -lm -lcrypt -lutil -lc
    perllibs=-lnsl -ldl -lm -lcrypt -lutil -lc
    libc=libc-2.13.so, so=so, useshrplib=false, libperl=libperl.a
    gnulibc_version='2.13'
  Dynamic Linking:
    dlsrc=dl_dlopen.xs, dlext=so, d_dlsymun=undef, ccdlflags='-Wl,-E'
    cccdlflags='-fPIC', lddlflags='-shared -O2 -L/usr/local/lib -fstack-protector'


Characteristics of this binary (from libperl): 
  Compile-time options: HAS_TIMES PERLIO_LAYERS PERL_DONT_CREATE_GVSV
                        PERL_HASH_FUNC_ONE_AT_A_TIME_HARD PERL_MALLOC_WRAP
                        PERL_NEW_COPY_ON_WRITE PERL_PRESERVE_IVUV
                        USE_64_BIT_ALL USE_64_BIT_INT USE_LARGE_FILES
                        USE_LOCALE USE_LOCALE_COLLATE USE_LOCALE_CTYPE
                        USE_LOCALE_NUMERIC USE_PERLIO USE_PERL_ATOF
  Built under linux
  Compiled at Jul 19 2014 07:43:18
  %ENV:
    PERL5LIB="/home/cpansand/.cpan/build/2025050619/PDL-IO-CSV-0.011-0/blib/arch:/home/cpansand/.cpan/build/2025050619/PDL-IO-CSV-0.011-0/blib/lib:/home/cpansand/.cpan/build/2025050619/Net-RFC3161-Timestamp-0.020-0/blib/arch:/home/cpansand/.cpan/build/2025050619/Net-RFC3161-Timestamp-0.020-0/blib/lib:/home/cpansand/.cpan/build/2025050619/Alien-OpenSSL-0.15-0/blib/arch:/home/cpansand/.cpan/build/2025050619/Alien-OpenSSL-0.15-0/blib/lib"
    PERL5OPT=""
    PERL5_CPANPLUS_IS_RUNNING="15636"
    PERL5_CPAN_IS_RUNNING="15636"
    PERL5_CPAN_IS_RUNNING_IN_RECURSION="15258,15636"
    PERLDOC="-MPod::Perldoc::ToTextOverstrike"
    PERL_BATCH="yes"
    PERL_CANARY_STABILITY_NOPROMPT="1"
    PERL_CPAN_REPORTER_CONFIG="/var/tmp/cpansmoker-1023/2025050619/cpanreporter_000_config.ini"
    PERL_EXTUTILS_AUTOINSTALL="--defaultdeps"
    PERL_USE_UNSAFE_INC="1"
  @INC:
    /home/cpansand/.cpan/build/2025050619/PDL-IO-CSV-0.011-0/blib/arch
    /home/cpansand/.cpan/build/2025050619/PDL-IO-CSV-0.011-0/blib/lib
    /home/cpansand/.cpan/build/2025050619/Net-RFC3161-Timestamp-0.020-0/blib/arch
    /home/cpansand/.cpan/build/2025050619/Net-RFC3161-Timestamp-0.020-0/blib/lib
    /home/cpansand/.cpan/build/2025050619/Alien-OpenSSL-0.15-0/blib/arch
    /home/cpansand/.cpan/build/2025050619/Alien-OpenSSL-0.15-0/blib/lib
    /opt/perl-5.20.0/lib/site_perl/5.20.0/x86_64-linux
    /opt/perl-5.20.0/lib/site_perl/5.20.0
    /opt/perl-5.20.0/lib/5.20.0/x86_64-linux
    /opt/perl-5.20.0/lib/5.20.0
    .