Report for MRS-Client-1.0.1

Back
From: metabase:user:30ae4450-2aae-11df-837a-5e0a49663a4f
Subject: PASS MRS-Client-1.0.1 v5.12.2 
Date: 2014-08-12T11:59:31Z

This distribution has been tested as part of the CPAN Testers
project, supporting the Perl programming language.  See
http://wiki.cpantesters.org/ for more information or email
questions to cpan-testers-discuss@perl.org


--
Dear Martin Senger,

This is a computer-generated report for MRS-Client-1.0.1
on perl 5.12.2, created by CPAN-Reporter-1.2011.

Thank you for uploading your work to CPAN.  Congratulations!
All tests were successful.

Sections of this report:

    * Tester comments
    * Program output
    * Prerequisites
    * Environment and other context

------------------------------
TESTER COMMENTS
------------------------------

Additional comments from tester:

this report is from an automated smoke testing program
and was not reviewed by a human for accuracy

------------------------------
PROGRAM OUTPUT
------------------------------

Output from 'C:\strawberry\c\bin\dmake.EXE test':

C:\strawberry\perl\bin\perl.exe "-MExtUtils::Command::MM" "-MTest::Harness" "-e" "undef *Test::Harness::Switches; test_harness(0, 'blib\lib', 'blib\arch')" t/*.t
t/00-compile.t .......... ok
# Testing MRS::Client 1.0.1, Perl v5.12.2, C:\strawberry\perl\bin\perl.exe
t/00-load.t ............. ok
# Data manipulation
t/01-data.t ............. ok
# Setting host and endpoints
t/02-endpoint.t ......... ok
t/03-network.t .......... skipped: these tests are for testing by the author (when AUTHOR_TESTING=1)
# Manipulation of hyperlinks
t/04-links.t ............ ok
t/author-critic.t ....... skipped: these tests are for testing by the author
t/author-pod-spell.t .... skipped: these tests are for testing by the author
t/release-eol.t ......... skipped: these tests are for release candidate testing
t/release-no-tabs.t ..... skipped: these tests are for release candidate testing
t/release-pod-syntax.t .. skipped: these tests are for release candidate testing
All tests successful.
Files=11, Tests=113,  5 wallclock secs ( 0.02 usr +  0.06 sys =  0.08 CPU)
Result: PASS

------------------------------
PREREQUISITES
------------------------------

Prerequisite modules loaded:

requires:

    Module                            Need Have    
    --------------------------------- ---- --------
    base                              0    2.18    
    Carp                              0    1.3301  
    constant                          0    1.27    
    Data::Dumper                      0    2.128   
    File::Basename                    0    2.78    
    FindBin                           0    1.50    
    Getopt::Std                       0    1.06    
    Math::BigInt                      0    1.9993  
    overload                          0    1.10    
    strict                            0    1.04    
    vars                              0    1.01    
    warnings                          0    1.09    
    XML::Compile::SOAP11              2.26 3.05    
    XML::Compile::Transport::SOAPHTTP 0    3.05    
    XML::Compile::WSDL11              0    3.02    

build_requires:

    Module                            Need Have    
    --------------------------------- ---- --------
    File::Find                        0    1.15    
    File::Spec                        0    3.47    
    File::Temp                        0    0.2304  
    Test::More                        0    1.001003

configure_requires:

    Module                            Need Have    
    --------------------------------- ---- --------
    ExtUtils::MakeMaker               6.30 6.98    


------------------------------
ENVIRONMENT AND OTHER CONTEXT
------------------------------

Environment variables:

    AUTOMATED_TESTING = 1
    COMSPEC = C:\WINDOWS\system32\cmd.exe
    NUMBER_OF_PROCESSORS = 1
    PATH = C:\Program Files\Far Manager\;c:\Windows\system32;%c:\Windows\;c:\Windows\System32\Wbem;C:\Git\cmd;C:\strawberry\c\bin;C:\strawberry\perl\site\bin;C:\strawberry\perl\bin
    PERL5LIB = C:\strawberry\cpan\build\XML-Compile-WSDL11-3.02-ROTyIN/blib/arch;C:\strawberry\cpan\build\XML-Compile-WSDL11-3.02-ROTyIN/blib/lib;C:\strawberry\cpan\build\XML-Compile-SOAP-3.05-CF9PxF/blib/arch;C:\strawberry\cpan\build\XML-Compile-SOAP-3.05-CF9PxF/blib/lib;C:\strawberry\cpan\build\XML-Compile-Cache-1.02-kgiL4E/blib/arch;C:\strawberry\cpan\build\XML-Compile-Cache-1.02-kgiL4E/blib/lib;C:\strawberry\cpan\build\XML-LibXML-Simple-0.94-YP1A1F/blib/arch;C:\strawberry\cpan\build\XML-LibXML-Simple-0.94-YP1A1F/blib/lib;C:\strawberry\cpan\build\XML-Compile-1.45-lt3ShS/blib/arch;C:\strawberry\cpan\build\XML-Compile-1.45-lt3ShS/blib/lib;C:\strawberry\cpan\build\XML-Compile-Tester-0.90-T9A6ki/blib/arch;C:\strawberry\cpan\build\XML-Compile-Tester-0.90-T9A6ki/blib/lib;C:\strawberry\cpan\build\Log-Report-1.05-Id5Jeh/blib/arch;C:\strawberry\cpan\build\Log-Report-1.05-Id5Jeh/blib/lib;C:\strawberry\cpan\build\Log-Report-Optional-1.01-CR1qoo/blib/arch;C:\strawberry\cpan\build\Log-Report-Optional-1.01-CR1qoo/blib/lib;C:\strawberry\cpan\build\String-Print-0.15-zOBtVK/blib/arch;C:\strawberry\cpan\build\String-Print-0.15-zOBtVK/blib/lib
    PERL5OPT = 
    PERL5_CPANPLUS_IS_RUNNING = 264
    PERL5_CPAN_IS_RUNNING = 264
    PERL5_CPAN_IS_RUNNING_IN_RECURSION = 1584,264
    PERL_CR_SMOKER_CURRENT = MRS-Client-1.0.1
    PERL_EXTUTILS_AUTOINSTALL = --defaultdeps
    PERL_MM_USE_DEFAULT = 1
    PROCESSOR_IDENTIFIER = x86 Family 16 Model 5 Stepping 3, AuthenticAMD
    TEMP = C:\DOCUME~1\c\LOCALS~1\Temp
    TERM = dumb

Perl special variables (and OS-specific diagnostics, for MSWin32):

    $^X = C:\strawberry\perl\bin\perl.exe
    $UID/$EUID = 0 / 0
    $GID = 0
    $EGID = 0
    Win32::GetOSName = WinXP/.Net
    Win32::GetOSVersion = Service Pack 3, 5, 1, 2600, 2, 3, 0, 256, 1
    Win32::FsType = NTFS
    Win32::IsAdminUser = 1

Perl module toolchain versions installed:

    Module              Have    
    ------------------- --------
    CPAN                2.00    
    CPAN::Meta          2.141520
    Cwd                 3.47    
    ExtUtils::CBuilder  0.280216
    ExtUtils::Command   1.16    
    ExtUtils::Install   1.55    
    ExtUtils::MakeMaker 6.98    
    ExtUtils::Manifest  1.60    
    ExtUtils::ParseXS   3.24    
    File::Spec          3.47    
    JSON                2.90    
    JSON::PP            2.27203 
    Module::Build       0.4206  
    Module::Signature   0.66    
    Parse::CPAN::Meta   1.4414  
    Test::Harness       3.32    
    Test::More          1.001003
    YAML                0.98    
    YAML::Syck          1.27    
    version             0.9908  


--

Summary of my perl5 (revision 5 version 12 subversion 2) configuration:
   
  Platform:
    osname=MSWin32, osvers=5.1, archname=MSWin32-x86-multi-thread
    uname='Win32 strawberryperl 5.12.2.0 #1 Fri Nov  5 05:17:27 2010 i386'
    config_args='undef'
    hint=recommended, useposix=true, d_sigaction=undef
    useithreads=define, usemultiplicity=define
    useperlio=define, d_sfio=undef, uselargefiles=define, usesocks=undef
    use64bitint=undef, use64bitall=undef, uselongdouble=undef
    usemymalloc=n, bincompat5005=undef
  Compiler:
    cc='gcc', ccflags =' -s -O2 -DWIN32 -DHAVE_DES_FCRYPT  -DUSE_SITECUSTOMIZE -DPERL_IMPLICIT_CONTEXT -DPERL_IMPLICIT_SYS -fno-strict-aliasing -mms-bitfields -DPERL_MSVCRT_READFIX',
    optimize='-s -O2',
    cppflags='-DWIN32'
    ccversion='', gccversion='4.4.3', gccosandvers=''
    intsize=4, longsize=4, ptrsize=4, doublesize=8, byteorder=1234
    d_longlong=undef, longlongsize=8, d_longdbl=define, longdblsize=12
    ivtype='long', ivsize=4, nvtype='double', nvsize=8, Off_t='long long', lseeksize=8
    alignbytes=8, prototype=define
  Linker and Libraries:
    ld='g++', ldflags ='-s -L"C:\strawberry\perl\lib\CORE" -L"C:\strawberry\c\lib"'
    libpth=C:\strawberry\c\lib C:\strawberry\c\i686-w64-mingw32\lib
    libs=-lmoldname -lkernel32 -luser32 -lgdi32 -lwinspool -lcomdlg32 -ladvapi32 -lshell32 -lole32 -loleaut32 -lnetapi32 -luuid -lws2_32 -lmpr -lwinmm -lversion -lodbc32 -lodbccp32 -lcomctl32
    perllibs=-lmoldname -lkernel32 -luser32 -lgdi32 -lwinspool -lcomdlg32 -ladvapi32 -lshell32 -lole32 -loleaut32 -lnetapi32 -luuid -lws2_32 -lmpr -lwinmm -lversion -lodbc32 -lodbccp32 -lcomctl32
    libc=, so=dll, useshrplib=true, libperl=libperl512.a
    gnulibc_version=''
  Dynamic Linking:
    dlsrc=dl_win32.xs, dlext=dll, d_dlsymun=undef, ccdlflags=' '
    cccdlflags=' ', lddlflags='-mdll -s -L"C:\strawberry\perl\lib\CORE" -L"C:\strawberry\c\lib"'


Characteristics of this binary (from libperl): 
  Compile-time options: MULTIPLICITY PERL_DONT_CREATE_GVSV
                        PERL_IMPLICIT_CONTEXT PERL_IMPLICIT_SYS
                        PERL_MALLOC_WRAP PL_OP_SLAB_ALLOC USE_ITHREADS
                        USE_LARGE_FILES USE_PERLIO USE_PERL_ATOF
                        USE_SITECUSTOMIZE
  Built under MSWin32
  Compiled at Nov  5 2010 08:39:08
  %ENV:
    PERL5LIB="C:\strawberry\cpan\build\XML-Compile-WSDL11-3.02-ROTyIN/blib/arch;C:\strawberry\cpan\build\XML-Compile-WSDL11-3.02-ROTyIN/blib/lib;C:\strawberry\cpan\build\XML-Compile-SOAP-3.05-CF9PxF/blib/arch;C:\strawberry\cpan\build\XML-Compile-SOAP-3.05-CF9PxF/blib/lib;C:\strawberry\cpan\build\XML-Compile-Cache-1.02-kgiL4E/blib/arch;C:\strawberry\cpan\build\XML-Compile-Cache-1.02-kgiL4E/blib/lib;C:\strawberry\cpan\build\XML-LibXML-Simple-0.94-YP1A1F/blib/arch;C:\strawberry\cpan\build\XML-LibXML-Simple-0.94-YP1A1F/blib/lib;C:\strawberry\cpan\build\XML-Compile-1.45-lt3ShS/blib/arch;C:\strawberry\cpan\build\XML-Compile-1.45-lt3ShS/blib/lib;C:\strawberry\cpan\build\XML-Compile-Tester-0.90-T9A6ki/blib/arch;C:\strawberry\cpan\build\XML-Compile-Tester-0.90-T9A6ki/blib/lib;C:\strawberry\cpan\build\Log-Report-1.05-Id5Jeh/blib/arch;C:\strawberry\cpan\build\Log-Report-1.05-Id5Jeh/blib/lib;C:\strawberry\cpan\build\Log-Report-Optional-1.01-CR1qoo/blib/arch;C:\strawberry\cpan\build\Log-Report-Optional-1.01-CR1qoo/blib/lib;C:\strawberry\cpan\build\String-Print-0.15-zOBtVK/blib/arch;C:\strawberry\cpan\build\String-Print-0.15-zOBtVK/blib/lib"
    PERL5_CPANPLUS_IS_RUNNING="264"
    PERL5_CPAN_IS_RUNNING="264"
    PERL5_CPAN_IS_RUNNING_IN_RECURSION="1584,264"
    PERL_CR_SMOKER_CURRENT="MRS-Client-1.0.1"
    PERL_EXTUTILS_AUTOINSTALL="--defaultdeps"
    PERL_MM_USE_DEFAULT="1"
  @INC:
    C:\strawberry\cpan\build\XML-Compile-WSDL11-3.02-ROTyIN/blib/arch
    C:\strawberry\cpan\build\XML-Compile-WSDL11-3.02-ROTyIN/blib/lib
    C:\strawberry\cpan\build\XML-Compile-SOAP-3.05-CF9PxF/blib/arch
    C:\strawberry\cpan\build\XML-Compile-SOAP-3.05-CF9PxF/blib/lib
    C:\strawberry\cpan\build\XML-Compile-Cache-1.02-kgiL4E/blib/arch
    C:\strawberry\cpan\build\XML-Compile-Cache-1.02-kgiL4E/blib/lib
    C:\strawberry\cpan\build\XML-LibXML-Simple-0.94-YP1A1F/blib/arch
    C:\strawberry\cpan\build\XML-LibXML-Simple-0.94-YP1A1F/blib/lib
    C:\strawberry\cpan\build\XML-Compile-1.45-lt3ShS/blib/arch
    C:\strawberry\cpan\build\XML-Compile-1.45-lt3ShS/blib/lib
    C:\strawberry\cpan\build\XML-Compile-Tester-0.90-T9A6ki/blib/arch
    C:\strawberry\cpan\build\XML-Compile-Tester-0.90-T9A6ki/blib/lib
    C:\strawberry\cpan\build\Log-Report-1.05-Id5Jeh/blib/arch
    C:\strawberry\cpan\build\Log-Report-1.05-Id5Jeh/blib/lib
    C:\strawberry\cpan\build\Log-Report-Optional-1.01-CR1qoo/blib/arch
    C:\strawberry\cpan\build\Log-Report-Optional-1.01-CR1qoo/blib/lib
    C:\strawberry\cpan\build\String-Print-0.15-zOBtVK/blib/arch
    C:\strawberry\cpan\build\String-Print-0.15-zOBtVK/blib/lib
    C:/strawberry/perl/site/lib
    C:/strawberry/perl/vendor/lib
    C:/strawberry/perl/lib
    .