TaskPipe v0.09 Perl 5 v5.14.4 x86_64-linux-ld

Status
Pass
From
Andreas J. König (ANDK)
Dist
TaskPipe v0.09
Platform
Perl 5 v5.14.4 x86_64-linux-ld
Date
2018-11-28 16:48:16
ID
673d6ae0-f32d-11e8-be39-f17afa630379
This distribution has been tested as part of the CPAN Testers
project, supporting the Perl programming language.  See
http://wiki.cpantesters.org/ for more information or email
questions to cpan-testers-discuss@perl.org


--
Dear Tom Gracey,

This is a computer-generated report for TaskPipe-0.09
on perl 5.14.4, created by CPAN-Reporter-1.2018.

Thank you for uploading your work to CPAN.  Congratulations!
All tests were successful.

Sections of this report:

    * Tester comments
    * Program output
    * Prerequisites
    * Environment and other context

------------------------------
TESTER COMMENTS
------------------------------

Additional comments from tester:

this report is from an automated smoke testing program
and was not reviewed by a human for accuracy

------------------------------
PROGRAM OUTPUT
------------------------------

Output from '/usr/bin/make test':

PERL_DL_NONLAZY=1 "/home/sand/src/perl/repoperls/installed-perls/host/k93msid/v5.14.4/fc43/bin/perl" "-MExtUtils::Command::MM" "-MTest::Harness" "-e" "undef *Test::Harness::Switches; test_harness(0, 'blib/lib', 'blib/arch')" t/*.t
t/00_base_modules.t .......... ok
t/01_resume.t ................ skipped: DB info for threaded tests was not provided
t/02_threads.t ............... skipped: DB info for threaded tests was not provided
Running resume mechanism tests. Please be patient - this will take some time
t/03_single_thread_resume.t .. ok
Running plan tests. Please be patient - this will take some time
t/04_plan.t .................. ok
All tests successful.
Files=5, Tests=277, 475 wallclock secs ( 0.05 usr  0.03 sys + 171.31 cusr  6.74 csys = 178.13 CPU)
Result: PASS

------------------------------
PREREQUISITES
------------------------------

Prerequisite modules loaded:

requires:

    Module                                      Need Have     
    ------------------------------------------- ---- ---------
    Array::Utils                                0    0.5      
    Carp                                        0    1.50     
    Clone                                       0    0.41     
    Cwd                                         0    3.75     
    Data::Dumper                                0    2.172    
    DateTime                                    0    1.50     
    DateTime::Format::MySQL                     0    0.06     
    DateTime::Format::SQLite                    0    0.11     
    DBIx::Class                                 0    0.082841 
    DBIx::Class::Schema::Loader                 0    0.07049  
    DBIx::Error                                 0    1.0.1    
    Digest::MD5                                 0    2.55     
    Fatal                                       0    2.29     
    File::Basename                              0    2.82     
    File::Inplace                               0    0.20     
    File::Path                                  0    2.16     
    File::Path::Expand                          0    1.02     
    File::Save::Home                            0    0.11     
    File::Slurp                                 0    9999.24  
    File::Spec                                  0    3.75     
    Hash::Merge                                 0    0.300    
    IO::Socket::INET                            0    1.31     
    Log::Log4perl                               0    1.49     
    Log::Log4perl::Layout::ColoredPatternLayout 0.01 0.01     
    LWP::UserAgent                              0    6.36     
    Module::Runtime                             0    0.016    
    Moose                                       0    2.2011   
    Moose::Util::TypeConstraints                0    2.2011   
    MooseX::ClassAttribute                      0    0.29     
    MooseX::ConfigCascade                       0.02 0.02     
    Net::EmptyPort                              0    0        
    Path::Tiny                                  0    0.108    
    Pod::POM                                    0    2.01     
    Pod::Term                                   0.02 0.02     
    POSIX                                       0    1.24     
    Proc::Background                            0    1.10     
    Proc::Exists                                0    1.01     
    Proc::ProcessTable                          0    0.55     
    Selenium::Remote::Driver                    0    1.30     
    SQL::Translator                             0    0.11024  
    String::CamelCase                           0    0.04     
    Template::Nest                              0.03 0.04     
    Term::ANSIColor                             0    4.06     
    Text::Table::TinyColor                      0    0.002    
    Time::HiRes                                 0    1.9721_01
    Try::Tiny                                   0    0.30     
    TryCatch                                    0    1.003002 
    URI::Escape                                 0    3.31     
    Web::Scraper                                0    0.38     
    WWW::Mechanize::PhantomJS                   0.18 0.22     
    YAML::XS                                    0    0.75     

build_requires:

    Module                                      Need Have     
    ------------------------------------------- ---- ---------
    Data::Dumper                                0    2.172    
    ExtUtils::MakeMaker                         0    7.35_07  
    File::Basename                              0    2.82     
    File::Spec                                  0    3.75     
    Moose                                       0    2.2011   
    MooseX::ConfigCascade                       0    0.02     
    Proc::ProcessTable                          0    0.55     
    Test::More                                  0    1.302140 
    Time::HiRes                                 0    1.9721_01
    Try::Tiny                                   0    0.30     

configure_requires:

    Module                                      Need Have     
    ------------------------------------------- ---- ---------
    ExtUtils::MakeMaker                         0    7.35_07  


------------------------------
ENVIRONMENT AND OTHER CONTEXT
------------------------------

Environment variables:

    AUTOMATED_TESTING = 1
    LANG = en_US.UTF-8
    PATH = /home/sand/bin:/usr/local/bin:/usr/bin:/bin:/usr/games:/usr/local/perl/bin:/usr/X11/bin:/sbin:/usr/sbin
    PERL5LIB = 
    PERL5OPT = 
    PERL5_CPANPLUS_IS_RUNNING = 3081
    PERL5_CPAN_IS_RUNNING = 3081
    PERL5_CPAN_IS_RUNNING_IN_RECURSION = 2358,3081
    PERL_CANARY_STABILITY_NOPROMPT = 1
    PERL_MM_USE_DEFAULT = 1
    PERL_USE_UNSAFE_INC = 1
    SHELL = /usr/bin/zsh
    TERM = screen

Perl special variables (and OS-specific diagnostics, for MSWin32):

    $^X = /home/sand/src/perl/repoperls/installed-perls/host/k93msid/v5.14.4/fc43/bin/perl
    $UID/$EUID = 1005 / 1005
    $GID = 1005 1005
    $EGID = 1005 1005

Perl module toolchain versions installed:

    Module              Have    
    ------------------- --------
    CPAN                2.21    
    CPAN::Meta          2.150010
    Cwd                 3.75    
    ExtUtils::CBuilder  0.280230
    ExtUtils::Command   7.35_07 
    ExtUtils::Install   2.06    
    ExtUtils::MakeMaker 7.35_07 
    ExtUtils::Manifest  1.70    
    ExtUtils::ParseXS   3.35    
    File::Spec          3.75    
    JSON                2.97001 
    JSON::PP            2.97001 
    Module::Build       0.4224  
    Module::Signature   0.83    
    Parse::CPAN::Meta   2.150010
    Test::Harness       3.42    
    Test::More          1.302140
    YAML                1.26    
    YAML::Syck          1.31    
    version             0.9924  


--

Summary of my perl5 (revision 5 version 14 subversion 4) configuration:
  Derived from: 26c5c13a4ece9084f310610bb17fb2f24c72a73e
  Platform:
    osname=linux, osvers=4.18.0-2-amd64, archname=x86_64-linux-ld
    uname='linux k93msid 4.18.0-2-amd64 #1 smp debian 4.18.10-2 (2018-10-07) x86_64 gnulinux '
    config_args='-Dprefix=/home/sand/src/perl/repoperls/installed-perls/host/k93msid/v5.14.4/fc43 -Dmyhostname=k93msid -Dinstallusrbinperl=n -Uversiononly -Dusedevel -des -Ui_db -Dlibswanted=cl pthread socket inet nsl gdbm dbm malloc dl ld sun m crypt sec util c cposix posix ucb BSD gdbm_compat -Uuseithreads -Duselongdouble -DEBUGGING=both'
    hint=recommended, useposix=true, d_sigaction=define
    useithreads=undef, usemultiplicity=undef
    useperlio=define, d_sfio=undef, uselargefiles=define, usesocks=undef
    use64bitint=define, use64bitall=define, uselongdouble=define
    usemymalloc=n, bincompat5005=undef
  Compiler:
    cc='cc', ccflags ='-DDEBUGGING -fno-strict-aliasing -pipe -fstack-protector -I/usr/local/include -D_LARGEFILE_SOURCE -D_FILE_OFFSET_BITS=64',
    optimize='-O2 -g',
    cppflags='-DDEBUGGING -fno-strict-aliasing -pipe -fstack-protector -I/usr/local/include'
    ccversion='', gccversion='8.2.0', gccosandvers=''
    intsize=4, longsize=8, ptrsize=8, doublesize=8, byteorder=12345678
    d_longlong=define, longlongsize=8, d_longdbl=define, longdblsize=16
    ivtype='long', ivsize=8, nvtype='long double', nvsize=16, Off_t='off_t', lseeksize=8
    alignbytes=16, prototype=define
  Linker and Libraries:
    ld='cc', ldflags =' -fstack-protector -L/usr/local/lib'
    libpth=/usr/local/lib /lib/x86_64-linux-gnu /lib/../lib /usr/lib/x86_64-linux-gnu /usr/lib/../lib /lib /usr/lib
    libs=-lpthread -lnsl -ldl -lm -lcrypt -lutil -lc
    perllibs=-lpthread -lnsl -ldl -lm -lcrypt -lutil -lc
    libc=libc-2.27.so, so=so, useshrplib=false, libperl=libperl.a
    gnulibc_version='2.27'
  Dynamic Linking:
    dlsrc=dl_dlopen.xs, dlext=so, d_dlsymun=undef, ccdlflags='-Wl,-E'
    cccdlflags='-fPIC', lddlflags='-shared -O2 -g -L/usr/local/lib -fstack-protector'


Characteristics of this binary (from libperl): 
  Compile-time options: DEBUGGING PERL_DONT_CREATE_GVSV PERL_MALLOC_WRAP
                        PERL_PRESERVE_IVUV PERL_USE_DEVEL USE_64_BIT_ALL
                        USE_64_BIT_INT USE_LARGE_FILES USE_LONG_DOUBLE
                        USE_PERLIO USE_PERL_ATOF
  Locally applied patches:
	uncommitted-changes
  Built under linux
  Compiled at Oct 29 2018 00:53:53
  %ENV:
    PERL5LIB=""
    PERL5OPT=""
    PERL5_CPANPLUS_IS_RUNNING="3081"
    PERL5_CPAN_IS_RUNNING="3081"
    PERL5_CPAN_IS_RUNNING_IN_RECURSION="2358,3081"
    PERL_CANARY_STABILITY_NOPROMPT="1"
    PERL_MM_USE_DEFAULT="1"
    PERL_USE_UNSAFE_INC="1"
  @INC:
    /home/sand/src/perl/repoperls/installed-perls/host/k93msid/v5.14.4/fc43/lib/site_perl/5.14.4/x86_64-linux-ld
    /home/sand/src/perl/repoperls/installed-perls/host/k93msid/v5.14.4/fc43/lib/site_perl/5.14.4
    /home/sand/src/perl/repoperls/installed-perls/host/k93msid/v5.14.4/fc43/lib/5.14.4/x86_64-linux-ld
    /home/sand/src/perl/repoperls/installed-perls/host/k93msid/v5.14.4/fc43/lib/5.14.4
    .