Test-Warn v0.36 Perl 5 v5.14.2 x86_64-linux-multi

Status
Pass
From
Nigel Horne
Dist
Test-Warn v0.36
Platform
Perl 5 v5.14.2 x86_64-linux-multi
Date
2021-10-06 22:11:50
ID
676e2a58-26f2-11ec-a0c2-75ff1ad7b5b7
This distribution has been tested as part of the CPAN Testers
project, supporting the Perl programming language.  See
http://wiki.cpantesters.org/ for more information or email
questions to cpan-testers-discuss@perl.org


--
Dear Janek Schleicher,

This is a computer-generated report for Test-Warn-0.36
on perl 5.14.2, created by CPAN-Reporter-1.2018.

Thank you for uploading your work to CPAN.  Congratulations!
All tests were successful.

Sections of this report:

    * Tester comments
    * Program output
    * Prerequisites
    * Environment and other context

------------------------------
TESTER COMMENTS
------------------------------

Additional comments from tester:

none provided

------------------------------
PROGRAM OUTPUT
------------------------------

Output from '/usr/bin/make test':

PERL_DL_NONLAZY=1 "/home/njh/perl5/perlbrew/perls/perl-5.14.2-multi/bin/perl5.14.2" "-MExtUtils::Command::MM" "-MTest::Harness" "-e" "undef *Test::Harness::Switches; test_harness(0, 'blib/lib', 'blib/arch')" t/*.t
t/1.t ............... ok
t/carped.t .......... ok
t/warning_is.t ...... ok
t/warning_like.t .... ok
t/warnings_are.t .... ok
t/warnings_exist.t .. ok
t/warnings_like.t ... ok
All tests successful.
Files=7, Tests=841,  5 wallclock secs ( 0.31 usr  0.03 sys +  5.09 cusr  0.11 csys =  5.54 CPU)
Result: PASS

------------------------------
PREREQUISITES
------------------------------

Prerequisite modules loaded:

requires:

    Module                Need  Have    
    --------------------- ----- --------
    Carp                  1.22  1.50    
    perl                  5.006 5.014002
    Sub::Uplevel          0.12  0.2800  
    Test::Builder         0.13  1.302168
    Test::Builder::Tester 1.02  1.302168

build_requires:

    Module                Need  Have    
    --------------------- ----- --------
    ExtUtils::MakeMaker   0     7.38    
    File::Spec            0     3.33    
    Test::More            0     1.302168

configure_requires:

    Module                Need  Have    
    --------------------- ----- --------
    ExtUtils::MakeMaker   0     7.38    


------------------------------
ENVIRONMENT AND OTHER CONTEXT
------------------------------

Environment variables:

    LANG = C.UTF-8
    PATH = /home/njh/perl5/perlbrew/bin:/home/njh/perl5/perlbrew/perls/perl-5.14.2-multi/bin:/usr/local/sbin:/usr/local/bin:/usr/sbin:/usr/bin:/sbin:/bin:/usr/games:/usr/local/games:/snap/bin
    PERL5LIB = 
    PERL5OPT = 
    PERL5_CPANPLUS_IS_RUNNING = 10170
    PERL5_CPAN_IS_RUNNING = 10170
    PERLBREW_LIB = 
    PERLBREW_MANPATH = /home/njh/perl5/perlbrew/perls/perl-5.14.2-multi/man
    PERLBREW_PATH = /home/njh/perl5/perlbrew/bin:/home/njh/perl5/perlbrew/perls/perl-5.14.2-multi/bin
    PERLBREW_PERL = perl-5.14.2-multi
    PERLBREW_ROOT = /home/njh/perl5/perlbrew
    PERLBREW_VERSION = 0.92
    PERL_LOCAL_LIB_ROOT = 
    SHELL = /bin/bash
    TEMP = /tmp/user/1002
    TMPDIR = /tmp/user/1002

Perl special variables (and OS-specific diagnostics, for MSWin32):

    $^X = /home/njh/perl5/perlbrew/perls/perl-5.14.2-multi/bin/perl5.14.2
    $UID/$EUID = 1002 / 1002
    $GID = 1002 120 1002
    $EGID = 1002 120 1002

Perl module toolchain versions installed:

    Module              Have     
    ------------------- ---------
    CPAN                1.9600_01
    CPAN::Meta          2.143240 
    Cwd                 3.36     
    ExtUtils::CBuilder  0.280231 
    ExtUtils::Command   7.38     
    ExtUtils::Install   2.06     
    ExtUtils::MakeMaker 7.38     
    ExtUtils::Manifest  1.70     
    ExtUtils::ParseXS   2.2210   
    File::Spec          3.33     
    JSON                4.02     
    JSON::PP            4.04     
    Module::Build       0.3800   
    Module::Signature   n/a      
    Parse::CPAN::Meta   1.4414   
    Test::Harness       3.42     
    Test::More          1.302168 
    YAML                1.30     
    YAML::Syck          n/a      
    version             0.88     


--

Summary of my perl5 (revision 5 version 14 subversion 2) configuration:
   
  Platform:
    osname=linux, osvers=4.15.0-1025-oracle, archname=x86_64-linux-multi
    uname='linux oracle1 4.15.0-1025-oracle #28-ubuntu smp mon sep 16 12:54:27 utc 2019 x86_64 x86_64 x86_64 gnulinux '
    config_args='-de -Dprefix=/home/njh/perl5/perlbrew/perls/perl-5.14.2-multi -Dusedevel -Dusemultiplicity -Accflags= -Aeval:scriptdir=/home/njh/perl5/perlbrew/perls/perl-5.14.2-multi/bin'
    hint=recommended, useposix=true, d_sigaction=define
    useithreads=undef, usemultiplicity=define
    useperlio=define, d_sfio=undef, uselargefiles=define, usesocks=undef
    use64bitint=define, use64bitall=define, uselongdouble=undef
    usemymalloc=n, bincompat5005=undef
  Compiler:
    cc='cc', ccflags ='-fwrapv -fno-strict-aliasing -pipe -fstack-protector -I/usr/local/include -D_LARGEFILE_SOURCE -D_FILE_OFFSET_BITS=64',
    optimize='-O2',
    cppflags='-fwrapv -fno-strict-aliasing -pipe -fstack-protector -I/usr/local/include'
    ccversion='', gccversion='7.4.0', gccosandvers=''
    intsize=4, longsize=8, ptrsize=8, doublesize=8, byteorder=12345678
    d_longlong=define, longlongsize=8, d_longdbl=define, longdblsize=16
    ivtype='long', ivsize=8, nvtype='double', nvsize=8, Off_t='off_t', lseeksize=8
    alignbytes=8, prototype=define
  Linker and Libraries:
    ld='cc', ldflags =' -fstack-protector -L/usr/local/lib'
    libpth=/usr/local/lib /lib/x86_64-linux-gnu /lib/../lib /usr/lib/x86_64-linux-gnu /usr/lib/../lib /lib /usr/lib
    libs=-lnsl -lgdbm -ldb -ldl -lm -lcrypt -lutil -lc
    perllibs=-lnsl -ldl -lm -lcrypt -lutil -lc
    libc=libc-2.27.so, so=so, useshrplib=false, libperl=libperl.a
    gnulibc_version='2.27'
  Dynamic Linking:
    dlsrc=dl_dlopen.xs, dlext=so, d_dlsymun=undef, ccdlflags='-Wl,-E'
    cccdlflags='-fPIC', lddlflags='-shared -O2 -L/usr/local/lib -fstack-protector'


Characteristics of this binary (from libperl): 
  Compile-time options: MULTIPLICITY PERL_DONT_CREATE_GVSV
                        PERL_IMPLICIT_CONTEXT PERL_MALLOC_WRAP
                        PERL_PRESERVE_IVUV PERL_USE_DEVEL USE_64_BIT_ALL
                        USE_64_BIT_INT USE_LARGE_FILES USE_PERLIO
                        USE_PERL_ATOF
  Locally applied patches:
	Devel::PatchPerl 1.64
  Built under linux
  Compiled at Sep 28 2019 12:03:47
  %ENV:
    PERL5LIB=""
    PERL5OPT=""
    PERL5_CPANPLUS_IS_RUNNING="10170"
    PERL5_CPAN_IS_RUNNING="10170"
    PERLBREW_LIB=""
    PERLBREW_MANPATH="/home/njh/perl5/perlbrew/perls/perl-5.14.2-multi/man"
    PERLBREW_PATH="/home/njh/perl5/perlbrew/bin:/home/njh/perl5/perlbrew/perls/perl-5.14.2-multi/bin"
    PERLBREW_PERL="perl-5.14.2-multi"
    PERLBREW_ROOT="/home/njh/perl5/perlbrew"
    PERLBREW_VERSION="0.92"
    PERL_LOCAL_LIB_ROOT=""
  @INC:
    /home/njh/perl5/perlbrew/perls/perl-5.14.2-multi/lib/site_perl/5.14.2/x86_64-linux-multi
    /home/njh/perl5/perlbrew/perls/perl-5.14.2-multi/lib/site_perl/5.14.2
    /home/njh/perl5/perlbrew/perls/perl-5.14.2-multi/lib/5.14.2/x86_64-linux-multi
    /home/njh/perl5/perlbrew/perls/perl-5.14.2-multi/lib/5.14.2
    .