Starman v0.4017 Perl 5 v5.39.6 darwin-2level

Status
Pass
From
John SJ Anderson
Dist
Starman v0.4017
Platform
Perl 5 v5.39.6 darwin-2level
Date
2024-01-02 00:25:17
ID
67b1c62c-a905-11ee-beb6-69256438802e
This distribution has been tested as part of the CPAN Testers
project, supporting the Perl programming language.  See
http://wiki.cpantesters.org/ for more information or email
questions to cpan-testers-discuss@perl.org


--
Dear MIYAGAWA,

This is a computer-generated report for Starman-0.4017
on perl 5.39.6, created by App::cpanminus::reporter 0.21 (1.7047).

Thank you for uploading your work to CPAN.  Congratulations!
All tests were successful.

Sections of this report:

    * Tester comments
    * Program output
    * Prerequisites
    * Environment and other context

------------------------------
TESTER COMMENTS
------------------------------

Additional comments from tester:

none provided

------------------------------
PROGRAM OUTPUT
------------------------------

Output from '':

Running Build.PL
Creating new 'Build' script for 'Starman' version '0.4017'
-> OK
Checking dependencies from MYMETA.json ...
Checking if you have Plack 0.9971 ... Yes (1.0050)
Checking if you have HTTP::Parser::XS 0 ... No
Checking if you have Test::More 0 ... Yes (1.302198)
Checking if you have HTTP::Date 0 ... Yes (6.06)
Checking if you have parent 0 ... Yes (0.241)
Checking if you have Test::TCP 2.00 ... Yes (2.22)
Checking if you have Net::Server 2.007 ... No
Checking if you have HTTP::Status 0 ... Yes (6.45)
Checking if you have LWP::UserAgent 0 ... Yes (6.72)
Checking if you have Test::Requires 0 ... Yes (0.11)
Checking if you have Data::Dump 0 ... Yes (1.25)
==> Found dependencies: HTTP::Parser::XS, Net::Server
Searching HTTP::Parser::XS (0) on cpanmetadb ...
--> Working on HTTP::Parser::XS
Fetching http://www.cpan.org/authors/id/K/KA/KAZUHO/HTTP-Parser-XS-0.17.tar.gz
-> OK
Unpacking HTTP-Parser-XS-0.17.tar.gz
PERL_DL_NONLAZY=1 "/opt/plenv/versions/5.39.6/bin/perl5.39.6" "-MExtUtils::Command::MM" "-MTest::Harness" "-e" "\$ENV{q{PERL_ONLY}} = q{1}; undef *Test::Harness::Switches; test_harness(0, 'blib/lib', 'blib/arch'); " t/*.t
# Testing HTTP::Parser::XS/0.17 (pp)
t/00base.t ............. ok
t/01simple.t ........... ok
t/02response.t ......... ok
t/03response-error.t ... ok
t/04response-format.t .. ok
t/05too-much.t ......... skipped: PP has no static limitations
All tests successful.
Files=6, Tests=81,  0 wallclock secs ( 0.03 usr  0.01 sys +  0.28 cusr  0.09 csys =  0.41 CPU)
Result: PASS

------------------------------
PREREQUISITES
------------------------------

Prerequisite modules loaded:

runtime:

    Module              Need     Have    
    ------------------- -------- --------
    Data::Dump          0        1.25    
    HTTP::Date          0        6.06    
    HTTP::Parser::XS    0        0.17    
    HTTP::Status        0        6.45    
    Net::Server         2.007    2.014   
    parent              0        0.241   
    perl                5.008001 5.039006
    Plack               0.9971   1.0050  
    Test::TCP           2.00     2.22    

configure:

    Module              Need     Have    
    ------------------- -------- --------
    Module::Build::Tiny 0.034    0.047   


------------------------------
ENVIRONMENT AND OTHER CONTEXT
------------------------------

Environment variables:

    LANG = en_US.UTF-8
    LC_ALL = en_US.UTF-8
    LC_TERMINAL = iTerm2
    LC_TERMINAL_VERSION = 3.4.22
    PATH = /opt/plenv/versions/5.39.6/bin:/opt/plenv/libexec:/opt/plenv/plugins/perl-build/bin:/Users/johnanderson/bin:/opt/plenv/shims:/opt/plenv/bin:/opt/git/bin:/opt/local/bin:/opt/vadr/vadr:/usr/local/bin:/usr/local/sbin:/usr/bin:/bin:/usr/sbin:/sbin
    PERL5LIB = /opt/vadr/vadr:/opt/vadr/sequip:/opt/vadr/Bio-Easel/blib/lib:/opt/vadr/Bio-Easel/blib/arch:/opt/vadr/vadr:/opt/vadr/sequip:/opt/vadr/Bio-Easel/blib/lib:/opt/vadr/Bio-Easel/blib/arch:
    PERL_CPANM_OPT = --skip-installed --prompt
    SHELL = /bin/zsh
    TERM = screen-256color
    TMPDIR = /var/folders/t7/8nhnkmk561s448776gc2b68w0000gp/T/

Perl special variables (and OS-specific diagnostics, for MSWin32):

    EGID = 20 20 12 61 79 80 81 98 702 33 100 204 250 395 398 102 701
    EUID = 502
    EXECUTABLE_NAME = /opt/plenv/versions/5.39.6/bin/perl5.39.6
    GID = 20 20 12 61 79 80 81 98 702 33 100 204 250 395 398 102 701
    UID = 502

Perl module toolchain versions installed:

    Module              Have    
    ------------------- --------
    CPAN                2.36    
    CPAN::Meta          2.150010
    Cwd                 3.90    
    ExtUtils::CBuilder  0.280240
    ExtUtils::Command   7.70    
    ExtUtils::Install   2.22    
    ExtUtils::MakeMaker 7.70    
    ExtUtils::Manifest  1.75    
    ExtUtils::ParseXS   3.51    
    File::Spec          3.90    
    JSON                4.10    
    JSON::PP            4.16    
    Module::Build       0.4234  
    Module::Signature   n/a     
    Parse::CPAN::Meta   2.150010
    Test::Harness       3.48    
    Test::More          1.302198
    YAML                1.31    
    YAML::Syck          n/a     
    version             0.9930  


--

Summary of my perl5 (revision 5 version 39 subversion 6) configuration:
   
  Platform:
    osname=darwin
    osvers=23.2.0
    archname=darwin-2level
    uname='darwin ws-c02g32p7ml7j 23.2.0 darwin kernel version 23.2.0: wed nov 15 21:54:10 pst 2023; root:xnu-10002.61.3~2release_x86_64 x86_64 i386 macbookpro16,2 darwin '
    config_args='-Dprefix=/opt/plenv/versions/5.39.6 -de -Dversiononly -Dusedevel -A'eval:scriptdir=/opt/plenv/versions/5.39.6/bin''
    hint=recommended
    useposix=true
    d_sigaction=define
    useithreads=undef
    usemultiplicity=undef
    use64bitint=define
    use64bitall=define
    uselongdouble=undef
    usemymalloc=n
    default_inc_excludes_dot=define
  Compiler:
    cc='cc'
    ccflags ='-fno-common -DPERL_DARWIN -mmacosx-version-min=14.2 -DNO_THREAD_SAFE_QUERYLOCALE -DNO_POSIX_2008_LOCALE -fno-strict-aliasing -pipe -fstack-protector-strong -I/usr/local/include'
    optimize='-O3'
    cppflags='-fno-common -DPERL_DARWIN -mmacosx-version-min=14.2 -DNO_THREAD_SAFE_QUERYLOCALE -DNO_POSIX_2008_LOCALE -fno-strict-aliasing -pipe -fstack-protector-strong -I/usr/local/include'
    ccversion=''
    gccversion='Apple LLVM 15.0.0 (clang-1500.1.0.2.5)'
    gccosandvers=''
    intsize=4
    longsize=8
    ptrsize=8
    doublesize=8
    byteorder=12345678
    doublekind=3
    d_longlong=define
    longlongsize=8
    d_longdbl=define
    longdblsize=16
    longdblkind=3
    ivtype='long'
    ivsize=8
    nvtype='double'
    nvsize=8
    Off_t='off_t'
    lseeksize=8
    alignbytes=8
    prototype=define
  Linker and Libraries:
    ld='cc'
    ldflags =' -mmacosx-version-min=14.2 -fstack-protector-strong -L/usr/local/lib'
    libpth=/usr/local/lib /Library/Developer/CommandLineTools/usr/lib/clang/15.0.0/lib /Library/Developer/CommandLineTools/SDKs/MacOSX14.2.sdk/usr/lib /Library/Developer/CommandLineTools/usr/lib /usr/lib
    libs= 
    perllibs=
    libc=
    so=dylib
    useshrplib=false
    libperl=libperl.a
    gnulibc_version=''
  Dynamic Linking:
    dlsrc=dl_dlopen.xs
    dlext=bundle
    d_dlsymun=undef
    ccdlflags=' '
    cccdlflags=' '
    lddlflags=' -mmacosx-version-min=14.2 -bundle -undefined dynamic_lookup -L/usr/local/lib -fstack-protector-strong'


Characteristics of this binary (from libperl): 
  Compile-time options:
    HAS_LONG_DOUBLE
    HAS_STRTOLD
    HAS_TIMES
    PERLIO_LAYERS
    PERL_COPY_ON_WRITE
    PERL_DONT_CREATE_GVSV
    PERL_HASH_FUNC_SIPHASH13
    PERL_HASH_USE_SBOX32
    PERL_MALLOC_WRAP
    PERL_OP_PARENT
    PERL_PRESERVE_IVUV
    PERL_USE_DEVEL
    PERL_USE_SAFE_PUTENV
    USE_64_BIT_ALL
    USE_64_BIT_INT
    USE_LARGE_FILES
    USE_LOCALE
    USE_LOCALE_COLLATE
    USE_LOCALE_CTYPE
    USE_LOCALE_NUMERIC
    USE_LOCALE_TIME
    USE_PERLIO
    USE_PERL_ATOF
  Built under darwin
  Compiled at Jan  1 2024 12:27:00
  %ENV:
    PERL5LIB="/opt/vadr/vadr:/opt/vadr/sequip:/opt/vadr/Bio-Easel/blib/lib:/opt/vadr/Bio-Easel/blib/arch:/opt/vadr/vadr:/opt/vadr/sequip:/opt/vadr/Bio-Easel/blib/lib:/opt/vadr/Bio-Easel/blib/arch:"
    PERL_CPANM_OPT="--skip-installed --prompt"
  @INC:
    /opt/vadr/vadr
    /opt/vadr/sequip
    /opt/vadr/Bio-Easel/blib/lib
    /opt/vadr/Bio-Easel/blib/arch
    /opt/vadr/vadr
    /opt/vadr/sequip
    /opt/vadr/Bio-Easel/blib/lib
    /opt/vadr/Bio-Easel/blib/arch
    /opt/plenv/versions/5.39.6/lib/perl5/site_perl/5.39.6/darwin-2level
    /opt/plenv/versions/5.39.6/lib/perl5/site_perl/5.39.6
    /opt/plenv/versions/5.39.6/lib/perl5/5.39.6/darwin-2level
    /opt/plenv/versions/5.39.6/lib/perl5/5.39.6