Tree v1.14 Perl 5 v5.22.3 x86_64-linux

Status
Pass
From
Slaven Rezić (SREZIC)
Dist
Tree v1.14
Platform
Perl 5 v5.22.3 x86_64-linux
Date
2019-06-03 23:57:55
ID
67b4a238-865b-11e9-adb7-29711f24ea8f
This distribution has been tested as part of the CPAN Testers
project, supporting the Perl programming language.  See
http://wiki.cpantesters.org/ for more information or email
questions to cpan-testers-discuss@perl.org


--
Dear Ron Savage,

This is a computer-generated report for Tree-1.14
on perl 5.22.3, created by CPAN-Reporter-1.2018.

Thank you for uploading your work to CPAN.  Congratulations!
All tests were successful.

Sections of this report:

    * Tester comments
    * Program output
    * Prerequisites
    * Environment and other context

------------------------------
TESTER COMMENTS
------------------------------

Additional comments from tester:

none provided

------------------------------
PROGRAM OUTPUT
------------------------------

Output from 'make test':

PERL_DL_NONLAZY=1 "/opt/perl-5.22.3/bin/perl" "-MExtUtils::Command::MM" "-MTest::Harness" "-e" "undef *Test::Harness::Switches; test_harness(0, 'blib/lib', 'blib/arch')" t/*.t t/Tree_Binary/*.t t/Tree/*.t t/Tree_Fast/*.t
# Testing Tree V 1.14
# Using base V 2.22
# Using constant V 1.33
# Using Data::Dumper V 2.173
# Using Exporter V 5.73
# Using lib V 0.63
# Using overload V 1.26
# Using Scalar::Util V 1.5
# Using strict V 1.09
# Using warnings V 1.34
t/00.versions.t ................... ok
t/Tree/000_interface.t ............ ok
t/Tree/001_root_node.t ............ ok
t/Tree/002_null_object.t .......... ok
t/Tree/003_child_node.t ........... ok
t/Tree/004_multiple_children.t .... ok
t/Tree/005_multilevel_tree.t ...... ok
t/Tree/007_add_child.t ............ ok
t/Tree/008_weak_refs.t ............ ok
t/Tree/009_error_handling.t ....... ok
t/Tree/010_errors_addchild.t ...... ok
t/Tree/011_errors_removechild.t ... ok
t/Tree/012_height.t ............... ok
t/Tree/013_width.t ................ ok
t/Tree/014_clone.t ................ ok
t/Tree/015_traverse.t ............. ok
t/Tree/016_events.t ............... ok
t/Tree/017_traverse_scalar.t ...... ok
t/Tree/018_no_fatal_warnings.t .... ok
t/Tree_Binary/000_binary_trees.t .. ok
t/Tree_Binary/001_mirror.t ........ ok
t/Tree_Binary/002_clone.t ......... ok
t/Tree_Fast/001_clone.t ........... ok
All tests successful.
Files=23, Tests=877,  1 wallclock secs ( 0.06 usr  0.07 sys +  1.40 cusr  0.29 csys =  1.82 CPU)
Result: PASS

------------------------------
PREREQUISITES
------------------------------

Prerequisite modules loaded:

requires:

    Module              Need     Have    
    ------------------- -------- --------
    base                0        2.22    
    constant            0        1.33    
    Data::Dumper        2.161    2.173   
    Exporter            5.71     5.73    
    lib                 0        0.63    
    overload            0        1.26    
    perl                5.006    5.022003
    Scalar::Util        1.45     1.50    
    strict              0        1.09    
    warnings            0        1.34    

build_requires:

    Module              Need     Have    
    ------------------- -------- --------
    ExtUtils::MakeMaker 0        7.34    
    Test::Deep          1.123    1.128   
    Test::Exception     0.43     0.43    
    Test::More          1.001002 1.302164
    Test::Pod           1.51     1.52    
    Test::Pod::Coverage 1.1      1.10    
    Test::Warn          0.3      0.36    

configure_requires:

    Module              Need     Have    
    ------------------- -------- --------
    ExtUtils::MakeMaker 0        7.34    


------------------------------
ENVIRONMENT AND OTHER CONTEXT
------------------------------

Environment variables:

    LANG = en_US.UTF-8
    LC_ALL = de_DE.UTF-8
    PATH = /usr/local/bin:/usr/bin:/bin:/usr/local/sbin:/usr/sbin:/sbin:/home/cpansand/bin/linux-gnu:/home/cpansand/bin/sh:/home/cpansand/bin:/usr/games:/home/cpansand/devel:/home/eserte/src/srezic-misc/scripts
    PERL5LIB = 
    PERL5OPT = 
    PERL5_CPANPLUS_IS_RUNNING = 2444
    PERL5_CPAN_IS_RUNNING = 2444
    PERL5_CPAN_IS_RUNNING_IN_RECURSION = 1812,2444
    PERLDOC = -MPod::Perldoc::ToTextOverstrike
    PERL_BATCH = yes
    PERL_CANARY_STABILITY_NOPROMPT = 1
    PERL_CPAN_REPORTER_CONFIG = /var/tmp/cpansmoker-1023/2019060323/cpanreporter_000_config.ini
    PERL_EXTUTILS_AUTOINSTALL = --defaultdeps
    PERL_USE_UNSAFE_INC = 1
    SHELL = /bin/zsh
    TERM = screen
    TMPDIR = /var/tmp/cpansmoker-1023/2019060323

Perl special variables (and OS-specific diagnostics, for MSWin32):

    $^X = /opt/perl-5.22.3/bin/perl
    $UID/$EUID = 1023 / 1023
    $GID = 1023 1023
    $EGID = 1023 1023

Perl module toolchain versions installed:

    Module              Have    
    ------------------- --------
    CPAN                2.26    
    CPAN::Meta          2.150010
    Cwd                 3.75    
    ExtUtils::CBuilder  0.280231
    ExtUtils::Command   7.34    
    ExtUtils::Install   2.14    
    ExtUtils::MakeMaker 7.34    
    ExtUtils::Manifest  1.72    
    ExtUtils::ParseXS   3.35    
    File::Spec          3.75    
    JSON                4.01    
    JSON::PP            2.97001 
    Module::Build       0.4224  
    Module::Signature   0.83    
    Parse::CPAN::Meta   2.150010
    Test::Harness       3.42    
    Test::More          1.302164
    YAML                1.26    
    YAML::Syck          1.31    
    version             0.9924  


--

Summary of my perl5 (revision 5 version 22 subversion 3) configuration:
   
  Platform:
    osname=linux, osvers=2.6.32-696.3.1.el6.x86_64, archname=x86_64-linux
    uname='linux centos6 2.6.32-696.3.1.el6.x86_64 #1 smp tue may 30 19:52:55 utc 2017 x86_64 x86_64 x86_64 gnulinux '
    config_args='-ds -e -Dprefix=/opt/perl-5.22.3 -Dcf_email=srezic@cpan.org'
    hint=recommended, useposix=true, d_sigaction=define
    useithreads=undef, usemultiplicity=undef
    use64bitint=define, use64bitall=define, uselongdouble=undef
    usemymalloc=n, bincompat5005=undef
  Compiler:
    cc='cc', ccflags ='-fwrapv -fno-strict-aliasing -pipe -fstack-protector -I/usr/local/include -D_LARGEFILE_SOURCE -D_FILE_OFFSET_BITS=64 -D_FORTIFY_SOURCE=2',
    optimize='-O2',
    cppflags='-fwrapv -fno-strict-aliasing -pipe -fstack-protector -I/usr/local/include'
    ccversion='', gccversion='4.4.7 20120313 (Red Hat 4.4.7-18)', gccosandvers=''
    intsize=4, longsize=8, ptrsize=8, doublesize=8, byteorder=12345678, doublekind=3
    d_longlong=define, longlongsize=8, d_longdbl=define, longdblsize=16, longdblkind=3
    ivtype='long', ivsize=8, nvtype='double', nvsize=8, Off_t='off_t', lseeksize=8
    alignbytes=8, prototype=define
  Linker and Libraries:
    ld='cc', ldflags =' -fstack-protector -L/usr/local/lib'
    libpth=/usr/local/lib /usr/lib /lib/../lib64 /usr/lib/../lib64 /lib /lib64 /usr/lib64 /usr/local/lib64
    libs=-lpthread -lnsl -lgdbm -ldb -ldl -lm -lcrypt -lutil -lc
    perllibs=-lpthread -lnsl -ldl -lm -lcrypt -lutil -lc
    libc=libc-2.12.so, so=so, useshrplib=false, libperl=libperl.a
    gnulibc_version='2.12'
  Dynamic Linking:
    dlsrc=dl_dlopen.xs, dlext=so, d_dlsymun=undef, ccdlflags='-Wl,-E'
    cccdlflags='-fPIC', lddlflags='-shared -O2 -L/usr/local/lib -fstack-protector'


Characteristics of this binary (from libperl): 
  Compile-time options: HAS_TIMES PERLIO_LAYERS PERL_DONT_CREATE_GVSV
                        PERL_HASH_FUNC_ONE_AT_A_TIME_HARD PERL_MALLOC_WRAP
                        PERL_NEW_COPY_ON_WRITE PERL_PRESERVE_IVUV
                        USE_64_BIT_ALL USE_64_BIT_INT USE_LARGE_FILES
                        USE_LOCALE USE_LOCALE_COLLATE USE_LOCALE_CTYPE
                        USE_LOCALE_NUMERIC USE_LOCALE_TIME USE_PERLIO
                        USE_PERL_ATOF
  Built under linux
  Compiled at Jun 21 2017 19:22:49
  %ENV:
    PERL5LIB=""
    PERL5OPT=""
    PERL5_CPANPLUS_IS_RUNNING="2444"
    PERL5_CPAN_IS_RUNNING="2444"
    PERL5_CPAN_IS_RUNNING_IN_RECURSION="1812,2444"
    PERLDOC="-MPod::Perldoc::ToTextOverstrike"
    PERL_BATCH="yes"
    PERL_CANARY_STABILITY_NOPROMPT="1"
    PERL_CPAN_REPORTER_CONFIG="/var/tmp/cpansmoker-1023/2019060323/cpanreporter_000_config.ini"
    PERL_EXTUTILS_AUTOINSTALL="--defaultdeps"
    PERL_USE_UNSAFE_INC="1"
  @INC:
    /opt/perl-5.22.3/lib/site_perl/5.22.3/x86_64-linux
    /opt/perl-5.22.3/lib/site_perl/5.22.3
    /opt/perl-5.22.3/lib/5.22.3/x86_64-linux
    /opt/perl-5.22.3/lib/5.22.3
    .