Devel-REPL v1.003029 Perl 5 v5.39.2 darwin-2level

Status
Pass
From
John SJ Anderson
Dist
Devel-REPL v1.003029
Platform
Perl 5 v5.39.2 darwin-2level
Date
2023-08-21 20:43:38
ID
67e5bd02-4063-11ee-8215-fb8e786200ef
This distribution has been tested as part of the CPAN Testers
project, supporting the Perl programming language.  See
http://wiki.cpantesters.org/ for more information or email
questions to cpan-testers-discuss@perl.org


--
Dear ETHER,

This is a computer-generated report for Devel-REPL-1.003029
on perl 5.39.2, created by App::cpanminus::reporter 0.21 (1.7047).

Thank you for uploading your work to CPAN.  Congratulations!
All tests were successful.

Sections of this report:

    * Tester comments
    * Program output
    * Prerequisites
    * Environment and other context

------------------------------
TESTER COMMENTS
------------------------------

Additional comments from tester:

none provided

------------------------------
PROGRAM OUTPUT
------------------------------

Output from '':

Building and testing Devel-REPL-1.003029
cp lib/Devel/REPL/Plugin.pm blib/lib/Devel/REPL/Plugin.pm
cp lib/Devel/REPL/Plugin/CompletionDriver/Globals.pm blib/lib/Devel/REPL/Plugin/CompletionDriver/Globals.pm
cp lib/Devel/REPL/Plugin/OutputCache.pm blib/lib/Devel/REPL/Plugin/OutputCache.pm
cp lib/Devel/REPL/Plugin/Nopaste.pm blib/lib/Devel/REPL/Plugin/Nopaste.pm
cp lib/Devel/REPL/Plugin/Completion.pm blib/lib/Devel/REPL/Plugin/Completion.pm
cp lib/Devel/REPL/Meta/Plugin.pm blib/lib/Devel/REPL/Meta/Plugin.pm
cp lib/Devel/REPL.pm blib/lib/Devel/REPL.pm
cp lib/Devel/REPL/Error.pm blib/lib/Devel/REPL/Error.pm
cp lib/Devel/REPL/Plugin/CompletionDriver/Methods.pm blib/lib/Devel/REPL/Plugin/CompletionDriver/Methods.pm
cp lib/Devel/REPL/Profile/Default.pm blib/lib/Devel/REPL/Profile/Default.pm
cp lib/Devel/REPL/Profile/Standard.pm blib/lib/Devel/REPL/Profile/Standard.pm
cp lib/Devel/REPL/Plugin/ShowClass.pm blib/lib/Devel/REPL/Plugin/ShowClass.pm
cp lib/Devel/REPL/Profile.pm blib/lib/Devel/REPL/Profile.pm
cp lib/Devel/REPL/Plugin/ReadLineHistory.pm blib/lib/Devel/REPL/Plugin/ReadLineHistory.pm
cp lib/Devel/REPL/Plugin/CompletionDriver/LexEnv.pm blib/lib/Devel/REPL/Plugin/CompletionDriver/LexEnv.pm
cp lib/Devel/REPL/Plugin/Refresh.pm blib/lib/Devel/REPL/Plugin/Refresh.pm
cp lib/Devel/REPL/Plugin/DDS.pm blib/lib/Devel/REPL/Plugin/DDS.pm
cp lib/Devel/REPL/Script.pm blib/lib/Devel/REPL/Script.pm
cp lib/Devel/REPL/Plugin/Commands.pm blib/lib/Devel/REPL/Plugin/Commands.pm
cp lib/Devel/REPL/Plugin/FancyPrompt.pm blib/lib/Devel/REPL/Plugin/FancyPrompt.pm
cp lib/Devel/REPL/Plugin/Packages.pm blib/lib/Devel/REPL/Plugin/Packages.pm
cp lib/Devel/REPL/Plugin/CompletionDriver/INC.pm blib/lib/Devel/REPL/Plugin/CompletionDriver/INC.pm
cp lib/Devel/REPL/Plugin/Turtles.pm blib/lib/Devel/REPL/Plugin/Turtles.pm
cp lib/Devel/REPL/Plugin/Timing.pm blib/lib/Devel/REPL/Plugin/Timing.pm
cp lib/Devel/REPL/Plugin/B/Concise.pm blib/lib/Devel/REPL/Plugin/B/Concise.pm
cp lib/Devel/REPL/Plugin/CompletionDriver/Keywords.pm blib/lib/Devel/REPL/Plugin/CompletionDriver/Keywords.pm
cp lib/Devel/REPL/Plugin/MultiLine/PPI.pm blib/lib/Devel/REPL/Plugin/MultiLine/PPI.pm
cp lib/Devel/REPL/Overview.pod blib/lib/Devel/REPL/Overview.pod
cp lib/Devel/REPL/Plugin/History.pm blib/lib/Devel/REPL/Plugin/History.pm
cp lib/Devel/REPL/Plugin/PPI.pm blib/lib/Devel/REPL/Plugin/PPI.pm
cp lib/Devel/REPL/Plugin/LexEnv.pm blib/lib/Devel/REPL/Plugin/LexEnv.pm
cp lib/Devel/REPL/Profile/Minimal.pm blib/lib/Devel/REPL/Profile/Minimal.pm
cp lib/Devel/REPL/Plugin/CompletionDriver/Turtles.pm blib/lib/Devel/REPL/Plugin/CompletionDriver/Turtles.pm
cp lib/Devel/REPL/Plugin/Colors.pm blib/lib/Devel/REPL/Plugin/Colors.pm
cp lib/Devel/REPL/Plugin/Interrupt.pm blib/lib/Devel/REPL/Plugin/Interrupt.pm
cp lib/Devel/REPL/Plugin/DDC.pm blib/lib/Devel/REPL/Plugin/DDC.pm
cp lib/Devel/REPL/Plugin/DumpHistory.pm blib/lib/Devel/REPL/Plugin/DumpHistory.pm
cp lib/Devel/REPL/Plugin/Peek.pm blib/lib/Devel/REPL/Plugin/Peek.pm
cp lib/Devel/REPL/Plugin/FindVariable.pm blib/lib/Devel/REPL/Plugin/FindVariable.pm
cp script/re.pl blib/script/re.pl
"/opt/plenv/versions/5.39.2/bin/perl5.39.2" -MExtUtils::MY -e 'MY->fixin(shift)' -- blib/script/re.pl
Manifying 32 pod documents
PERL_DL_NONLAZY=1 "/opt/plenv/versions/5.39.2/bin/perl5.39.2" "-MExtUtils::Command::MM" "-MTest::Harness" "-e" "undef *Test::Harness::Switches; test_harness(0, 'blib/lib', 'blib/arch')" t/*.t
# 
# Versions for all modules listed in MYMETA.json (including optional ones):
# 
# === Configure Requires ===
# 
#     Module                       Want     Have
#     ------------------------ -------- --------
#     CPAN::Meta::Requirements 2.120620    2.143
#     ExtUtils::MakeMaker           any     7.70
#     Module::Metadata              any 1.000038
# 
# === Build Requires ===
# 
#     Module              Want Have
#     ------------------- ---- ----
#     ExtUtils::MakeMaker  any 7.70
# 
# === Test Requires ===
# 
#     Module              Want     Have
#     ------------------- ---- --------
#     ExtUtils::MakeMaker  any     7.70
#     File::Spec           any     3.90
#     Test::Fatal          any    0.017
#     Test::More          0.88 1.302195
#     if                   any   0.0610
# 
# === Test Recommends ===
# 
#     Module         Want     Have
#     ---------- -------- --------
#     CPAN::Meta 2.120900 2.150010
# 
# === Runtime Requires ===
# 
#     Module                      Want   Have
#     ------------------------- ------ ------
#     B::Concise                  0.62  1.007
#     B::Keywords                  any   1.26
#     Data::Dump::Streamer        2.39   2.42
#     Data::Dumper::Concise        any  2.023
#     Devel::Peek                  any   1.34
#     File::Next                   any   1.18
#     File::Spec                   any   3.90
#     Lexical::Persistence         any  1.020
#     Module::Runtime              any  0.016
#     Moose                       0.93 2.2206
#     Moose::Meta::Role            any 2.2206
#     Moose::Role                  any 2.2206
#     MooseX::Getopt              0.18   0.75
#     MooseX::Object::Pluggable 0.0009 0.0014
#     PPI                          any  1.276
#     Scalar::Util                 any   1.63
#     Task::Weaken                 any   1.06
#     Term::ANSIColor              any   5.01
#     Term::ReadLine               any   1.17
#     Time::HiRes                  any 1.9776
#     namespace::autoclean         any   0.29
#     strict                       any   1.13
#     warnings                     any   1.67
# 
# === Runtime Recommends ===
# 
#     Module                 Want    Have
#     --------------------- ----- -------
#     App::Nopaste            any missing
#     B::Keywords             any    1.26
#     Data::Dump::Streamer   2.39    2.42
#     Data::Dumper::Concise   any   2.023
#     File::Next              any    1.18
#     Lexical::Persistence    any   1.020
#     Module::Refresh         any missing
#     PPI                     any   1.276
#     PPI::XS               0.902 missing
#     Sys::SigAction          any missing
# 
# === Other Modules ===
# 
#     Module            Have
#     --------------- ------
#     Encode            3.19
#     File::Temp      0.2311
#     JSON::PP          4.16
#     Module::Runtime  0.016
#     Sub::Name         0.27
#     YAML              1.30
#     autodie           2.36
# 
t/00-report-prereqs.t .. ok
t/load_core.t .......... ok
t/load_plugins.t ....... ok
All tests successful.
Files=3, Tests=61,  1 wallclock secs ( 0.01 usr  0.01 sys +  0.79 cusr  0.09 csys =  0.90 CPU)
Result: PASS

------------------------------
PREREQUISITES
------------------------------

Prerequisite modules loaded:

runtime:

    Module                    Need     Have    
    ------------------------- -------- --------
    B::Concise                0.62     1.007   
    B::Keywords               0        1.26    
    Data::Dump::Streamer      2.39     2.42    
    Data::Dumper::Concise     0        2.023   
    Devel::Peek               0        1.34    
    File::Next                0        1.18    
    File::Spec                0        3.90    
    Lexical::Persistence      0        1.020   
    Module::Runtime           0        0.016   
    Moose                     0.93     2.2206  
    Moose::Meta::Role         0        2.2206  
    Moose::Role               0        2.2206  
    MooseX::Getopt            0.18     0.75    
    MooseX::Object::Pluggable 0.0009   0.0014  
    namespace::autoclean      0        0.29    
    perl                      5.008001 5.039002
    PPI                       0        1.276   
    Scalar::Util              0        1.63    
    strict                    0        1.13    
    Task::Weaken              0        1.06    
    Term::ANSIColor           0        5.01    
    Term::ReadLine            0        1.17    
    Time::HiRes               0        1.9776  
    warnings                  0        1.67    

build:

    Module                    Need     Have    
    ------------------------- -------- --------
    ExtUtils::MakeMaker       0        7.70    

configure:

    Module                    Need     Have    
    ------------------------- -------- --------
    CPAN::Meta::Requirements  2.120620 2.143   
    ExtUtils::MakeMaker       0        7.70    
    Module::Metadata          0        1.000038


------------------------------
ENVIRONMENT AND OTHER CONTEXT
------------------------------

Environment variables:

    LANG = en_US.UTF-8
    LC_ALL = en_US.UTF-8
    LC_TERMINAL = iTerm2
    LC_TERMINAL_VERSION = 3.4.19
    PATH = /opt/plenv/versions/5.39.2/bin:/opt/plenv/libexec:/opt/plenv/plugins/Perl-Build/bin:/Users/genehack/bin:/opt/plenv/shims:/opt/plenv/bin:/opt/vim/bin:/opt/git/bin:/opt/local/bin:/usr/local/bin:/usr/local/sbin:/usr/bin:/bin:/usr/sbin:/sbin:/usr/local/opt/fzf/bin/
    PERL_CPANM_OPT = --skip-installed --prompt
    SHELL = /bin/zsh
    TERM = screen-256color
    TMPDIR = /var/folders/91/jjmr4sms7fz9s27f3_9glhb80000gn/T/

Perl special variables (and OS-specific diagnostics, for MSWin32):

    EGID = 20 20 12 61 79 80 81 98 701 33 100 204 250 395 398 399 400
    EUID = 501
    EXECUTABLE_NAME = /opt/plenv/versions/5.39.2/bin/perl5.39.2
    GID = 20 20 12 61 79 80 81 98 701 33 100 204 250 395 398 399 400
    UID = 501

Perl module toolchain versions installed:

    Module              Have    
    ------------------- --------
    CPAN                2.36    
    CPAN::Meta          2.150010
    Cwd                 3.90    
    ExtUtils::CBuilder  0.280239
    ExtUtils::Command   7.70    
    ExtUtils::Install   2.22    
    ExtUtils::MakeMaker 7.70    
    ExtUtils::Manifest  1.75    
    ExtUtils::ParseXS   3.51    
    File::Spec          3.90    
    JSON                4.10    
    JSON::PP            4.16    
    Module::Build       0.4234  
    Module::Signature   n/a     
    Parse::CPAN::Meta   2.150010
    Test::Harness       3.47    
    Test::More          1.302195
    YAML                1.30    
    YAML::Syck          n/a     
    version             0.9929  


--

Summary of my perl5 (revision 5 version 39 subversion 2) configuration:
   
  Platform:
    osname=darwin
    osvers=22.6.0
    archname=darwin-2level
    uname='darwin bigjob.home.genehack.org 22.6.0 darwin kernel version 22.6.0: wed jul 5 22:21:56 pdt 2023; root:xnu-8796.141.3~6release_x86_64 x86_64 i386 macmini8,1 darwin '
    config_args='-Dprefix=/opt/plenv/versions/5.39.2 -de -Dversiononly -Dusedevel -A'eval:scriptdir=/opt/plenv/versions/5.39.2/bin''
    hint=recommended
    useposix=true
    d_sigaction=define
    useithreads=undef
    usemultiplicity=undef
    use64bitint=define
    use64bitall=define
    uselongdouble=undef
    usemymalloc=n
    default_inc_excludes_dot=define
  Compiler:
    cc='cc'
    ccflags ='-fno-common -DPERL_DARWIN -mmacosx-version-min=13.5 -DNO_THREAD_SAFE_QUERYLOCALE -fno-strict-aliasing -pipe -fstack-protector-strong -I/usr/local/include'
    optimize='-O3'
    cppflags='-fno-common -DPERL_DARWIN -mmacosx-version-min=13.5 -DNO_THREAD_SAFE_QUERYLOCALE -fno-strict-aliasing -pipe -fstack-protector-strong -I/usr/local/include'
    ccversion=''
    gccversion='Apple LLVM 14.0.3 (clang-1403.0.22.14.1)'
    gccosandvers=''
    intsize=4
    longsize=8
    ptrsize=8
    doublesize=8
    byteorder=12345678
    doublekind=3
    d_longlong=define
    longlongsize=8
    d_longdbl=define
    longdblsize=16
    longdblkind=3
    ivtype='long'
    ivsize=8
    nvtype='double'
    nvsize=8
    Off_t='off_t'
    lseeksize=8
    alignbytes=8
    prototype=define
  Linker and Libraries:
    ld='cc'
    ldflags =' -mmacosx-version-min=13.5 -fstack-protector-strong -L/usr/local/lib'
    libpth=/usr/local/lib /Applications/Xcode.app/Contents/Developer/Toolchains/XcodeDefault.xctoolchain/usr/lib/clang/14.0.3/lib /Applications/Xcode.app/Contents/Developer/Platforms/MacOSX.platform/Developer/SDKs/MacOSX.sdk/usr/lib /Applications/Xcode.app/Contents/Developer/Toolchains/XcodeDefault.xctoolchain/usr/lib /usr/lib
    libs=-lgdbm
    perllibs=
    libc=
    so=dylib
    useshrplib=false
    libperl=libperl.a
    gnulibc_version=''
  Dynamic Linking:
    dlsrc=dl_dlopen.xs
    dlext=bundle
    d_dlsymun=undef
    ccdlflags=' '
    cccdlflags=' '
    lddlflags=' -mmacosx-version-min=13.5 -bundle -undefined dynamic_lookup -L/usr/local/lib -fstack-protector-strong'


Characteristics of this binary (from libperl): 
  Compile-time options:
    HAS_LONG_DOUBLE
    HAS_STRTOLD
    HAS_TIMES
    PERLIO_LAYERS
    PERL_COPY_ON_WRITE
    PERL_DONT_CREATE_GVSV
    PERL_HASH_FUNC_SIPHASH13
    PERL_HASH_USE_SBOX32
    PERL_MALLOC_WRAP
    PERL_OP_PARENT
    PERL_PRESERVE_IVUV
    PERL_USE_DEVEL
    PERL_USE_SAFE_PUTENV
    USE_64_BIT_ALL
    USE_64_BIT_INT
    USE_LARGE_FILES
    USE_LOCALE
    USE_LOCALE_COLLATE
    USE_LOCALE_CTYPE
    USE_LOCALE_NUMERIC
    USE_LOCALE_TIME
    USE_PERLIO
    USE_PERL_ATOF
  Built under darwin
  Compiled at Aug 21 2023 10:48:47
  %ENV:
    PERL_CPANM_OPT="--skip-installed --prompt"
  @INC:
    /opt/plenv/versions/5.39.2/lib/perl5/site_perl/5.39.2/darwin-2level
    /opt/plenv/versions/5.39.2/lib/perl5/site_perl/5.39.2
    /opt/plenv/versions/5.39.2/lib/perl5/5.39.2/darwin-2level
    /opt/plenv/versions/5.39.2/lib/perl5/5.39.2