JIRA-Client-REST v0.06 Perl 5 v5.24.3 RC1 x86_64-linux
- Status
- Unknown
- From
- Slaven Rezić (SREZIC)
- Dist
-
JIRA-Client-REST v0.06
- Platform
- Perl 5 v5.24.3 RC1 x86_64-linux
- Date
- 2017-09-15 09:51:12
- ID
- 6819044c-99fb-11e7-bcf7-c8d78b0c2b2c
This distribution has been tested as part of the CPAN Testers
project, supporting the Perl programming language. See
http://wiki.cpantesters.org/ for more information or email
questions to cpan-testers-discuss@perl.org
--
Dear Cory G Watson,
This is a computer-generated report for JIRA-Client-REST-0.06
on perl 5.24.3, created by CPAN-Reporter-1.2018.
Thank you for uploading your work to CPAN. However, attempting to
test your distribution gave an inconclusive result.
This could be because your distribution had an error during the make/build
stage, did not define tests, tests could not be found, because your tests were
interrupted before they finished, or because the results of the tests could not
be parsed. You may wish to consult the CPAN Testers Wiki:
http://wiki.cpantesters.org/wiki/CPANAuthorNotes
Sections of this report:
* Tester comments
* Program output
* Prerequisites
* Environment and other context
------------------------------
TESTER COMMENTS
------------------------------
Additional comments from tester:
none provided
------------------------------
PROGRAM OUTPUT
------------------------------
Output from '/usr/bin/make test':
PERL_DL_NONLAZY=1 "/opt/perl-5.24.3-RC1/bin/perl" "-MExtUtils::Command::MM" "-MTest::Harness" "-e" "undef *Test::Harness::Switches; test_harness(0, 'blib/lib', 'blib/arch')" t/*.t
Passing a list of values to enum is deprecated. Enum values should be wrapped in an arrayref. at /opt/perl-5.24.3-RC1/lib/site_perl/5.24.3/Net/HTTP/Spore/Meta/Types.pm line 18.
require Net/HTTP/Spore/Meta/Types.pm called at /opt/perl-5.24.3-RC1/lib/site_perl/5.24.3/Net/HTTP/Spore/Meta/Method.pm line 16
Net::HTTP::Spore::Meta::Method::BEGIN() called at /opt/perl-5.24.3-RC1/lib/site_perl/5.24.3/Net/HTTP/Spore/Meta/Types.pm line 0
eval {...} called at /opt/perl-5.24.3-RC1/lib/site_perl/5.24.3/Net/HTTP/Spore/Meta/Types.pm line 0
require Net/HTTP/Spore/Meta/Method.pm called at /opt/perl-5.24.3-RC1/lib/site_perl/5.24.3/Net/HTTP/Spore/Meta/Method/Spore.pm line 11
Net::HTTP::Spore::Meta::Method::Spore::BEGIN() called at /opt/perl-5.24.3-RC1/lib/site_perl/5.24.3/Net/HTTP/Spore/Meta/Types.pm line 0
eval {...} called at /opt/perl-5.24.3-RC1/lib/site_perl/5.24.3/Net/HTTP/Spore/Meta/Types.pm line 0
require Net/HTTP/Spore/Meta/Method/Spore.pm called at /opt/perl-5.24.3-RC1/lib/site_perl/5.24.3/Module/Runtime.pm line 317
Module::Runtime::require_module("Net::HTTP::Spore::Meta::Method::Spore") called at /opt/perl-5.24.3-RC1/lib/site_perl/5.24.3/Module/Runtime.pm line 394
eval {...} called at /opt/perl-5.24.3-RC1/lib/site_perl/5.24.3/Module/Runtime.pm line 394
Module::Runtime::use_package_optimistically("Net::HTTP::Spore::Meta::Method::Spore") called at /opt/perl-5.24.3-RC1/lib/site_perl/5.24.3/x86_64-linux/Moose/Util.pm line 352
Moose::Util::_load_user_class("Net::HTTP::Spore::Meta::Method::Spore", undef) called at /opt/perl-5.24.3-RC1/lib/site_perl/5.24.3/x86_64-linux/Moose/Util.pm line 147
Moose::Util::_apply_all_roles(Moose::Meta::Role=HASH(0x562da1f2ed68), undef, "Net::HTTP::Spore::Meta::Method::Spore") called at /opt/perl-5.24.3-RC1/lib/site_perl/5.24.3/x86_64-linux/Moose/Util.pm line 114
Moose::Util::apply_all_roles(Moose::Meta::Role=HASH(0x562da1f2ed68), "Net::HTTP::Spore::Meta::Method::Spore") called at /opt/perl-5.24.3-RC1/lib/site_perl/5.24.3/x86_64-linux/Moose/Role.pm line 25
Moose::Role::with(Moose::Meta::Role=HASH(0x562da1f2ed68), "Net::HTTP::Spore::Meta::Method::Spore") called at /opt/perl-5.24.3-RC1/lib/site_perl/5.24.3/x86_64-linux/Moose/Exporter.pm line 419
Moose::Role::with("Net::HTTP::Spore::Meta::Method::Spore") called at /opt/perl-5.24.3-RC1/lib/site_perl/5.24.3/Net/HTTP/Spore/Meta/Class.pm line 10
require Net/HTTP/Spore/Meta/Class.pm called at /opt/perl-5.24.3-RC1/lib/site_perl/5.24.3/Module/Runtime.pm line 317
Module::Runtime::require_module("Net::HTTP::Spore::Meta::Class") called at /opt/perl-5.24.3-RC1/lib/site_perl/5.24.3/Module/Runtime.pm line 394
eval {...} called at /opt/perl-5.24.3-RC1/lib/site_perl/5.24.3/Module/Runtime.pm line 394
Module::Runtime::use_package_optimistically("Net::HTTP::Spore::Meta::Class") called at /opt/perl-5.24.3-RC1/lib/site_perl/5.24.3/x86_64-linux/Moose/Util.pm line 352
Moose::Util::_load_user_class("Net::HTTP::Spore::Meta::Class", undef) called at /opt/perl-5.24.3-RC1/lib/site_perl/5.24.3/x86_64-linux/Moose/Util.pm line 147
Moose::Util::_apply_all_roles(Moose::Meta::Class=HASH(0x562da1f07618), undef, "Net::HTTP::Spore::Meta::Class") called at /opt/perl-5.24.3-RC1/lib/site_perl/5.24.3/x86_64-linux/Moose/Util.pm line 114
Moose::Util::apply_all_roles(Moose::Meta::Class=HASH(0x562da1f07618), "Net::HTTP::Spore::Meta::Class") called at /opt/perl-5.24.3-RC1/lib/site_perl/5.24.3/x86_64-linux/Moose/Meta/Class.pm line 88
Moose::Meta::Class::create("Moose::Meta::Class", "Moose::Meta::Class::__ANON__::SERIAL::1", "roles", ARRAY(0x562da1eb17c0), "weaken", "", "superclasses", ARRAY(0x562da1f07108)) called at /opt/perl-5.24.3-RC1/lib/site_perl/5.24.3/x86_64-linux/Class/MOP/Package.pm line 120
Class::MOP::Package::create_anon("Moose::Meta::Class", "superclasses", ARRAY(0x562da1f07108), "roles", ARRAY(0x562da1eb17c0), "cache", 1) called at /opt/perl-5.24.3-RC1/lib/site_perl/5.24.3/x86_64-linux/Class/MOP/Class.pm line 472
Class::MOP::Class::create_anon_class("Moose::Meta::Class", "superclasses", ARRAY(0x562da1f07108), "roles", ARRAY(0x562da1eb17c0), "cache", 1) called at /opt/perl-5.24.3-RC1/lib/site_perl/5.24.3/x86_64-linux/Moose/Util/MetaRole.pm line 108
Moose::Util::MetaRole::_make_new_class("Moose::Meta::Class", ARRAY(0x562da1eb17c0)) called at /opt/perl-5.24.3-RC1/lib/site_perl/5.24.3/x86_64-linux/Moose/Util/MetaRole.pm line 53
Moose::Util::MetaRole::_make_new_metaclass(Moose::Meta::Class=HASH(0x562da1eb0578), HASH(0x562da1eb20d8), "class") called at /opt/perl-5.24.3-RC1/lib/site_perl/5.24.3/x86_64-linux/Moose/Util/MetaRole.pm line 21
Moose::Util::MetaRole::apply_metaroles("for", "Net::HTTP::Spore::Core", "class_metaroles", HASH(0x562da1eb20d8)) called at /opt/perl-5.24.3-RC1/lib/site_perl/5.24.3/Net/HTTP/Spore/Meta.pm line 28
Net::HTTP::Spore::Meta::init_meta("Net::HTTP::Spore::Meta", "for_class", "Net::HTTP::Spore::Meta::Types", "metaclass", undef, "meta_name", "meta") called at /opt/perl-5.24.3-RC1/lib/site_perl/5.24.3/x86_64-linux/Moose/Exporter.pm line 484
Net::HTTP::Spore::Meta::import("Net::HTTP::Spore::Meta") called at /opt/perl-5.24.3-RC1/lib/site_perl/5.24.3/Net/HTTP/Spore/Core.pm line 6
Net::HTTP::Spore::Core::BEGIN() called at /opt/perl-5.24.3-RC1/lib/site_perl/5.24.3/Net/HTTP/Spore/Meta/Types.pm line 0
eval {...} called at /opt/perl-5.24.3-RC1/lib/site_perl/5.24.3/Net/HTTP/Spore/Meta/Types.pm line 0
require Net/HTTP/Spore/Core.pm called at /opt/perl-5.24.3-RC1/lib/site_perl/5.24.3/Net/HTTP/Spore.pm line 16
Net::HTTP::Spore::BEGIN() called at /opt/perl-5.24.3-RC1/lib/site_perl/5.24.3/Net/HTTP/Spore/Meta/Types.pm line 0
eval {...} called at /opt/perl-5.24.3-RC1/lib/site_perl/5.24.3/Net/HTTP/Spore/Meta/Types.pm line 0
require Net/HTTP/Spore.pm called at /home/cpansand/.cpan/build/2017091509/JIRA-Client-REST-0.06-0/blib/lib/JIRA/Client/REST.pm line 10
JIRA::Client::REST::BEGIN() called at /opt/perl-5.24.3-RC1/lib/site_perl/5.24.3/Net/HTTP/Spore/Meta/Types.pm line 0
eval {...} called at /opt/perl-5.24.3-RC1/lib/site_perl/5.24.3/Net/HTTP/Spore/Meta/Types.pm line 0
require JIRA/Client/REST.pm called at t/issue.t line 3
main::BEGIN() called at /opt/perl-5.24.3-RC1/lib/site_perl/5.24.3/Net/HTTP/Spore/Meta/Types.pm line 0
eval {...} called at /opt/perl-5.24.3-RC1/lib/site_perl/5.24.3/Net/HTTP/Spore/Meta/Types.pm line 0
t/issue.t ............... skipped: Set JIRA_CLIENT_REST_URL
Passing a list of values to enum is deprecated. Enum values should be wrapped in an arrayref. at /opt/perl-5.24.3-RC1/lib/site_perl/5.24.3/Net/HTTP/Spore/Meta/Types.pm line 18.
require Net/HTTP/Spore/Meta/Types.pm called at /opt/perl-5.24.3-RC1/lib/site_perl/5.24.3/Net/HTTP/Spore/Meta/Method.pm line 16
Net::HTTP::Spore::Meta::Method::BEGIN() called at /opt/perl-5.24.3-RC1/lib/site_perl/5.24.3/Net/HTTP/Spore/Meta/Types.pm line 0
eval {...} called at /opt/perl-5.24.3-RC1/lib/site_perl/5.24.3/Net/HTTP/Spore/Meta/Types.pm line 0
require Net/HTTP/Spore/Meta/Method.pm called at /opt/perl-5.24.3-RC1/lib/site_perl/5.24.3/Net/HTTP/Spore/Meta/Method/Spore.pm line 11
Net::HTTP::Spore::Meta::Method::Spore::BEGIN() called at /opt/perl-5.24.3-RC1/lib/site_perl/5.24.3/Net/HTTP/Spore/Meta/Types.pm line 0
eval {...} called at /opt/perl-5.24.3-RC1/lib/site_perl/5.24.3/Net/HTTP/Spore/Meta/Types.pm line 0
require Net/HTTP/Spore/Meta/Method/Spore.pm called at /opt/perl-5.24.3-RC1/lib/site_perl/5.24.3/Module/Runtime.pm line 317
Module::Runtime::require_module("Net::HTTP::Spore::Meta::Method::Spore") called at /opt/perl-5.24.3-RC1/lib/site_perl/5.24.3/Module/Runtime.pm line 394
eval {...} called at /opt/perl-5.24.3-RC1/lib/site_perl/5.24.3/Module/Runtime.pm line 394
Module::Runtime::use_package_optimistically("Net::HTTP::Spore::Meta::Method::Spore") called at /opt/perl-5.24.3-RC1/lib/site_perl/5.24.3/x86_64-linux/Moose/Util.pm line 352
Moose::Util::_load_user_class("Net::HTTP::Spore::Meta::Method::Spore", undef) called at /opt/perl-5.24.3-RC1/lib/site_perl/5.24.3/x86_64-linux/Moose/Util.pm line 147
Moose::Util::_apply_all_roles(Moose::Meta::Role=HASH(0x557909ca2ee8), undef, "Net::HTTP::Spore::Meta::Method::Spore") called at /opt/perl-5.24.3-RC1/lib/site_perl/5.24.3/x86_64-linux/Moose/Util.pm line 114
Moose::Util::apply_all_roles(Moose::Meta::Role=HASH(0x557909ca2ee8), "Net::HTTP::Spore::Meta::Method::Spore") called at /opt/perl-5.24.3-RC1/lib/site_perl/5.24.3/x86_64-linux/Moose/Role.pm line 25
Moose::Role::with(Moose::Meta::Role=HASH(0x557909ca2ee8), "Net::HTTP::Spore::Meta::Method::Spore") called at /opt/perl-5.24.3-RC1/lib/site_perl/5.24.3/x86_64-linux/Moose/Exporter.pm line 419
Moose::Role::with("Net::HTTP::Spore::Meta::Method::Spore") called at /opt/perl-5.24.3-RC1/lib/site_perl/5.24.3/Net/HTTP/Spore/Meta/Class.pm line 10
require Net/HTTP/Spore/Meta/Class.pm called at /opt/perl-5.24.3-RC1/lib/site_perl/5.24.3/Module/Runtime.pm line 317
Module::Runtime::require_module("Net::HTTP::Spore::Meta::Class") called at /opt/perl-5.24.3-RC1/lib/site_perl/5.24.3/Module/Runtime.pm line 394
eval {...} called at /opt/perl-5.24.3-RC1/lib/site_perl/5.24.3/Module/Runtime.pm line 394
Module::Runtime::use_package_optimistically("Net::HTTP::Spore::Meta::Class") called at /opt/perl-5.24.3-RC1/lib/site_perl/5.24.3/x86_64-linux/Moose/Util.pm line 352
Moose::Util::_load_user_class("Net::HTTP::Spore::Meta::Class", undef) called at /opt/perl-5.24.3-RC1/lib/site_perl/5.24.3/x86_64-linux/Moose/Util.pm line 147
Moose::Util::_apply_all_roles(Moose::Meta::Class=HASH(0x557909c7b788), undef, "Net::HTTP::Spore::Meta::Class") called at /opt/perl-5.24.3-RC1/lib/site_perl/5.24.3/x86_64-linux/Moose/Util.pm line 114
Moose::Util::apply_all_roles(Moose::Meta::Class=HASH(0x557909c7b788), "Net::HTTP::Spore::Meta::Class") called at /opt/perl-5.24.3-RC1/lib/site_perl/5.24.3/x86_64-linux/Moose/Meta/Class.pm line 88
Moose::Meta::Class::create("Moose::Meta::Class", "Moose::Meta::Class::__ANON__::SERIAL::1", "weaken", "", "roles", ARRAY(0x557909c25888), "superclasses", ARRAY(0x557909c7b278)) called at /opt/perl-5.24.3-RC1/lib/site_perl/5.24.3/x86_64-linux/Class/MOP/Package.pm line 120
Class::MOP::Package::create_anon("Moose::Meta::Class", "superclasses", ARRAY(0x557909c7b278), "roles", ARRAY(0x557909c25888), "cache", 1) called at /opt/perl-5.24.3-RC1/lib/site_perl/5.24.3/x86_64-linux/Class/MOP/Class.pm line 472
Class::MOP::Class::create_anon_class("Moose::Meta::Class", "superclasses", ARRAY(0x557909c7b278), "roles", ARRAY(0x557909c25888), "cache", 1) called at /opt/perl-5.24.3-RC1/lib/site_perl/5.24.3/x86_64-linux/Moose/Util/MetaRole.pm line 108
Moose::Util::MetaRole::_make_new_class("Moose::Meta::Class", ARRAY(0x557909c25888)) called at /opt/perl-5.24.3-RC1/lib/site_perl/5.24.3/x86_64-linux/Moose/Util/MetaRole.pm line 53
Moose::Util::MetaRole::_make_new_metaclass(Moose::Meta::Class=HASH(0x557909c24688), HASH(0x557909c26230), "class") called at /opt/perl-5.24.3-RC1/lib/site_perl/5.24.3/x86_64-linux/Moose/Util/MetaRole.pm line 21
Moose::Util::MetaRole::apply_metaroles("for", "Net::HTTP::Spore::Core", "class_metaroles", HASH(0x557909c26230)) called at /opt/perl-5.24.3-RC1/lib/site_perl/5.24.3/Net/HTTP/Spore/Meta.pm line 28
Net::HTTP::Spore::Meta::init_meta("Net::HTTP::Spore::Meta", "for_class", "Net::HTTP::Spore::Meta::Types", "metaclass", undef, "meta_name", "meta") called at /opt/perl-5.24.3-RC1/lib/site_perl/5.24.3/x86_64-linux/Moose/Exporter.pm line 484
Net::HTTP::Spore::Meta::import("Net::HTTP::Spore::Meta") called at /opt/perl-5.24.3-RC1/lib/site_perl/5.24.3/Net/HTTP/Spore/Core.pm line 6
Net::HTTP::Spore::Core::BEGIN() called at /opt/perl-5.24.3-RC1/lib/site_perl/5.24.3/Net/HTTP/Spore/Meta/Types.pm line 0
eval {...} called at /opt/perl-5.24.3-RC1/lib/site_perl/5.24.3/Net/HTTP/Spore/Meta/Types.pm line 0
require Net/HTTP/Spore/Core.pm called at /opt/perl-5.24.3-RC1/lib/site_perl/5.24.3/Net/HTTP/Spore.pm line 16
Net::HTTP::Spore::BEGIN() called at /opt/perl-5.24.3-RC1/lib/site_perl/5.24.3/Net/HTTP/Spore/Meta/Types.pm line 0
eval {...} called at /opt/perl-5.24.3-RC1/lib/site_perl/5.24.3/Net/HTTP/Spore/Meta/Types.pm line 0
require Net/HTTP/Spore.pm called at /home/cpansand/.cpan/build/2017091509/JIRA-Client-REST-0.06-0/blib/lib/JIRA/Client/REST.pm line 10
JIRA::Client::REST::BEGIN() called at /opt/perl-5.24.3-RC1/lib/site_perl/5.24.3/Net/HTTP/Spore/Meta/Types.pm line 0
eval {...} called at /opt/perl-5.24.3-RC1/lib/site_perl/5.24.3/Net/HTTP/Spore/Meta/Types.pm line 0
require JIRA/Client/REST.pm called at t/project.t line 3
main::BEGIN() called at /opt/perl-5.24.3-RC1/lib/site_perl/5.24.3/Net/HTTP/Spore/Meta/Types.pm line 0
eval {...} called at /opt/perl-5.24.3-RC1/lib/site_perl/5.24.3/Net/HTTP/Spore/Meta/Types.pm line 0
t/project.t ............. skipped: Set JIRA_CLIENT_REST_URL
t/release-pod-syntax.t .. skipped: these tests are for release candidate testing
t/release-synopsis.t .... skipped: these tests are for release candidate testing
Passing a list of values to enum is deprecated. Enum values should be wrapped in an arrayref. at /opt/perl-5.24.3-RC1/lib/site_perl/5.24.3/Net/HTTP/Spore/Meta/Types.pm line 18.
require Net/HTTP/Spore/Meta/Types.pm called at /opt/perl-5.24.3-RC1/lib/site_perl/5.24.3/Net/HTTP/Spore/Meta/Method.pm line 16
Net::HTTP::Spore::Meta::Method::BEGIN() called at /opt/perl-5.24.3-RC1/lib/site_perl/5.24.3/Net/HTTP/Spore/Meta/Types.pm line 0
eval {...} called at /opt/perl-5.24.3-RC1/lib/site_perl/5.24.3/Net/HTTP/Spore/Meta/Types.pm line 0
require Net/HTTP/Spore/Meta/Method.pm called at /opt/perl-5.24.3-RC1/lib/site_perl/5.24.3/Net/HTTP/Spore/Meta/Method/Spore.pm line 11
Net::HTTP::Spore::Meta::Method::Spore::BEGIN() called at /opt/perl-5.24.3-RC1/lib/site_perl/5.24.3/Net/HTTP/Spore/Meta/Types.pm line 0
eval {...} called at /opt/perl-5.24.3-RC1/lib/site_perl/5.24.3/Net/HTTP/Spore/Meta/Types.pm line 0
require Net/HTTP/Spore/Meta/Method/Spore.pm called at /opt/perl-5.24.3-RC1/lib/site_perl/5.24.3/Module/Runtime.pm line 317
Module::Runtime::require_module("Net::HTTP::Spore::Meta::Method::Spore") called at /opt/perl-5.24.3-RC1/lib/site_perl/5.24.3/Module/Runtime.pm line 394
eval {...} called at /opt/perl-5.24.3-RC1/lib/site_perl/5.24.3/Module/Runtime.pm line 394
Module::Runtime::use_package_optimistically("Net::HTTP::Spore::Meta::Method::Spore") called at /opt/perl-5.24.3-RC1/lib/site_perl/5.24.3/x86_64-linux/Moose/Util.pm line 352
Moose::Util::_load_user_class("Net::HTTP::Spore::Meta::Method::Spore", undef) called at /opt/perl-5.24.3-RC1/lib/site_perl/5.24.3/x86_64-linux/Moose/Util.pm line 147
Moose::Util::_apply_all_roles(Moose::Meta::Role=HASH(0x55f59ddedce8), undef, "Net::HTTP::Spore::Meta::Method::Spore") called at /opt/perl-5.24.3-RC1/lib/site_perl/5.24.3/x86_64-linux/Moose/Util.pm line 114
Moose::Util::apply_all_roles(Moose::Meta::Role=HASH(0x55f59ddedce8), "Net::HTTP::Spore::Meta::Method::Spore") called at /opt/perl-5.24.3-RC1/lib/site_perl/5.24.3/x86_64-linux/Moose/Role.pm line 25
Moose::Role::with(Moose::Meta::Role=HASH(0x55f59ddedce8), "Net::HTTP::Spore::Meta::Method::Spore") called at /opt/perl-5.24.3-RC1/lib/site_perl/5.24.3/x86_64-linux/Moose/Exporter.pm line 419
Moose::Role::with("Net::HTTP::Spore::Meta::Method::Spore") called at /opt/perl-5.24.3-RC1/lib/site_perl/5.24.3/Net/HTTP/Spore/Meta/Class.pm line 10
require Net/HTTP/Spore/Meta/Class.pm called at /opt/perl-5.24.3-RC1/lib/site_perl/5.24.3/Module/Runtime.pm line 317
Module::Runtime::require_module("Net::HTTP::Spore::Meta::Class") called at /opt/perl-5.24.3-RC1/lib/site_perl/5.24.3/Module/Runtime.pm line 394
eval {...} called at /opt/perl-5.24.3-RC1/lib/site_perl/5.24.3/Module/Runtime.pm line 394
Module::Runtime::use_package_optimistically("Net::HTTP::Spore::Meta::Class") called at /opt/perl-5.24.3-RC1/lib/site_perl/5.24.3/x86_64-linux/Moose/Util.pm line 352
Moose::Util::_load_user_class("Net::HTTP::Spore::Meta::Class", undef) called at /opt/perl-5.24.3-RC1/lib/site_perl/5.24.3/x86_64-linux/Moose/Util.pm line 147
Moose::Util::_apply_all_roles(Moose::Meta::Class=HASH(0x55f59ddc6668), undef, "Net::HTTP::Spore::Meta::Class") called at /opt/perl-5.24.3-RC1/lib/site_perl/5.24.3/x86_64-linux/Moose/Util.pm line 114
Moose::Util::apply_all_roles(Moose::Meta::Class=HASH(0x55f59ddc6668), "Net::HTTP::Spore::Meta::Class") called at /opt/perl-5.24.3-RC1/lib/site_perl/5.24.3/x86_64-linux/Moose/Meta/Class.pm line 88
Moose::Meta::Class::create("Moose::Meta::Class", "Moose::Meta::Class::__ANON__::SERIAL::1", "roles", ARRAY(0x55f59dd70758), "weaken", "", "superclasses", ARRAY(0x55f59ddc6158)) called at /opt/perl-5.24.3-RC1/lib/site_perl/5.24.3/x86_64-linux/Class/MOP/Package.pm line 120
Class::MOP::Package::create_anon("Moose::Meta::Class", "superclasses", ARRAY(0x55f59ddc6158), "roles", ARRAY(0x55f59dd70758), "cache", 1) called at /opt/perl-5.24.3-RC1/lib/site_perl/5.24.3/x86_64-linux/Class/MOP/Class.pm line 472
Class::MOP::Class::create_anon_class("Moose::Meta::Class", "superclasses", ARRAY(0x55f59ddc6158), "roles", ARRAY(0x55f59dd70758), "cache", 1) called at /opt/perl-5.24.3-RC1/lib/site_perl/5.24.3/x86_64-linux/Moose/Util/MetaRole.pm line 108
Moose::Util::MetaRole::_make_new_class("Moose::Meta::Class", ARRAY(0x55f59dd70758)) called at /opt/perl-5.24.3-RC1/lib/site_perl/5.24.3/x86_64-linux/Moose/Util/MetaRole.pm line 53
Moose::Util::MetaRole::_make_new_metaclass(Moose::Meta::Class=HASH(0x55f59dd6f528), HASH(0x55f59dd50228), "class") called at /opt/perl-5.24.3-RC1/lib/site_perl/5.24.3/x86_64-linux/Moose/Util/MetaRole.pm line 21
Moose::Util::MetaRole::apply_metaroles("for", "Net::HTTP::Spore::Core", "class_metaroles", HASH(0x55f59dd50228)) called at /opt/perl-5.24.3-RC1/lib/site_perl/5.24.3/Net/HTTP/Spore/Meta.pm line 28
Net::HTTP::Spore::Meta::init_meta("Net::HTTP::Spore::Meta", "for_class", "Net::HTTP::Spore::Meta::Types", "metaclass", undef, "meta_name", "meta") called at /opt/perl-5.24.3-RC1/lib/site_perl/5.24.3/x86_64-linux/Moose/Exporter.pm line 484
Net::HTTP::Spore::Meta::import("Net::HTTP::Spore::Meta") called at /opt/perl-5.24.3-RC1/lib/site_perl/5.24.3/Net/HTTP/Spore/Core.pm line 6
Net::HTTP::Spore::Core::BEGIN() called at /opt/perl-5.24.3-RC1/lib/site_perl/5.24.3/Net/HTTP/Spore/Meta/Types.pm line 0
eval {...} called at /opt/perl-5.24.3-RC1/lib/site_perl/5.24.3/Net/HTTP/Spore/Meta/Types.pm line 0
require Net/HTTP/Spore/Core.pm called at /opt/perl-5.24.3-RC1/lib/site_perl/5.24.3/Net/HTTP/Spore.pm line 16
Net::HTTP::Spore::BEGIN() called at /opt/perl-5.24.3-RC1/lib/site_perl/5.24.3/Net/HTTP/Spore/Meta/Types.pm line 0
eval {...} called at /opt/perl-5.24.3-RC1/lib/site_perl/5.24.3/Net/HTTP/Spore/Meta/Types.pm line 0
require Net/HTTP/Spore.pm called at /home/cpansand/.cpan/build/2017091509/JIRA-Client-REST-0.06-0/blib/lib/JIRA/Client/REST.pm line 10
JIRA::Client::REST::BEGIN() called at /opt/perl-5.24.3-RC1/lib/site_perl/5.24.3/Net/HTTP/Spore/Meta/Types.pm line 0
eval {...} called at /opt/perl-5.24.3-RC1/lib/site_perl/5.24.3/Net/HTTP/Spore/Meta/Types.pm line 0
require JIRA/Client/REST.pm called at t/version.t line 3
main::BEGIN() called at /opt/perl-5.24.3-RC1/lib/site_perl/5.24.3/Net/HTTP/Spore/Meta/Types.pm line 0
eval {...} called at /opt/perl-5.24.3-RC1/lib/site_perl/5.24.3/Net/HTTP/Spore/Meta/Types.pm line 0
t/version.t ............. skipped: Set JIRA_CLIENT_REST_URL
Files=5, Tests=0, 1 wallclock secs ( 0.02 usr 0.02 sys + 0.99 cusr 0.10 csys = 1.13 CPU)
Result: NOTESTS
------------------------------
PREREQUISITES
------------------------------
Prerequisite modules loaded:
requires:
Module Need Have
------------------- ---- --------
JSON 0 2.94
JSON::XS 0 3.04
Moose 0 2.2006
Net::HTTP::Spore 0 0.06
build_requires:
Module Need Have
------------------- ---- --------
strict 0 1.11
Test::More 0 1.302096
configure_requires:
Module Need Have
------------------- ---- --------
ExtUtils::MakeMaker 6.30 7.30
------------------------------
ENVIRONMENT AND OTHER CONTEXT
------------------------------
Environment variables:
LANG = C
LC_ALL = de_DE.UTF-8
PATH = /usr/local/bin:/usr/bin:/bin:/usr/local/sbin:/usr/sbin:/sbin:/home/cpansand/bin/linux-gnu:/home/cpansand/bin/sh:/home/cpansand/bin:/usr/games:/home/cpansand/devel:/home/eserte/src/srezic-misc/scripts
PERL5LIB =
PERL5OPT =
PERL5_CPANPLUS_IS_RUNNING = 2379
PERL5_CPAN_IS_RUNNING = 2379
PERL5_CPAN_IS_RUNNING_IN_RECURSION = 13867,2379
PERLDOC = -MPod::Perldoc::ToTextOverstrike
PERL_BATCH = yes
PERL_CANARY_STABILITY_NOPROMPT = 1
PERL_CPAN_REPORTER_CONFIG = /var/tmp/cpansmoker-1023/2017091415/cpanreporter_001_config.ini
PERL_EXTUTILS_AUTOINSTALL = --defaultdeps
PERL_PARALLEL_SMOKER = yes
PERL_USE_UNSAFE_INC = 1
SHELL = /usr/bin/zsh
TERM = screen
TMPDIR = /var/tmp/cpansmoker-1023/2017091415
Perl special variables (and OS-specific diagnostics, for MSWin32):
$^X = /opt/perl-5.24.3-RC1/bin/perl
$UID/$EUID = 1023 / 1023
$GID = 1023 1023
$EGID = 1023 1023
Perl module toolchain versions installed:
Module Have
------------------- --------
CPAN 2.16
CPAN::Meta 2.150010
Cwd 3.62
ExtUtils::CBuilder 0.280226
ExtUtils::Command 7.30
ExtUtils::Install 2.14
ExtUtils::MakeMaker 7.30
ExtUtils::Manifest 1.70
ExtUtils::ParseXS 3.35
File::Spec 3.62
JSON 2.94
JSON::PP 2.94
Module::Build 0.4224
Module::Signature 0.81
Parse::CPAN::Meta 2.150010
Test::Harness 3.39
Test::More 1.302096
YAML 1.23
YAML::Syck 1.30
version 0.9918
--
Summary of my perl5 (revision 5 version 24 subversion 3) configuration:
Platform:
osname=linux, osvers=4.9.0-3-amd64, archname=x86_64-linux
uname='linux debian9 4.9.0-3-amd64 #1 smp debian 4.9.30-2+deb9u3 (2017-08-06) x86_64 gnulinux '
config_args='-ds -e -Dprefix=/opt/perl-5.24.3-RC1 -Dcf_email=srezic@cpan.org'
hint=recommended, useposix=true, d_sigaction=define
useithreads=undef, usemultiplicity=undef
use64bitint=define, use64bitall=define, uselongdouble=undef
usemymalloc=n, bincompat5005=undef
Compiler:
cc='cc', ccflags ='-fwrapv -fno-strict-aliasing -pipe -fstack-protector-strong -I/usr/local/include -D_LARGEFILE_SOURCE -D_FILE_OFFSET_BITS=64',
optimize='-O2',
cppflags='-fwrapv -fno-strict-aliasing -pipe -fstack-protector-strong -I/usr/local/include'
ccversion='', gccversion='6.3.0 20170516', gccosandvers=''
intsize=4, longsize=8, ptrsize=8, doublesize=8, byteorder=12345678, doublekind=3
d_longlong=define, longlongsize=8, d_longdbl=define, longdblsize=16, longdblkind=3
ivtype='long', ivsize=8, nvtype='double', nvsize=8, Off_t='off_t', lseeksize=8
alignbytes=8, prototype=define
Linker and Libraries:
ld='cc', ldflags =' -fstack-protector-strong -L/usr/local/lib'
libpth=/usr/local/lib /usr/lib/gcc/x86_64-linux-gnu/6/include-fixed /usr/include/x86_64-linux-gnu /usr/lib /lib/x86_64-linux-gnu /lib/../lib /usr/lib/x86_64-linux-gnu /usr/lib/../lib /lib
libs=-lpthread -lnsl -lgdbm -ldb -ldl -lm -lcrypt -lutil -lc -lgdbm_compat
perllibs=-lpthread -lnsl -ldl -lm -lcrypt -lutil -lc
libc=libc-2.24.so, so=so, useshrplib=false, libperl=libperl.a
gnulibc_version='2.24'
Dynamic Linking:
dlsrc=dl_dlopen.xs, dlext=so, d_dlsymun=undef, ccdlflags='-Wl,-E'
cccdlflags='-fPIC', lddlflags='-shared -O2 -L/usr/local/lib -fstack-protector-strong'
Characteristics of this binary (from libperl):
Compile-time options: HAS_TIMES PERLIO_LAYERS PERL_COPY_ON_WRITE
PERL_DONT_CREATE_GVSV
PERL_HASH_FUNC_ONE_AT_A_TIME_HARD PERL_MALLOC_WRAP
PERL_PRESERVE_IVUV USE_64_BIT_ALL USE_64_BIT_INT
USE_LARGE_FILES USE_LOCALE USE_LOCALE_COLLATE
USE_LOCALE_CTYPE USE_LOCALE_NUMERIC USE_LOCALE_TIME
USE_PERLIO USE_PERL_ATOF
Locally applied patches:
RC1
Built under linux
Compiled at Sep 10 2017 16:04:31
%ENV:
PERL5LIB=""
PERL5OPT=""
PERL5_CPANPLUS_IS_RUNNING="2379"
PERL5_CPAN_IS_RUNNING="2379"
PERL5_CPAN_IS_RUNNING_IN_RECURSION="13867,2379"
PERLDOC="-MPod::Perldoc::ToTextOverstrike"
PERL_BATCH="yes"
PERL_CANARY_STABILITY_NOPROMPT="1"
PERL_CPAN_REPORTER_CONFIG="/var/tmp/cpansmoker-1023/2017091415/cpanreporter_001_config.ini"
PERL_EXTUTILS_AUTOINSTALL="--defaultdeps"
PERL_PARALLEL_SMOKER="yes"
PERL_USE_UNSAFE_INC="1"
@INC:
/opt/perl-5.24.3-RC1/lib/site_perl/5.24.3/x86_64-linux
/opt/perl-5.24.3-RC1/lib/site_perl/5.24.3
/opt/perl-5.24.3-RC1/lib/5.24.3/x86_64-linux
/opt/perl-5.24.3-RC1/lib/5.24.3
.