Template-Toolkit v3.102 Perl 5 v5.41.11 amd64-midnightbsd-thread-multi

Status
Pass
From
Carlos Guevara
Dist
Template-Toolkit v3.102
Platform
Perl 5 v5.41.11 amd64-midnightbsd-thread-multi
Date
2025-03-29 18:05:33
ID
6893cce8-0cc8-11f0-8fe8-dbcd441b6543
This distribution has been tested as part of the CPAN Testers
project, supporting the Perl programming language.  See
http://wiki.cpantesters.org/ for more information or email
questions to cpan-testers-discuss@perl.org


--
Dear Todd Rinaldo,

This is a computer-generated report for Template-Toolkit-3.102
on perl 5.41.11, created by CPAN-Reporter-1.2020.

Thank you for uploading your work to CPAN.  Congratulations!
All tests were successful.

Sections of this report:

    * Tester comments
    * Program output
    * Prerequisites
    * Environment and other context

------------------------------
TESTER COMMENTS
------------------------------

Additional comments from tester:

this report is from an automated smoke testing program
and was not reviewed by a human for accuracy

------------------------------
PROGRAM OUTPUT
------------------------------

Output from '/usr/bin/make test':

"/usr/home/cpan/bin/perl/bin/perl5.41.11" -MExtUtils::Command::MM -e 'cp_nonempty' -- XS.bs ../blib/arch/auto/Template/Stash/XS/XS.bs 644
"/usr/home/cpan/bin/perl/bin/perl5.41.11" -MExtUtils::Command::MM -e 'cp_nonempty' -- XS.bs ../blib/arch/auto/Template/Stash/XS/XS.bs 644
No tests defined for Template::Stash::XS extension.
PERL_DL_NONLAZY=1 "/usr/home/cpan/bin/perl/bin/perl5.41.11" "-MExtUtils::Command::MM" "-MTest::Harness" "-e" "undef *Test::Harness::Switches; test_harness(0, 'blib/lib', 'blib/arch')" t/anycase.t t/args.t t/assert.t t/base.t t/binop.t t/block.t t/block_duplicate.t t/blocks.t t/capture.t t/case.t t/chomp.t t/compile1.t t/compile2.t t/compile3.t t/compile4.t t/compile5.t t/config.t t/constants.t t/context.t t/datafile.t t/date.t t/date_offset.t t/date_utf8.t t/debug.t t/directive.t t/directry.t t/document.t t/dumper.t t/error.t t/evalperl.t t/exception.t t/factory.t t/file.t t/fileline.t t/filter.t t/foreach.t t/format.t t/html.t t/image.t t/include.t t/iterator.t t/leak.t t/list.t t/load_order_vmethods_stash.t t/macro.t t/math.t t/math_rand.t t/meta.t t/mtime-zero.t t/object.t t/outline.t t/outline_line.t t/output.t t/parser.t t/parser2.t t/plugins.t t/plusfile.t t/pod.t t/prefix.t t/proc.t t/process-relative.t t/process.t t/process_dir.t t/provider.t t/ref.t t/scalar.t t/service.t t/skel.t t/stash-xs-unicode.t t/stash-xs.t t/stash.t t/stashc.t t/stop.t t/strcat.t t/strict.t t/string.t t/switch.t t/table.t t/tags.t t/template.t t/text.t t/throw.t t/tiedhash.t t/trace_vars.t t/try.t t/unicode.t t/url.t t/vars.t t/varsv1.t t/view.t t/while.t t/wrap.t t/wrapper.t t/zz-plugin-cycle.t t/zz-plugin-leak-gh-213.t t/zz-plugin-leak-rt-46691.t t/zz-plugin-leak.t t/zz-pmv.t t/zz-pod-coverage.t t/zz-pod-kwalitee.t t/zz-stash-xs-leak.t t/zz-url2.t t/vmethods/hash.t t/vmethods/list.t t/vmethods/replace.t t/vmethods/text.t
t/compile1.t ................... ok
t/compile2.t ................... ok
t/compile3.t ................... ok
t/compile4.t ................... ok
t/compile5.t ................... ok
t/anycase.t .................... ok
t/args.t ....................... ok
t/assert.t ..................... ok
t/base.t ....................... ok
t/binop.t ...................... ok
t/block.t ...................... ok
t/block_duplicate.t ............ ok
t/blocks.t ..................... ok
t/capture.t .................... ok
t/case.t ....................... ok
t/chomp.t ...................... ok
t/config.t ..................... ok
t/constants.t .................. ok
t/context.t .................... ok
t/datafile.t ................... ok
t/date.t ....................... ok
t/date_offset.t ................ ok
t/date_utf8.t .................. skipped: Need to set env variable AUTHOR_TESTING=1
t/debug.t ...................... ok
t/directive.t .................. ok
t/directry.t ................... ok
t/document.t ................... ok
t/dumper.t ..................... ok
t/error.t ...................... ok
t/evalperl.t ................... ok
t/exception.t .................. ok
t/factory.t .................... ok
t/file.t ....................... ok
t/fileline.t ................... ok
t/filter.t ..................... ok
t/foreach.t .................... ok
t/format.t ..................... ok
t/html.t ....................... ok
t/image.t ...................... skipped: Neither Image::Info nor Image::Size installed
t/include.t .................... ok
t/iterator.t ................... ok
t/leak.t ....................... ok
t/list.t ....................... ok
t/load_order_vmethods_stash.t .. ok
t/macro.t ...................... ok
t/math.t ....................... ok
t/math_rand.t .................. ok
t/meta.t ....................... ok
t/mtime-zero.t ................. ok
t/object.t ..................... ok
t/outline.t .................... ok
t/outline_line.t ............... ok
t/output.t ..................... ok
t/parser.t ..................... ok
t/parser2.t .................... ok
t/plugins.t .................... ok
t/plusfile.t ................... ok
t/pod.t ........................ skipped: Pod::POM not installed
t/prefix.t ..................... ok
t/proc.t ....................... ok
t/process-relative.t ........... ok
t/process.t .................... ok
t/process_dir.t ................ ok
t/provider.t ................... ok
t/ref.t ........................ ok
t/scalar.t ..................... ok
t/service.t .................... ok
t/skel.t ....................... ok
t/stash-xs-unicode.t ........... ok
t/stash-xs.t ................... ok
t/stash.t ...................... ok
t/stashc.t ..................... ok
t/stop.t ....................... ok
t/strcat.t ..................... ok
t/strict.t ..................... ok
t/string.t ..................... ok
t/switch.t ..................... ok
t/table.t ...................... ok
t/tags.t ....................... ok
t/template.t ................... ok
t/text.t ....................... ok
t/throw.t ...................... ok
t/tiedhash.t ................... ok
t/trace_vars.t ................. ok
t/try.t ........................ ok
t/unicode.t .................... ok
t/url.t ........................ ok
t/vars.t ....................... ok
t/varsv1.t ..................... ok
t/view.t ....................... ok
t/vmethods/hash.t .............. ok
t/vmethods/list.t .............. ok
t/vmethods/replace.t ........... ok
t/vmethods/text.t .............. ok
t/while.t ...................... ok
t/wrap.t ....................... ok
t/wrapper.t .................... ok
t/zz-plugin-cycle.t ............ ok
t/zz-plugin-leak-gh-213.t ...... skipped: Broken on older perls. We need to sort this out once everything is passing
t/zz-plugin-leak-rt-46691.t .... ok
t/zz-plugin-leak.t ............. skipped: Internal test for developer, add the --dev flag to run
t/zz-pmv.t ..................... skipped: These aren't the tests you're looking for... move along
t/zz-pod-coverage.t ............ skipped: Author tests not required for installation
t/zz-pod-kwalitee.t ............ skipped: Author tests not required for installation
t/zz-stash-xs-leak.t ........... skipped: Internal test for developer, add the --dev flag to run
t/zz-url2.t .................... skipped: We can't agree on the right joint for the URL plugin
All tests successful.
Files=106, Tests=2918, 19 wallclock secs ( 0.32 usr  0.09 sys +  5.13 cusr  0.69 csys =  6.23 CPU)
Result: PASS

------------------------------
PREREQUISITES
------------------------------

Prerequisite modules loaded:

requires:

    Module              Need Have   
    ------------------- ---- -------
    AppConfig           1.56 1.71   
    File::Spec          0.8  3.93   
    File::Temp          0.12 0.2311 
    Scalar::Util        0    1.68_01

build_requires:

    Module              Need Have   
    ------------------- ---- -------
    ExtUtils::MakeMaker 0    7.72   
    Test::LeakTrace     0    0.17   

configure_requires:

    Module              Need Have   
    ------------------- ---- -------
    ExtUtils::MakeMaker 0    7.72   


------------------------------
ENVIRONMENT AND OTHER CONTEXT
------------------------------

Environment variables:

    AUTOMATED_TESTING = 1
    DATE_MANIP_TEST_DM5 = 1
    LC_ALL = C
    NONINTERACTIVE_TESTING = 1
    NO_NETWORK_TESTING = 1
    PATH = /home/cpan/bin/perl/bin:/home/cpan/bin:/sbin:/bin:/usr/sbin:/usr/bin:/usr/games:/usr/local/sbin:/usr/local/bin:/home/cpan/bin
    PERL5LIB = 
    PERL5OPT = 
    PERL5_CPANPLUS_IS_RUNNING = 93382
    PERL5_CPAN_IS_RUNNING = 93382
    PERL_MM_USE_DEFAULT = 1
    PERL_USE_UNSAFE_INC = 1
    SHELL = /usr/local/bin/bash
    TERM = screen
    TMPDIR = /home/cpan/tmp

Perl special variables (and OS-specific diagnostics, for MSWin32):

    $^X = /usr/home/cpan/bin/perl/bin/perl5.41.11
    $UID/$EUID = 1002 / 1002
    $GID = 1002 1002
    $EGID = 1002 1002

Perl module toolchain versions installed:

    Module              Have    
    ------------------- --------
    CPAN                2.38    
    CPAN::Meta          2.150010
    Cwd                 3.92    
    ExtUtils::CBuilder  0.280240
    ExtUtils::Command   7.72    
    ExtUtils::Install   2.22    
    ExtUtils::MakeMaker 7.72    
    ExtUtils::Manifest  1.75    
    ExtUtils::ParseXS   3.57    
    File::Spec          3.93    
    JSON                4.10    
    JSON::PP            4.16    
    Module::Build       0.4234  
    Module::Signature   n/a     
    Parse::CPAN::Meta   2.150010
    Test2               1.302209
    Test::Harness       3.50    
    Test::More          1.302209
    YAML                n/a     
    YAML::Syck          n/a     
    version             0.9933  


--

Summary of my perl5 (revision 5 version 41 subversion 11) configuration:
  Commit id: 654993734bba564be7013d78ecc24a4d2330c0bb
  Platform:
    osname=midnightbsd
    osvers=3.2.1
    archname=amd64-midnightbsd-thread-multi
    uname='midnightbsd cjg-midnightbsd3 3.2.1 midnightbsd 3.2.1 #15n13132-0869ed7092(stable3.2)-dirty: wed nov 6 12:53:25 est 2024 root@m3264:usrobjusrsrcamd64.amd64sysgeneric amd64 '
    config_args='-des -Dprefix=/home/cpan/bin/perl -Dscriptdir=/home/cpan/bin/perl/bin -Dusedevel -Duse64bitall -Duseithreads'
    hint=recommended
    useposix=true
    d_sigaction=define
    useithreads=define
    usemultiplicity=define
    use64bitint=define
    use64bitall=define
    uselongdouble=undef
    usemymalloc=n
    default_inc_excludes_dot=define
  Compiler:
    cc='cc'
    ccflags ='-DHAS_FPSETMASK -DHAS_FLOATINGPOINT_H -fno-strict-aliasing -pipe -fstack-protector-strong -I/usr/local/include'
    optimize='-O'
    cppflags='-DHAS_FPSETMASK -DHAS_FLOATINGPOINT_H -fno-strict-aliasing -pipe -fstack-protector-strong -I/usr/local/include'
    ccversion=''
    gccversion='MidnightBSD Clang 13.0.0 (git@github.com:llvm/llvm-project.git llvmorg-13.0.0-0-gd7b669b3a303)'
    gccosandvers=''
    intsize=4
    longsize=8
    ptrsize=8
    doublesize=8
    byteorder=12345678
    doublekind=3
    d_longlong=define
    longlongsize=8
    d_longdbl=define
    longdblsize=16
    longdblkind=3
    ivtype='long'
    ivsize=8
    nvtype='double'
    nvsize=8
    Off_t='off_t'
    lseeksize=8
    alignbytes=8
    prototype=define
  Linker and Libraries:
    ld='cc'
    ldflags ='-pthread -Wl,-E  -fstack-protector-strong -L/usr/local/lib'
    libpth=/usr/lib /usr/local/lib /usr/lib/clang/13.0.0/lib
    libs=-lpthread -lgdbm -ldl -lm -lcrypt
    perllibs=-lpthread -ldl -lm -lcrypt
    libc=
    so=so
    useshrplib=false
    libperl=libperl.a
    gnulibc_version=''
  Dynamic Linking:
    dlsrc=dl_dlopen.xs
    dlext=so
    d_dlsymun=undef
    ccdlflags=' '
    cccdlflags='-DPIC -fPIC'
    lddlflags='-shared  -L/usr/local/lib -fstack-protector-strong'


Characteristics of this binary (from libperl): 
  Compile-time options:
    HAS_LONG_DOUBLE
    HAS_STRTOLD
    HAS_TIMES
    MULTIPLICITY
    PERLIO_LAYERS
    PERL_COPY_ON_WRITE
    PERL_DONT_CREATE_GVSV
    PERL_HASH_FUNC_SIPHASH13
    PERL_HASH_USE_SBOX32
    PERL_MALLOC_WRAP
    PERL_OP_PARENT
    PERL_PRESERVE_IVUV
    PERL_USE_DEVEL
    PERL_USE_SAFE_PUTENV
    USE_64_BIT_ALL
    USE_64_BIT_INT
    USE_ITHREADS
    USE_LARGE_FILES
    USE_LOCALE
    USE_LOCALE_COLLATE
    USE_LOCALE_CTYPE
    USE_LOCALE_NUMERIC
    USE_LOCALE_TIME
    USE_PERLIO
    USE_PERL_ATOF
    USE_REENTRANT_API
    USE_THREAD_SAFE_LOCALE
  Built under midnightbsd
  Compiled at Mar 29 2025 13:19:50
  %ENV:
    PERL5LIB=""
    PERL5OPT=""
    PERL5_CPANPLUS_IS_RUNNING="93382"
    PERL5_CPAN_IS_RUNNING="93382"
    PERL_MM_USE_DEFAULT="1"
    PERL_USE_UNSAFE_INC="1"
  @INC:
    /home/cpan/bin/perl/lib/site_perl/5.41.11/amd64-midnightbsd-thread-multi
    /home/cpan/bin/perl/lib/site_perl/5.41.11
    /home/cpan/bin/perl/lib/5.41.11/amd64-midnightbsd-thread-multi
    /home/cpan/bin/perl/lib/5.41.11
    .