HTML-Rebase v0.05 Perl 5 v5.26.3 amd64-freebsd
- Status
- Pass
- From
- Slaven Rezić (SREZIC)
- Dist
-
HTML-Rebase v0.05
- Platform
- Perl 5 v5.26.3 amd64-freebsd
- Date
- 2018-11-30 23:55:26
- ID
- 6899e2e0-f4fb-11e8-847d-904c6a4dd1cf
This distribution has been tested as part of the CPAN Testers
project, supporting the Perl programming language. See
http://wiki.cpantesters.org/ for more information or email
questions to cpan-testers-discuss@perl.org
--
Dear Max Maischein,
This is a computer-generated report for HTML-Rebase-0.05
on perl 5.26.3, created by CPAN-Reporter-1.2018.
Thank you for uploading your work to CPAN. Congratulations!
All tests were successful.
Sections of this report:
* Tester comments
* Program output
* Prerequisites
* Environment and other context
------------------------------
TESTER COMMENTS
------------------------------
Additional comments from tester:
none provided
------------------------------
PROGRAM OUTPUT
------------------------------
Output from '/usr/bin/make test':
PERL_DL_NONLAZY=1 "/usr/perl5.26.3p/bin/perl" "-MExtUtils::Command::MM" "-MTest::Harness" "-e" "undef *Test::Harness::Switches; test_harness(0, 'blib/lib', 'blib/arch')" t/00-load.t t/01-synopsis.t t/02-quotes.t t/03-base.t t/04-case.t t/05-rebase-css.t t/06-relative-url.t
# Testing HTML::Rebase 0.05, Perl 5.026003
# Carp 1.42
# Config 5.026003
# Cwd 3.67
# DynaLoader 1.42
# Encode 2.88
# Encode::Alias 2.21
# Encode::Config 2.05
# Encode::Encoding 2.07
# Exporter 5.72
# Exporter::Heavy 5.72
# ExtUtils::Liblist 7.24
# ExtUtils::Liblist::Kid 7.24
# ExtUtils::MM 7.24
# ExtUtils::MM_Any 7.24
# ExtUtils::MM_Unix 7.24
# ExtUtils::MY 7.24
# ExtUtils::MakeMaker 7.24
# ExtUtils::MakeMaker::Config 7.24
# ExtUtils::MakeMaker::Locale 7.24
# ExtUtils::MakeMaker::version 7.24
# Fcntl 1.13
# File::Basename 2.85
# File::Glob 1.28
# File::Path 2.1201
# File::Spec 3.67
# File::Spec::Unix 3.67
# HTML::Rebase 0.05
# I18N::Langinfo 0.13
# List::Util 1.5
# POSIX 1.76
# PerlIO 1.10
# Scalar::Util 1.5
# Test::Builder 1.302140
# Test::Builder::Formatter 1.302140
# Test::Builder::Module 1.302140
# Test::Builder::TodoDiag 1.302140
# Test::More 1.302140
# Test2::API 1.302140
# Test2::API::Context 1.302140
# Test2::API::Instance 1.302140
# Test2::API::Stack 1.302140
# Test2::Event 1.302140
# Test2::Event::Bail 1.302140
# Test2::Event::Diag 1.302140
# Test2::Event::Exception 1.302140
# Test2::Event::Fail 1.302140
# Test2::Event::Note 1.302140
# Test2::Event::Ok 1.302140
# Test2::Event::Pass 1.302140
# Test2::Event::Plan 1.302140
# Test2::Event::Skip 1.302140
# Test2::Event::Subtest 1.302140
# Test2::Event::V2 1.302140
# Test2::Event::Waiting 1.302140
# Test2::EventFacet 1.302140
# Test2::EventFacet::About 1.302140
# Test2::EventFacet::Amnesty 1.302140
# Test2::EventFacet::Assert 1.302140
# Test2::EventFacet::Control 1.302140
# Test2::EventFacet::Error 1.302140
# Test2::EventFacet::Hub 1.302140
# Test2::EventFacet::Info 1.302140
# Test2::EventFacet::Meta 1.302140
# Test2::EventFacet::Parent 1.302140
# Test2::EventFacet::Plan 1.302140
# Test2::EventFacet::Trace 1.302140
# Test2::Formatter 1.302140
# Test2::Formatter::TAP 1.302140
# Test2::Hub 1.302140
# Test2::Hub::Interceptor 1.302140
# Test2::Hub::Interceptor::Terminator 1.302140
# Test2::Hub::Subtest 1.302140
# Test2::Util 1.302140
# Test2::Util::ExternalMeta 1.302140
# Test2::Util::Facets2Legacy 1.302140
# Test2::Util::HashBase 1.302140
# Test2::Util::Trace 1.302140
# Tie::Hash 1.05
# URI 1.74
# URI::Escape 3.31
# URI::URL 5.04
# URI::WithBase 2.20
# XSLoader 0.27
# base 2.26
# bytes 1.05
# constant 1.33
# mro 1.20
# overload 1.28
# overloading 0.02
# parent 0.236
# re 0.34
# strict 1.11
# vars 1.03
# version 0.9917
# version::regex 0.9917
# warnings 1.37
# warnings::register 1.04
t/00-load.t .......... ok
t/01-synopsis.t ...... ok
t/02-quotes.t ........ ok
t/03-base.t .......... ok
t/04-case.t .......... ok
t/05-rebase-css.t .... ok
t/06-relative-url.t .. ok
All tests successful.
Files=7, Tests=12, 1 wallclock secs ( 0.03 usr 0.05 sys + 0.70 cusr 0.21 csys = 1.00 CPU)
Result: PASS
------------------------------
PREREQUISITES
------------------------------
Prerequisite modules loaded:
requires:
Module Need Have
------------------- ----- --------
Carp 0 1.42
Exporter 5 5.72
perl 5.006 5.026003
URI::URL 0 5.04
URI::WithBase 0 2.20
build_requires:
Module Need Have
------------------- ----- --------
ExtUtils::MakeMaker 0 7.24
Test::More 0 1.302140
configure_requires:
Module Need Have
------------------- ----- --------
ExtUtils::MakeMaker 0 7.24
------------------------------
ENVIRONMENT AND OTHER CONTEXT
------------------------------
Environment variables:
PATH = /usr/local/bin:/usr/bin:/bin:/usr/local/sbin:/usr/sbin:/sbin:/home/cpansand/bin/sh:/home/cpansand/bin:/usr/games:/home/cpansand/devel:/usr/home/eserte/src/srezic-misc/scripts
PERL5LIB = /home/cpansand/.cpan/build/2018113023/Jacode4e-2.13.6.8-0/blib/arch:/home/cpansand/.cpan/build/2018113023/Jacode4e-2.13.6.8-0/blib/lib
PERL5OPT =
PERL5_CPANPLUS_IS_RUNNING = 30555
PERL5_CPAN_IS_RUNNING = 30555
PERL5_CPAN_IS_RUNNING_IN_RECURSION = 84877,30555
PERL_BATCH = yes
PERL_CANARY_STABILITY_NOPROMPT = 1
PERL_CPAN_REPORTER_CONFIG = /var/tmp/cpansmoker-1023/2018113022/cpanreporter_000_config.ini
PERL_EXTUTILS_AUTOINSTALL = --defaultdeps
PERL_USE_UNSAFE_INC = 1
SHELL = /bin/sh
TMPDIR = /var/tmp/cpansmoker-1023/2018113022
Perl special variables (and OS-specific diagnostics, for MSWin32):
$^X = /usr/perl5.26.3p/bin/perl
$UID/$EUID = 1023 / 1023
$GID = 1023 1023
$EGID = 1023 1023
Perl module toolchain versions installed:
Module Have
------------------- --------
CPAN 2.18
CPAN::Meta 2.150010
Cwd 3.67
ExtUtils::CBuilder 0.280225
ExtUtils::Command 7.24
ExtUtils::Install 2.04
ExtUtils::MakeMaker 7.24
ExtUtils::Manifest 1.70
ExtUtils::ParseXS 3.34
File::Spec 3.67
JSON 2.97001
JSON::PP 2.97001
Module::Build 0.4224
Module::Signature n/a
Parse::CPAN::Meta 2.150010
Test::Harness 3.38
Test::More 1.302140
YAML 1.27
YAML::Syck 1.31
version 0.9917
--
Summary of my perl5 (revision 5 version 26 subversion 3) configuration:
Platform:
osname=freebsd
osvers=12.0-prerelease
archname=amd64-freebsd
uname='freebsd cloud1.bbbike.org 12.0-prerelease freebsd 12.0-prerelease ad6e056e343(stable12) generic amd64 '
config_args='-ds -e -Dprefix=/usr/perl5.26.3p -Dcf_email=srezic@cpan.org -Dnoextensions=GDBM_File -Doptimize=-O2 -pipe'
hint=recommended
useposix=true
d_sigaction=define
useithreads=undef
usemultiplicity=undef
use64bitint=define
use64bitall=define
uselongdouble=undef
usemymalloc=n
default_inc_excludes_dot=define
bincompat5005=undef
Compiler:
cc='cc'
ccflags ='-DHAS_FPSETMASK -DHAS_FLOATINGPOINT_H -fno-strict-aliasing -pipe -fstack-protector-strong -I/usr/local/include -D_FORTIFY_SOURCE=2'
optimize='-O2 -pipe'
cppflags='-DHAS_FPSETMASK -DHAS_FLOATINGPOINT_H -fno-strict-aliasing -pipe -fstack-protector-strong -I/usr/local/include'
ccversion=''
gccversion='4.2.1 Compatible FreeBSD Clang 6.0.1 (tags/RELEASE_601/final 335540)'
gccosandvers=''
intsize=4
longsize=8
ptrsize=8
doublesize=8
byteorder=12345678
doublekind=3
d_longlong=define
longlongsize=8
d_longdbl=define
longdblsize=16
longdblkind=3
ivtype='long'
ivsize=8
nvtype='double'
nvsize=8
Off_t='off_t'
lseeksize=8
alignbytes=8
prototype=define
Linker and Libraries:
ld='cc'
ldflags ='-pthread -Wl,-E -fstack-protector-strong -L/usr/local/lib'
libpth=/usr/lib /usr/local/lib /usr/lib/clang/6.0.1/lib /usr/lib
libs=-lpthread -lgdbm -ldl -lm -lcrypt -lutil -lc
perllibs=-lpthread -ldl -lm -lcrypt -lutil -lc
libc=
so=so
useshrplib=false
libperl=libperl.a
gnulibc_version=''
Dynamic Linking:
dlsrc=dl_dlopen.xs
dlext=so
d_dlsymun=undef
ccdlflags=' '
cccdlflags='-DPIC -fPIC'
lddlflags='-shared -L/usr/local/lib -fstack-protector-strong'
Characteristics of this binary (from libperl):
Compile-time options:
HAS_TIMES
PERLIO_LAYERS
PERL_COPY_ON_WRITE
PERL_DONT_CREATE_GVSV
PERL_MALLOC_WRAP
PERL_OP_PARENT
PERL_PRESERVE_IVUV
USE_64_BIT_ALL
USE_64_BIT_INT
USE_LARGE_FILES
USE_LOCALE
USE_LOCALE_COLLATE
USE_LOCALE_CTYPE
USE_LOCALE_NUMERIC
USE_LOCALE_TIME
USE_PERLIO
USE_PERL_ATOF
Built under freebsd
Compiled at Nov 29 2018 20:59:10
%ENV:
PERL5LIB="/home/cpansand/.cpan/build/2018113023/Jacode4e-2.13.6.8-0/blib/arch:/home/cpansand/.cpan/build/2018113023/Jacode4e-2.13.6.8-0/blib/lib"
PERL5OPT=""
PERL5_CPANPLUS_IS_RUNNING="30555"
PERL5_CPAN_IS_RUNNING="30555"
PERL5_CPAN_IS_RUNNING_IN_RECURSION="84877,30555"
PERL_BATCH="yes"
PERL_CANARY_STABILITY_NOPROMPT="1"
PERL_CPAN_REPORTER_CONFIG="/var/tmp/cpansmoker-1023/2018113022/cpanreporter_000_config.ini"
PERL_EXTUTILS_AUTOINSTALL="--defaultdeps"
PERL_USE_UNSAFE_INC="1"
@INC:
/home/cpansand/.cpan/build/2018113023/Jacode4e-2.13.6.8-0/blib/arch
/home/cpansand/.cpan/build/2018113023/Jacode4e-2.13.6.8-0/blib/lib
/usr/perl5.26.3p/lib/site_perl/5.26.3/amd64-freebsd
/usr/perl5.26.3p/lib/site_perl/5.26.3
/usr/perl5.26.3p/lib/5.26.3/amd64-freebsd
/usr/perl5.26.3p/lib/5.26.3
.