Back
From: metabase:user:d2c9f356-b46f-11df-9a90-20a83c0b7757
Subject: PASS Class-MakeMethods-1.01 v5.15.6 SunOS/Solaris
Date: 2012-01-04T20:19:30Z
This distribution has been tested as part of the CPAN Testers
project, supporting the Perl programming language. See
http://wiki.cpantesters.org/ for more information or email
questions to cpan-testers-discuss@perl.org
--
Dear Matthew Simon Cavalletto,
This is a computer-generated report for Class-MakeMethods-1.01
on perl 5.15.6, created by CPAN-Reporter-1.2003.
Thank you for uploading your work to CPAN. Congratulations!
All tests were successful.
Sections of this report:
* Tester comments
* Program output
* Prerequisites
* Environment and other context
------------------------------
TESTER COMMENTS
------------------------------
Additional comments from tester:
this report is from an automated smoke testing program
and was not reviewed by a human for accuracy
------------------------------
PROGRAM OUTPUT
------------------------------
Output from '/usr/local/bin/make test':
PERL_DL_NONLAZY=1 /export/home/cpant4/perl5/bin/perl5.15.6 "-Iblib/lib" "-Iblib/arch" test.pl
test.pl: Searching for test scripts in .
test.pl: Found 121 .t files for test harness.
./tests/access/attribute_stnd_hash.t .................... ok
./tests/access/autoload_stnd_hash.t ..................... ok
./tests/access/autoload_typemap.t ....................... ok
./tests/access/import_version.t ......................... ok
./tests/basic/array_scalar.t ............................ ok
./tests/basic/declarations.t ............................ ok
./tests/basic/global_hash.t ............................. ok
./tests/basic/global_scalar.t ........................... ok
./tests/basic/hash_scalar.t ............................. ok
./tests/composite/declarations.t ........................ ok
./tests/composite/hash.t ................................ ok
./tests/composite/inheritable.t ......................... ok
./tests/composite/inheritable_hash.t .................... ok
./tests/composite/inheritable_hook.t .................... ok
./tests/composite/patch.t ............................... ok
./tests/evaled/hash_scalar.t ............................ ok
./tests/standard/standard_declarations.t ................ ok
./tests/standard/standard_hash.t ........................ ok
./tests/standard/standard_inheritable.t ................. ok
./tests/standard/standard_inheritable_hash.t ............ ok
./tests/template/abstract.t ............................. ok
./tests/template/array_number.t ......................... ok
./tests/template/array_object.t ......................... ok
./tests/template/array_scalar.t ......................... ok
./tests/template/class_array.t .......................... ok
./tests/template/class_scalar.t ......................... ok
./tests/template/classvar_array.t ....................... ok
./tests/template/classvar_scalar.t ...................... ok
./tests/template/clone.t ................................ ok
./tests/template/declaration.t .......................... ok
./tests/template/doc_examples.t ......................... ok
./tests/template/doc_extending.t ........................ ok
./tests/template/global_array.t ......................... ok
./tests/template/global_code.t .......................... ok
./tests/template/global_hash.t .......................... ok
./tests/template/global_scalar.t ........................ ok
./tests/template/global_scalar_lvalue.t ................. ok
./tests/template/hash_array.t ........................... ok
./tests/template/hash_array_getset.t .................... ok
./tests/template/hash_array_lvalue.t .................... ok
./tests/template/hash_array_object.t .................... ok
./tests/template/hash_boolean.t ......................... ok
./tests/template/hash_code.t ............................ ok
./tests/template/hash_copy.t ............................ ok
./tests/template/hash_counter.t ......................... ok
./tests/template/hash_counter_closure.t ................. ok
./tests/template/hash_hash.t ............................ ok
./tests/template/hash_hash_array.t ...................... ok
./tests/template/hash_method.t .......................... ok
./tests/template/hash_new.t ............................. ok
./tests/template/hash_number.t .......................... ok
./tests/template/hash_number_interfaces.t ............... ok
./tests/template/hash_object.t .......................... ok
./tests/template/hash_scalar.t .......................... ok
./tests/template/hash_scalar_closure.t .................. ok
./tests/template/hash_scalar_interfaces.t ............... ok
./tests/template/hash_scalar_lvalue.t ................... ok
./tests/template/hash_string_concat.t ................... ok
./tests/template/hash_string_index.t .................... ok
./tests/template/hash_string_index_create.t ............. ok
./tests/template/hash_struct.t .......................... ok
./tests/template/hash_tiedhash.t ........................ ok
./tests/template/inherit_scalar.t ....................... ok
./tests/template/insideout_array.t ...................... ok
./tests/template/insideout_bool_i.t ..................... ok
./tests/template/insideout_scalar.t ..................... ok
./tests/template/modifier_private.t ..................... ok
./tests/template/package_scalar.t ....................... ok
./tests/template/scalar_bits.t .......................... ok
./tests/template/scalar_counter.t ....................... ok
./tests/utility/inheritable.t ........................... ok
./tests/utility/text_builder.t .......................... ok
./tests/xemulator/accessors/chained.t ................... ok
./tests/xemulator/accessors/classic.t ................... ok
./tests/xemulator/accessors/default.t ................... ok
./tests/xemulator/accessors/invalid.t ................... ok
./tests/xemulator/class_accessor/class_accessor_fast.t .. ok
./tests/xemulator/class_inheritable/emulate.t ........... ok
./tests/xemulator/class_inheritable/transparent.t ....... ok
./tests/xemulator/class_methodmaker/abstract.t .......... ok
./tests/xemulator/class_methodmaker/boolean.092.t ....... ok
./tests/xemulator/class_methodmaker/boolean.t ........... ok
./tests/xemulator/class_methodmaker/code.t .............. ok
./tests/xemulator/class_methodmaker/copy.t .............. ok
./tests/xemulator/class_methodmaker/counter.t ........... ok
./tests/xemulator/class_methodmaker/get_concat.092.t .... ok
./tests/xemulator/class_methodmaker/get_concat.t ........ ok
./tests/xemulator/class_methodmaker/get_set.092.t ....... ok
./tests/xemulator/class_methodmaker/get_set.t ........... ok
./tests/xemulator/class_methodmaker/grouped_fields.t .... ok
./tests/xemulator/class_methodmaker/hash.092.t .......... ok
./tests/xemulator/class_methodmaker/hash.t .............. ok
./tests/xemulator/class_methodmaker/hash_of_lists.t ..... ok
./tests/xemulator/class_methodmaker/key_attrib.t ........ ok
./tests/xemulator/class_methodmaker/key_with_create.t ... ok
./tests/xemulator/class_methodmaker/list.092.t .......... ok
./tests/xemulator/class_methodmaker/list.104.t .......... ok
./tests/xemulator/class_methodmaker/list.t .............. ok
./tests/xemulator/class_methodmaker/listed_attrib.t ..... ok
./tests/xemulator/class_methodmaker/method.t ............ ok
./tests/xemulator/class_methodmaker/new.092.t ........... ok
./tests/xemulator/class_methodmaker/new.102.t ........... ok
./tests/xemulator/class_methodmaker/new.t ............... ok
./tests/xemulator/class_methodmaker/object.092.t ........ ok
./tests/xemulator/class_methodmaker/object.t ............ ok
./tests/xemulator/class_methodmaker/object_list.102.t ... ok
./tests/xemulator/class_methodmaker/object_list.t ....... ok
./tests/xemulator/class_methodmaker/static_get_set.t .... ok
./tests/xemulator/class_methodmaker/static_hash.092.t ... ok
./tests/xemulator/class_methodmaker/static_hash.t ....... ok
./tests/xemulator/class_methodmaker/static_list.t ....... ok
./tests/xemulator/class_methodmaker/struct.t ............ ok
./tests/xemulator/class_methodmaker/sugar.092.t ......... ok
./tests/xemulator/class_methodmaker/tie_hash.t .......... ok
./tests/xemulator/class_singleton/emulate.t ............. ok
./tests/xemulator/class_singleton/transparent.t ......... ok
./tests/xemulator/class_struct/emulate.t ................ ok
./tests/xemulator/class_struct/equivalent.t ............. ok
./tests/xemulator/mcoder/getset.t ....................... ok
./tests/xemulator/mcoder/proxies.t ...................... ok
./tests/xemulator/mcoder/sugar.t ........................ ok
All tests successful.
Files=121, Tests=1760, 18 wallclock secs ( 0.46 usr 0.19 sys + 2.49 cusr 0.00 csys = 3.14 CPU)
Result: PASS
------------------------------
PREREQUISITES
------------------------------
Prerequisite modules loaded:
build_requires:
Module Need Have
------------------- ---- -------
ExtUtils::MakeMaker 0 6.63_02
------------------------------
ENVIRONMENT AND OTHER CONTEXT
------------------------------
Environment variables:
AUTOMATED_TESTING = 1
LANG = C
LD_LIBRARY_PATH = /usr/local/lib:
PATH = /export/home/cpant4/perl5/bin:/usr/local/bin:/usr/bin
PERL5LIB = /export/home/cpant4/.cpan/build/Class-Base-0.03-OveAkJ/blib/arch:/export/home/cpant4/.cpan/build/Class-Base-0.03-OveAkJ/blib/lib:/export/home/cpant4/.cpan/build/Test-MockModule-0.05-v8qKkh/blib/arch:/export/home/cpant4/.cpan/build/Test-MockModule-0.05-v8qKkh/blib/lib:/export/home/cpant4/.cpan/build/DBIx-Class-Indexed-0.03-ZfYoGi/blib/arch:/export/home/cpant4/.cpan/build/DBIx-Class-Indexed-0.03-ZfYoGi/blib/lib:/export/home/cpant4/.cpan/build/DBIx-Class-0.08196-7PCsDj/blib/arch:/export/home/cpant4/.cpan/build/DBIx-Class-0.08196-7PCsDj/blib/lib:/export/home/cpant4/.cpan/build/Media-Type-Simple-0.02-RfDjLC/blib/arch:/export/home/cpant4/.cpan/build/Media-Type-Simple-0.02-RfDjLC/blib/lib
PERL5OPT =
PERL5_CPANPLUS_IS_RUNNING = 15645
PERL5_CPAN_IS_RUNNING = 15645
PERL5_CPAN_IS_RUNNING_IN_RECURSION = 18508,15645
PERL_CR_SMOKER_CURRENT = DBIx-Class-Indexer-WebService-Dezi-0.06
PERL_EXTUTILS_AUTOINSTALL = --defaultdeps
PERL_MM_USE_DEFAULT = 1
SHELL = /bin/bash
TERM = xterm
Perl special variables (and OS-specific diagnostics, for MSWin32):
$^X = /export/home/cpant4/perl5/bin/perl5.15.6
$UID/$EUID = 104 / 104
$GID = 1 1
$EGID = 1 1
Perl module toolchain versions installed:
Module Have
------------------- --------
CPAN 1.9800
CPAN::Meta 2.113640
Cwd 3.38
ExtUtils::CBuilder 0.280205
ExtUtils::Command 1.17
ExtUtils::Install 1.57
ExtUtils::MakeMaker 6.63_02
ExtUtils::Manifest 1.60
ExtUtils::ParseXS 3.11
File::Spec 3.34
JSON 2.53
JSON::PP 2.27200
Module::Build 0.39_01
Module::Signature n/a
Parse::CPAN::Meta 1.4401
Test::Harness 3.23
Test::More 0.98
YAML 0.78
YAML::Syck 1.19
version 0.95
--
Summary of my perl5 (revision 5 version 15 subversion 6) configuration:
Platform:
osname=solaris, osvers=2.10, archname=i86pc-solaris-64int
uname='sunos vmrz0046 5.10 generic_141445-09 i86pc i386 i86pc solaris '
config_args='-Dcc=gcc -Dprefix=~/perl5 -Duse64bitint -Dusedevel -d'
hint=recommended, useposix=true, d_sigaction=define
useithreads=undef, usemultiplicity=undef
useperlio=define, d_sfio=undef, uselargefiles=define, usesocks=undef
use64bitint=define, use64bitall=undef, uselongdouble=undef
usemymalloc=n, bincompat5005=undef
Compiler:
cc='gcc', ccflags ='-DPTR_IS_LONG -fno-strict-aliasing -pipe -I/usr/local/include -D_LARGEFILE_SOURCE -D_FILE_OFFSET_BITS=64 -DPERL_USE_SAFE_PUTENV',
optimize='-O',
cppflags='-DPTR_IS_LONG -fno-strict-aliasing -pipe -I/usr/local/include'
ccversion='', gccversion='3.4.6', gccosandvers='solaris2.10'
intsize=4, longsize=4, ptrsize=4, doublesize=8, byteorder=12345678
d_longlong=define, longlongsize=8, d_longdbl=define, longdblsize=12
ivtype='long long', ivsize=8, nvtype='double', nvsize=8, Off_t='off_t', lseeksize=8
alignbytes=4, prototype=define
Linker and Libraries:
ld='gcc', ldflags =' -L/usr/local/lib '
libpth=/usr/local/lib /usr/lib /usr/ccs/lib
libs=-lsocket -lnsl -lgdbm -ldl -lm -lc
perllibs=-lsocket -lnsl -ldl -lm -lc
libc=/lib/libc.so, so=so, useshrplib=false, libperl=libperl.a
gnulibc_version=''
Dynamic Linking:
dlsrc=dl_dlopen.xs, dlext=so, d_dlsymun=undef, ccdlflags=' '
cccdlflags='-fPIC', lddlflags='-G -L/usr/local/lib'
Characteristics of this binary (from libperl):
Compile-time options: HAS_TIMES PERLIO_LAYERS PERL_DONT_CREATE_GVSV
PERL_MALLOC_WRAP PERL_PRESERVE_IVUV PERL_USE_DEVEL
PERL_USE_SAFE_PUTENV USE_64_BIT_INT USE_LARGE_FILES
USE_LOCALE USE_LOCALE_COLLATE USE_LOCALE_CTYPE
USE_LOCALE_NUMERIC USE_PERLIO USE_PERL_ATOF
Built under solaris
Compiled at Jan 2 2012 15:02:15
%ENV:
PERL5LIB="/export/home/cpant4/.cpan/build/Class-Base-0.03-OveAkJ/blib/arch:/export/home/cpant4/.cpan/build/Class-Base-0.03-OveAkJ/blib/lib:/export/home/cpant4/.cpan/build/Test-MockModule-0.05-v8qKkh/blib/arch:/export/home/cpant4/.cpan/build/Test-MockModule-0.05-v8qKkh/blib/lib:/export/home/cpant4/.cpan/build/DBIx-Class-Indexed-0.03-ZfYoGi/blib/arch:/export/home/cpant4/.cpan/build/DBIx-Class-Indexed-0.03-ZfYoGi/blib/lib:/export/home/cpant4/.cpan/build/DBIx-Class-0.08196-7PCsDj/blib/arch:/export/home/cpant4/.cpan/build/DBIx-Class-0.08196-7PCsDj/blib/lib:/export/home/cpant4/.cpan/build/Media-Type-Simple-0.02-RfDjLC/blib/arch:/export/home/cpant4/.cpan/build/Media-Type-Simple-0.02-RfDjLC/blib/lib"
PERL5OPT=""
PERL5_CPANPLUS_IS_RUNNING="15645"
PERL5_CPAN_IS_RUNNING="15645"
PERL5_CPAN_IS_RUNNING_IN_RECURSION="18508,15645"
PERL_CR_SMOKER_CURRENT="DBIx-Class-Indexer-WebService-Dezi-0.06"
PERL_EXTUTILS_AUTOINSTALL="--defaultdeps"
PERL_MM_USE_DEFAULT="1"
@INC:
/export/home/cpant4/.cpan/build/Class-Base-0.03-OveAkJ/blib/arch
/export/home/cpant4/.cpan/build/Class-Base-0.03-OveAkJ/blib/lib
/export/home/cpant4/.cpan/build/Test-MockModule-0.05-v8qKkh/blib/arch
/export/home/cpant4/.cpan/build/Test-MockModule-0.05-v8qKkh/blib/lib
/export/home/cpant4/.cpan/build/DBIx-Class-Indexed-0.03-ZfYoGi/blib/arch
/export/home/cpant4/.cpan/build/DBIx-Class-Indexed-0.03-ZfYoGi/blib/lib
/export/home/cpant4/.cpan/build/DBIx-Class-0.08196-7PCsDj/blib/arch
/export/home/cpant4/.cpan/build/DBIx-Class-0.08196-7PCsDj/blib/lib
/export/home/cpant4/.cpan/build/Media-Type-Simple-0.02-RfDjLC/blib/arch
/export/home/cpant4/.cpan/build/Media-Type-Simple-0.02-RfDjLC/blib/lib
/export/home/cpant4/perl5/lib/site_perl/5.15.6/i86pc-solaris-64int
/export/home/cpant4/perl5/lib/site_perl/5.15.6
/export/home/cpant4/perl5/lib/5.15.6/i86pc-solaris-64int
/export/home/cpant4/perl5/lib/5.15.6
/export/home/cpant4/perl5/lib/site_perl
.