YAML-Safe v0.82 Perl 5 v5.41.7 amd64-netbsd
- Status
- Pass
- From
- Carlos Guevara
- Dist
-
YAML-Safe v0.82
- Platform
- Perl 5 v5.41.7 amd64-netbsd
- Date
- 2024-12-01 16:07:48
- ID
- 68a68db4-affe-11ef-a8e1-f5e9316a2c6b
This distribution has been tested as part of the CPAN Testers
project, supporting the Perl programming language. See
http://wiki.cpantesters.org/ for more information or email
questions to cpan-testers-discuss@perl.org
--
Dear Reini Urban,
This is a computer-generated report for YAML-Safe-0.82
on perl 5.41.7, created by CPAN-Reporter-1.2020.
Thank you for uploading your work to CPAN. Congratulations!
All tests were successful.
Sections of this report:
* Tester comments
* Program output
* Prerequisites
* Environment and other context
------------------------------
TESTER COMMENTS
------------------------------
Additional comments from tester:
this report is from an automated smoke testing program
and was not reviewed by a human for accuracy
------------------------------
PROGRAM OUTPUT
------------------------------
Output from '/usr/bin/make test':
"/home/cpan/bin/perl/bin/perl5.41.7" -MExtUtils::Command::MM -e 'cp_nonempty' -- Safe.bs blib/arch/auto/YAML/Safe/Safe.bs 644
PERL_DL_NONLAZY=1 "/home/cpan/bin/perl/bin/perl5.41.7" "-MExtUtils::Command::MM" "-MTest::Harness" "-e" "undef *Test::Harness::Switches; test_harness(0, 'blib/lib', 'blib/arch')" t/*.t
t/alias.t ................. ok
t/api.t ................... ok
t/ascii.t ................. ok
t/binary.t ................ ok
t/blessed.t ............... ok
t/boolean-boolean.t ....... ok
t/boolean-cpaneljsonxs.t .. ok
t/boolean-invalid.t ....... ok
# Found Cpanel::JSON::XS 4.38
t/boolean-jsonmaybexs.t ... ok
t/boolean-jsonpp.t ........ ok
t/boolean-jsonxs.t ........ skipped: JSON::XS failed to load
t/boolean.t ............... ok
t/bug-pvf.t ............... ok
t/bug-stack.t ............. ok
t/code.t .................. ok
t/cpan.t .................. ok
t/dump-heuristics.t ....... ok
t/dump-int.t .............. ok
t/dump.t .................. ok
t/empty.t ................. ok
t/error.t ................. ok
t/file.t .................. ok
t/glob.t .................. ok
t/indent.t ................ ok
t/io-handle.t ............. ok
t/leak.t .................. ok
# libyaml version = 0.2.3
t/libyaml-version.t ....... ok
t/load-blessed.t .......... ok
t/load.t .................. ok
t/load_standard_tags.t .... ok
t/loadfile-empty.t ........ ok
t/long_plain_wrap.t ....... skipped: Failing test. Not yet implemented
t/magic.t ................. ok
t/native.t ................ ok
t/nonstrict.t ............. ok
t/null.t .................. ok
t/numbers.t ............... ok
t/options.t ............... ok
t/path-class.t ............ ok
t/pl_sv_undef.t ........... ok
t/private.t ............... ok
t/quote.t ................. ok
t/ref-scalar.t ............ ok
t/regexp.t ................ ok
t/safeclass.t ............. ok
t/string_nulls.t .......... ok
t/tags.t .................. ok
t/tied.t .................. ok
t/utf8.t .................. ok
All tests successful.
Files=49, Tests=459, 3 wallclock secs ( 0.13 usr 0.08 sys + 2.44 cusr 0.97 csys = 3.62 CPU)
Result: PASS
------------------------------
PREREQUISITES
------------------------------
Prerequisite modules loaded:
requires:
Module Need Have
------------------- ----- ----
boolean 0.3 0.46
constant 0.1 1.33
File::Path 0.1 2.18
JSON::PP 2.273 4.16
lib 0.1 0.65
Test::Base 0.8 0.89
build_requires:
Module Need Have
------------------- ----- ----
ExtUtils::MakeMaker 0 7.70
configure_requires:
Module Need Have
------------------- ----- ----
ExtUtils::MakeMaker 0 7.70
------------------------------
ENVIRONMENT AND OTHER CONTEXT
------------------------------
Environment variables:
AUTOMATED_TESTING = 1
DATE_MANIP_TEST_DM5 = 1
LC_ALL = C
NONINTERACTIVE_TESTING = 1
NO_NETWORK_TESTING = 1
PATH = /home/cpan/bin/perl/bin:/home/cpan/bin:/home/cpan/bin:/bin:/sbin:/usr/bin:/usr/sbin:/usr/X11R7/bin:/usr/pkg/bin:/usr/pkg/sbin:/usr/games:/usr/local/bin:/usr/local/sbin
PERL5LIB =
PERL5OPT =
PERL5_CPANPLUS_IS_RUNNING = 18250
PERL5_CPAN_IS_RUNNING = 18250
PERL_MM_USE_DEFAULT = 1
PERL_USE_UNSAFE_INC = 1
SHELL = /usr/pkg/bin/bash
TERM = screen
TMPDIR = /home/cpan/tmp
Perl special variables (and OS-specific diagnostics, for MSWin32):
$^X = /home/cpan/bin/perl/bin/perl5.41.7
$UID/$EUID = 1001 / 1001
$GID = 100 100
$EGID = 100 100
Perl module toolchain versions installed:
Module Have
------------------- --------
CPAN 2.38
CPAN::Meta 2.150010
Cwd 3.92
ExtUtils::CBuilder 0.280240
ExtUtils::Command 7.70
ExtUtils::Install 2.22
ExtUtils::MakeMaker 7.70
ExtUtils::Manifest 1.75
ExtUtils::ParseXS 3.56
File::Spec 3.93
JSON 4.10
JSON::PP 4.16
Module::Build 0.4234
Module::Signature 0.89
Parse::CPAN::Meta 2.150010
Test2 1.302204
Test::Harness 3.50
Test::More 1.302204
YAML 1.31
YAML::Syck 1.34
version 0.9933
--
Summary of my perl5 (revision 5 version 41 subversion 7) configuration:
Commit id: 342b57d68213add262954103c711be7d6ed0f128
Platform:
osname=netbsd
osvers=10.0
archname=amd64-netbsd
uname='netbsd cjg-netbsd10 10.0 netbsd 10.0 (generic) #0: thu mar 28 08:33:33 utc 2024 mkrepro@mkrepro.netbsd.org:usrsrcsysarchamd64compilegeneric amd64 '
config_args='-des -Dprefix=/home/cpan/bin/perl -Dscriptdir=/home/cpan/bin/perl/bin -Dusedevel -Duse64bitall'
hint=recommended
useposix=true
d_sigaction=define
useithreads=undef
usemultiplicity=undef
use64bitint=define
use64bitall=define
uselongdouble=undef
usemymalloc=n
default_inc_excludes_dot=define
Compiler:
cc='cc'
ccflags ='-fwrapv -fno-strict-aliasing -pipe -fstack-protector-strong -I/usr/pkg/include -D_FORTIFY_SOURCE=2'
optimize='-O'
cppflags='-fwrapv -fno-strict-aliasing -pipe -fstack-protector-strong -I/usr/pkg/include'
ccversion=''
gccversion='10.5.0'
gccosandvers=''
intsize=4
longsize=8
ptrsize=8
doublesize=8
byteorder=12345678
doublekind=3
d_longlong=define
longlongsize=8
d_longdbl=define
longdblsize=16
longdblkind=3
ivtype='long'
ivsize=8
nvtype='double'
nvsize=8
Off_t='off_t'
lseeksize=8
alignbytes=8
prototype=define
Linker and Libraries:
ld='cc'
ldflags =' -Wl,-rpath,/usr/pkg/lib -Wl,-rpath,/usr/local/lib -fstack-protector-strong -L/usr/pkg/lib'
libpth=/usr/lib /usr/pkg/lib /lib
libs=-lpthread -lm -lcrypt -lutil -lc -lposix
perllibs=-lpthread -lm -lcrypt -lutil -lc -lposix
libc=/lib/libc.so
so=so
useshrplib=false
libperl=libperl.a
gnulibc_version=''
Dynamic Linking:
dlsrc=dl_dlopen.xs
dlext=so
d_dlsymun=undef
ccdlflags='-Wl,-E '
cccdlflags='-DPIC -fPIC '
lddlflags='-shared -L/usr/pkg/lib -fstack-protector-strong'
Characteristics of this binary (from libperl):
Compile-time options:
HAS_LONG_DOUBLE
HAS_STRTOLD
HAS_TIMES
PERLIO_LAYERS
PERL_COPY_ON_WRITE
PERL_DONT_CREATE_GVSV
PERL_HASH_FUNC_SIPHASH13
PERL_HASH_USE_SBOX32
PERL_MALLOC_WRAP
PERL_OP_PARENT
PERL_PRESERVE_IVUV
PERL_USE_DEVEL
PERL_USE_SAFE_PUTENV
USE_64_BIT_ALL
USE_64_BIT_INT
USE_LARGE_FILES
USE_LOCALE
USE_LOCALE_COLLATE
USE_LOCALE_CTYPE
USE_LOCALE_NUMERIC
USE_LOCALE_TIME
USE_PERLIO
USE_PERL_ATOF
Built under netbsd
Compiled at Nov 30 2024 23:56:46
%ENV:
PERL5LIB=""
PERL5OPT=""
PERL5_CPANPLUS_IS_RUNNING="18250"
PERL5_CPAN_IS_RUNNING="18250"
PERL_MM_USE_DEFAULT="1"
PERL_USE_UNSAFE_INC="1"
@INC:
/home/cpan/bin/perl/lib/site_perl/5.41.7/amd64-netbsd
/home/cpan/bin/perl/lib/site_perl/5.41.7
/home/cpan/bin/perl/lib/5.41.7/amd64-netbsd
/home/cpan/bin/perl/lib/5.41.7
.