IO-Stringy v2.113 Perl 5 v5.28.1 x86_64-linux
- Status
- Pass
- From
- Nigel Horne
- Dist
-
IO-Stringy v2.113
- Platform
- Perl 5 v5.28.1 x86_64-linux
- Date
- 2020-05-10 14:34:52
- ID
- 68a86346-92cb-11ea-86a7-fbc4031809c1
This distribution has been tested as part of the CPAN Testers
project, supporting the Perl programming language. See
http://wiki.cpantesters.org/ for more information or email
questions to cpan-testers-discuss@perl.org
--
Dear Chase Whitener,
This is a computer-generated report for IO-Stringy-2.113
on perl 5.28.1, created by CPAN-Reporter-1.2018.
Thank you for uploading your work to CPAN. Congratulations!
All tests were successful.
Sections of this report:
* Tester comments
* Program output
* Prerequisites
* Environment and other context
------------------------------
TESTER COMMENTS
------------------------------
Additional comments from tester:
this report is from an automated smoke testing program
and was not reviewed by a human for accuracy
------------------------------
PROGRAM OUTPUT
------------------------------
Output from '/usr/bin/make test':
PERL_DL_NONLAZY=1 "/home/njh/perl5/perlbrew/perls/perl-5.28.1-64all/bin/perl5.28.1" "-MExtUtils::Command::MM" "-MTest::Harness" "-e" "undef *Test::Harness::Switches; test_harness(0, 'blib/lib', 'blib/arch')" t/*.t
t/IO_InnerFile.t ....... ok
t/IO_Lines.t ........... ok
#
# Versions for all modules listed in MYMETA.json (including optional ones):
#
# === Configure Requires ===
#
# Module Want Have
# ------------------- ---- ----
# ExtUtils::MakeMaker any 7.42
#
# === Build Requires ===
#
# Module Want Have
# ------------------- ---- ----
# ExtUtils::MakeMaker any 7.42
#
# === Test Requires ===
#
# Module Want Have
# ------------------- ---- --------
# ExtUtils::MakeMaker any 7.42
# File::Basename any 2.85
# File::Spec any 3.75
# File::Temp any 0.2304
# FileHandle any 2.03
# IO::File any 1.39
# IO::Handle any 1.39
# Symbol any 1.08
# Test::More 0.88 1.302171
# Test::Tester any 1.302171
# strict any 1.11
# warnings any 1.42
#
# === Test Recommends ===
#
# Module Want Have
# ---------- -------- --------
# CPAN::Meta 2.120900 2.150010
#
# === Runtime Requires ===
#
# Module Want Have
# ---------- ---- -----
# Carp any 1.50
# Exporter 5.57 5.73
# File::Spec any 3.75
# FileHandle any 2.03
# IO::File any 1.39
# IO::Handle any 1.39
# Symbol any 1.08
# overload any 1.30
# parent any 0.236
# strict any 1.11
# warnings any 1.42
#
t/00-report-prereqs.t .. ok
t/IO_Scalar.t .......... ok
t/IO_ScalarArray.t ..... ok
t/IO_WrapTie.t ......... ok
t/simple.t ............. ok
t/two.t ................ ok
All tests successful.
Files=8, Tests=127, 1 wallclock secs ( 0.05 usr 0.02 sys + 0.87 cusr 0.06 csys = 1.00 CPU)
Result: PASS
------------------------------
PREREQUISITES
------------------------------
Prerequisite modules loaded:
requires:
Module Need Have
------------------- ---- --------
Carp 0 1.50
Exporter 5.57 5.73
File::Spec 0 3.75
FileHandle 0 2.03
IO::File 0 1.39
IO::Handle 0 1.39
overload 0 1.30
parent 0 0.236
strict 0 1.11
Symbol 0 1.08
warnings 0 1.42
build_requires:
Module Need Have
------------------- ---- --------
ExtUtils::MakeMaker 0 7.42
File::Basename 0 2.85
File::Spec 0 3.75
File::Temp 0 0.2304
FileHandle 0 2.03
IO::File 0 1.39
IO::Handle 0 1.39
strict 0 1.11
Symbol 0 1.08
Test::More 0.88 1.302171
Test::Tester 0 1.302171
warnings 0 1.42
configure_requires:
Module Need Have
------------------- ---- --------
ExtUtils::MakeMaker 0 7.42
------------------------------
ENVIRONMENT AND OTHER CONTEXT
------------------------------
Environment variables:
AUTOMATED_TESTING = 1
HARNESS_OPTIONS = j2
LANG = en_US.UTF-8
PATH = /home/njh/perl5/perlbrew/bin:/home/njh/perl5/perlbrew/perls/perl-5.28.1-64all/bin:/home/njh/src/njh/smoker/bin:/usr/bin:/bin
PERL5LIB = /tmp/build/Crypt-OpenSSL-Verify-0.10-0/blib/arch:/tmp/build/Crypt-OpenSSL-Verify-0.10-0/blib/lib:/tmp/build/Crypt-OpenSSL-X509-1.813-0/blib/arch:/tmp/build/Crypt-OpenSSL-X509-1.813-0/blib/lib
PERL5OPT =
PERL5_CPANPLUS_IS_RUNNING = 4124643
PERL5_CPAN_IS_RUNNING = 4124643
PERL5_CPAN_IS_RUNNING_IN_RECURSION = 4124184,4124643
PERLBREW_HOME = /home/njh/.perlbrew
PERLBREW_MANPATH = /home/njh/perl5/perlbrew/perls/perl-5.28.1-64all/man
PERLBREW_PATH = /home/njh/perl5/perlbrew/bin:/home/njh/perl5/perlbrew/perls/perl-5.28.1-64all/bin
PERLBREW_PERL = perl-5.28.1-64all
PERLBREW_ROOT = /home/njh/perl5/perlbrew
PERLBREW_SHELLRC_VERSION = 0.86
PERLBREW_VERSION = 0.86
PERL_USE_UNSAFE_INC = 1
SHELL = /bin/sh
TEMP = /tmp/user/1000
TMPDIR = /tmp/user/1000/testwrapper.4124628
Perl special variables (and OS-specific diagnostics, for MSWin32):
$^X = /home/njh/perl5/perlbrew/perls/perl-5.28.1-64all/bin/perl5.28.1
$UID/$EUID = 1000 / 1000
$GID = 1000 4 24 25 29 30 44 46 103 108 115 123 996 1000
$EGID = 1000 4 24 25 29 30 44 46 103 108 115 123 996 1000
Perl module toolchain versions installed:
Module Have
------------------- --------
CPAN 2.27
CPAN::Meta 2.150010
Cwd 3.75
ExtUtils::CBuilder 0.280230
ExtUtils::Command 7.42
ExtUtils::Install 2.14
ExtUtils::MakeMaker 7.42
ExtUtils::Manifest 1.70
ExtUtils::ParseXS 3.39
File::Spec 3.75
JSON 4.02
JSON::PP 4.03
Module::Build 0.4224
Module::Signature n/a
Parse::CPAN::Meta 2.150010
Test::Harness 3.42
Test::More 1.302171
YAML 1.30
YAML::Syck 1.32
version 0.9923
--
Summary of my perl5 (revision 5 version 28 subversion 1) configuration:
Platform:
osname=linux
osvers=4.16.0-2-amd64
archname=x86_64-linux
uname='linux amelia 4.16.0-2-amd64 #1 smp debian 4.16.16-2 (2018-06-22) x86_64 gnulinux '
config_args='-de -Dprefix=/home/njh/perl5/perlbrew/perls/perl-5.28.1-64all -Dusedevel -Duse64bitall -Accflags= -Aeval:scriptdir=/home/njh/perl5/perlbrew/perls/perl-5.28.1-64all/bin'
hint=recommended
useposix=true
d_sigaction=define
useithreads=undef
usemultiplicity=undef
use64bitint=define
use64bitall=define
uselongdouble=undef
usemymalloc=n
default_inc_excludes_dot=define
bincompat5005=undef
Compiler:
cc='cc'
ccflags ='-fwrapv -fno-strict-aliasing -pipe -fstack-protector-strong -I/usr/local/include -D_LARGEFILE_SOURCE -D_FILE_OFFSET_BITS=64'
optimize='-O2'
cppflags='-fwrapv -fno-strict-aliasing -pipe -fstack-protector-strong -I/usr/local/include'
ccversion=''
gccversion='8.2.0'
gccosandvers=''
intsize=4
longsize=8
ptrsize=8
doublesize=8
byteorder=12345678
doublekind=3
d_longlong=define
longlongsize=8
d_longdbl=define
longdblsize=16
longdblkind=3
ivtype='long'
ivsize=8
nvtype='double'
nvsize=8
Off_t='off_t'
lseeksize=8
alignbytes=8
prototype=define
Linker and Libraries:
ld='cc'
ldflags =' -fstack-protector-strong -L/usr/local/lib'
libpth=/usr/local/lib /usr/lib/gcc/x86_64-linux-gnu/8/include-fixed /usr/include/x86_64-linux-gnu /usr/lib /lib/x86_64-linux-gnu /lib/../lib /usr/lib/x86_64-linux-gnu /usr/lib/../lib /lib /lib64 /usr/lib64
libs=-lpthread -lnsl -lgdbm -ldb -ldl -lm -lcrypt -lutil -lc
perllibs=-lpthread -lnsl -ldl -lm -lcrypt -lutil -lc
libc=libc-2.27.so
so=so
useshrplib=false
libperl=libperl.a
gnulibc_version='2.27'
Dynamic Linking:
dlsrc=dl_dlopen.xs
dlext=so
d_dlsymun=undef
ccdlflags='-Wl,-E'
cccdlflags='-fPIC'
lddlflags='-shared -O2 -L/usr/local/lib -fstack-protector-strong'
Characteristics of this binary (from libperl):
Compile-time options:
HAS_TIMES
PERLIO_LAYERS
PERL_COPY_ON_WRITE
PERL_DONT_CREATE_GVSV
PERL_MALLOC_WRAP
PERL_OP_PARENT
PERL_PRESERVE_IVUV
PERL_USE_DEVEL
USE_64_BIT_ALL
USE_64_BIT_INT
USE_LARGE_FILES
USE_LOCALE
USE_LOCALE_COLLATE
USE_LOCALE_CTYPE
USE_LOCALE_NUMERIC
USE_LOCALE_TIME
USE_PERLIO
USE_PERL_ATOF
Locally applied patches:
Devel::PatchPerl 1.48
Built under linux
Compiled at Dec 5 2018 01:00:13
%ENV:
PERL5LIB="/tmp/build/Crypt-OpenSSL-Verify-0.10-0/blib/arch:/tmp/build/Crypt-OpenSSL-Verify-0.10-0/blib/lib:/tmp/build/Crypt-OpenSSL-X509-1.813-0/blib/arch:/tmp/build/Crypt-OpenSSL-X509-1.813-0/blib/lib"
PERL5OPT=""
PERL5_CPANPLUS_IS_RUNNING="4124643"
PERL5_CPAN_IS_RUNNING="4124643"
PERL5_CPAN_IS_RUNNING_IN_RECURSION="4124184,4124643"
PERLBREW_HOME="/home/njh/.perlbrew"
PERLBREW_MANPATH="/home/njh/perl5/perlbrew/perls/perl-5.28.1-64all/man"
PERLBREW_PATH="/home/njh/perl5/perlbrew/bin:/home/njh/perl5/perlbrew/perls/perl-5.28.1-64all/bin"
PERLBREW_PERL="perl-5.28.1-64all"
PERLBREW_ROOT="/home/njh/perl5/perlbrew"
PERLBREW_SHELLRC_VERSION="0.86"
PERLBREW_VERSION="0.86"
PERL_USE_UNSAFE_INC="1"
@INC:
/tmp/build/Crypt-OpenSSL-Verify-0.10-0/blib/arch
/tmp/build/Crypt-OpenSSL-Verify-0.10-0/blib/lib
/tmp/build/Crypt-OpenSSL-X509-1.813-0/blib/arch
/tmp/build/Crypt-OpenSSL-X509-1.813-0/blib/lib
/home/njh/perl5/perlbrew/perls/perl-5.28.1-64all/lib/site_perl/5.28.1/x86_64-linux
/home/njh/perl5/perlbrew/perls/perl-5.28.1-64all/lib/site_perl/5.28.1
/home/njh/perl5/perlbrew/perls/perl-5.28.1-64all/lib/5.28.1/x86_64-linux
/home/njh/perl5/perlbrew/perls/perl-5.28.1-64all/lib/5.28.1
.