IO-Stringy v2.113 Perl 5 v5.31.9 amd64-netbsd
- Status
- Pass
- From
- Carlos Guevara
- Dist
-
IO-Stringy v2.113
- Platform
- Perl 5 v5.31.9 amd64-netbsd
- Date
- 2020-02-14 04:06:43
- ID
- 68be988a-4edf-11ea-9dca-7b6e5c7f7fcd
This distribution has been tested as part of the CPAN Testers
project, supporting the Perl programming language. See
http://wiki.cpantesters.org/ for more information or email
questions to cpan-testers-discuss@perl.org
--
Dear Chase Whitener,
This is a computer-generated report for IO-Stringy-2.113
on perl 5.31.9, created by CPAN-Reporter-1.2018.
Thank you for uploading your work to CPAN. Congratulations!
All tests were successful.
Sections of this report:
* Tester comments
* Program output
* Prerequisites
* Environment and other context
------------------------------
TESTER COMMENTS
------------------------------
Additional comments from tester:
none provided
------------------------------
PROGRAM OUTPUT
------------------------------
Output from '/usr/bin/make test':
PERL_DL_NONLAZY=1 "/home/cpan/bin/perl-blead/bin/perl5.31.9" "-MExtUtils::Command::MM" "-MTest::Harness" "-e" "undef *Test::Harness::Switches; test_harness(0, 'blib/lib', 'blib/arch')" t/*.t
#
# Versions for all modules listed in MYMETA.json (including optional ones):
#
# === Configure Requires ===
#
# Module Want Have
# ------------------- ---- ----
# ExtUtils::MakeMaker any 7.44
#
# === Build Requires ===
#
# Module Want Have
# ------------------- ---- ----
# ExtUtils::MakeMaker any 7.44
#
# === Test Requires ===
#
# Module Want Have
# ------------------- ---- --------
# ExtUtils::MakeMaker any 7.44
# File::Basename any 2.85
# File::Spec any 3.78
# File::Temp any 0.2309
# FileHandle any 2.03
# IO::File any 1.41
# IO::Handle any 1.42
# Symbol any 1.08
# Test::More 0.88 1.302171
# Test::Tester any 1.302171
# strict any 1.11
# warnings any 1.46
#
# === Test Recommends ===
#
# Module Want Have
# ---------- -------- --------
# CPAN::Meta 2.120900 2.150010
#
# === Runtime Requires ===
#
# Module Want Have
# ---------- ---- -----
# Carp any 1.50
# Exporter 5.57 5.74
# File::Spec any 3.78
# FileHandle any 2.03
# IO::File any 1.41
# IO::Handle any 1.42
# Symbol any 1.08
# overload any 1.31
# parent any 0.238
# strict any 1.11
# warnings any 1.46
#
t/00-report-prereqs.t .. ok
t/IO_InnerFile.t ....... ok
t/IO_Lines.t ........... ok
t/IO_Scalar.t .......... ok
t/IO_ScalarArray.t ..... ok
t/IO_WrapTie.t ......... ok
t/simple.t ............. ok
t/two.t ................ ok
All tests successful.
Files=8, Tests=127, 2 wallclock secs ( 0.05 usr 0.04 sys + 0.96 cusr 0.41 csys = 1.46 CPU)
Result: PASS
------------------------------
PREREQUISITES
------------------------------
Prerequisite modules loaded:
requires:
Module Need Have
------------------- ---- --------
Carp 0 1.50
Exporter 5.57 5.74
File::Spec 0 3.78
FileHandle 0 2.03
IO::File 0 1.41
IO::Handle 0 1.42
overload 0 1.31
parent 0 0.238
strict 0 1.11
Symbol 0 1.08
warnings 0 1.46
build_requires:
Module Need Have
------------------- ---- --------
ExtUtils::MakeMaker 0 7.44
File::Basename 0 2.85
File::Spec 0 3.78
File::Temp 0 0.2309
FileHandle 0 2.03
IO::File 0 1.41
IO::Handle 0 1.42
strict 0 1.11
Symbol 0 1.08
Test::More 0.88 1.302171
Test::Tester 0 1.302171
warnings 0 1.46
configure_requires:
Module Need Have
------------------- ---- --------
ExtUtils::MakeMaker 0 7.44
------------------------------
ENVIRONMENT AND OTHER CONTEXT
------------------------------
Environment variables:
LC_ALL = C
NONINTERACTIVE_TESTING = 1
PATH = /home/cpan/bin/perl-blead/bin:/home/cpan/bin:/home/cpan/bin:/bin:/sbin:/usr/bin:/usr/sbin:/usr/X11R7/bin:/usr/pkg/bin:/usr/pkg/sbin:/usr/games:/usr/local/bin:/usr/local/sbin
PERL5LIB =
PERL5OPT =
PERL5_CPANPLUS_IS_RUNNING = 3290
PERL5_CPAN_IS_RUNNING = 3290
PERL_MM_USE_DEFAULT = 1
PERL_USE_UNSAFE_INC = 1
PERL_VERSION = blead
SHELL = /usr/pkg/bin/bash
TERM = screen
TMPDIR = /home/cpan/tmp
Perl special variables (and OS-specific diagnostics, for MSWin32):
$^X = /home/cpan/bin/perl-blead/bin/perl5.31.9
$UID/$EUID = 1001 / 1001
$GID = 100 100
$EGID = 100 100
Perl module toolchain versions installed:
Module Have
------------------- --------
CPAN 2.27
CPAN::Meta 2.150010
Cwd 3.78
ExtUtils::CBuilder 0.280234
ExtUtils::Command 7.44
ExtUtils::Install 2.14
ExtUtils::MakeMaker 7.44
ExtUtils::Manifest 1.72
ExtUtils::ParseXS 3.40
File::Spec 3.78
JSON 4.02
JSON::PP 4.04
Module::Build 0.4231
Module::Signature n/a
Parse::CPAN::Meta 2.150010
Test::Harness 3.42
Test::More 1.302171
YAML 1.30
YAML::Syck n/a
version 0.9924
--
Summary of my perl5 (revision 5 version 31 subversion 9) configuration:
Commit id: 9258297b8309a1921f7c04b987d51e57a2509fc7
Platform:
osname=netbsd
osvers=8.1
archname=amd64-netbsd
uname='netbsd cjg-netbsd8 8.1 netbsd 8.1 (generic) #0: fri may 31 08:43:59 utc 2019 mkrepro@mkrepro.netbsd.org:usrsrcsysarchamd64compilegeneric amd64 '
config_args='-des -Dprefix=~/bin/perl-blead -Dscriptdir=~/bin/perl-blead/bin -Dusedevel -Duse64bitall'
hint=recommended
useposix=true
d_sigaction=define
useithreads=undef
usemultiplicity=undef
use64bitint=define
use64bitall=define
uselongdouble=undef
usemymalloc=n
default_inc_excludes_dot=define
bincompat5005=undef
Compiler:
cc='cc'
ccflags ='-fwrapv -fno-strict-aliasing -pipe -fstack-protector-strong -I/usr/pkg/include -D_FORTIFY_SOURCE=2'
optimize='-O'
cppflags='-fwrapv -fno-strict-aliasing -pipe -fstack-protector-strong -I/usr/pkg/include'
ccversion=''
gccversion='5.5.0'
gccosandvers=''
intsize=4
longsize=8
ptrsize=8
doublesize=8
byteorder=12345678
doublekind=3
d_longlong=define
longlongsize=8
d_longdbl=define
longdblsize=16
longdblkind=3
ivtype='long'
ivsize=8
nvtype='double'
nvsize=8
Off_t='off_t'
lseeksize=8
alignbytes=8
prototype=define
Linker and Libraries:
ld='cc'
ldflags =' -Wl,-rpath,/usr/pkg/lib -Wl,-rpath,/usr/local/lib -fstack-protector-strong -L/usr/pkg/lib'
libpth=/usr/include/gcc-5 /usr/lib /usr/pkg/lib /lib
libs=-lpthread -lm -lcrypt -lutil -lc -lposix
perllibs=-lpthread -lm -lcrypt -lutil -lc -lposix
libc=/lib/libc.so
so=so
useshrplib=false
libperl=libperl.a
gnulibc_version=''
Dynamic Linking:
dlsrc=dl_dlopen.xs
dlext=so
d_dlsymun=undef
ccdlflags='-Wl,-E '
cccdlflags='-DPIC -fPIC '
lddlflags='-shared -L/usr/pkg/lib -fstack-protector-strong'
Characteristics of this binary (from libperl):
Compile-time options:
HAS_TIMES
PERLIO_LAYERS
PERL_COPY_ON_WRITE
PERL_DONT_CREATE_GVSV
PERL_MALLOC_WRAP
PERL_OP_PARENT
PERL_PRESERVE_IVUV
PERL_USE_DEVEL
USE_64_BIT_ALL
USE_64_BIT_INT
USE_LARGE_FILES
USE_LOCALE
USE_LOCALE_COLLATE
USE_LOCALE_CTYPE
USE_LOCALE_NUMERIC
USE_LOCALE_TIME
USE_PERLIO
USE_PERL_ATOF
Built under netbsd
Compiled at Feb 13 2020 18:41:48
%ENV:
PERL5LIB=""
PERL5OPT=""
PERL5_CPANPLUS_IS_RUNNING="3290"
PERL5_CPAN_IS_RUNNING="3290"
PERL_MM_USE_DEFAULT="1"
PERL_USE_UNSAFE_INC="1"
PERL_VERSION="blead"
@INC:
/home/cpan/bin/perl-blead/lib/site_perl/5.31.9/amd64-netbsd
/home/cpan/bin/perl-blead/lib/site_perl/5.31.9
/home/cpan/bin/perl-blead/lib/5.31.9/amd64-netbsd
/home/cpan/bin/perl-blead/lib/5.31.9
.