Dist-Zilla-Plugin-CheckIssues v0.010 Perl 5 v5.10.1 darwin-2level

Status
Pass
From
Karen Etheridge
Dist
Dist-Zilla-Plugin-CheckIssues v0.010
Platform
Perl 5 v5.10.1 darwin-2level
Date
2017-08-19 22:04:45
ID
68db8a98-852a-11e7-81c3-a6f18b60e867
This distribution has been tested as part of the CPAN Testers
project, supporting the Perl programming language.  See
http://wiki.cpantesters.org/ for more information or email
questions to cpan-testers-discuss@perl.org


--
Dear ETHER,

This is a computer-generated report for Dist-Zilla-Plugin-CheckIssues-0.010
on perl 5.10.1, created by App::cpanminus::reporter 0.17 (1.7043).

Thank you for uploading your work to CPAN.  Congratulations!
All tests were successful.

Sections of this report:

    * Tester comments
    * Program output
    * Prerequisites
    * Environment and other context

------------------------------
TESTER COMMENTS
------------------------------

Additional comments from tester:

none provided

------------------------------
PROGRAM OUTPUT
------------------------------

Output from '':

Building and testing Dist-Zilla-Plugin-CheckIssues-0.010
cp lib/Dist/Zilla/Plugin/CheckIssues.pm blib/lib/Dist/Zilla/Plugin/CheckIssues.pm
cp lib/Dist/Zilla/App/Command/issues.pm blib/lib/Dist/Zilla/App/Command/issues.pm
Manifying 2 pod documents
PERL_DL_NONLAZY=1 "/Volumes/amaretto/Users/ether/perl5/perlbrew/perls/10.1/bin/perl" "-MExtUtils::Command::MM" "-MTest::Harness" "-e" "undef *Test::Harness::Switches; test_harness(0, 'blib/lib', 'blib/arch')" t/*.t
# 
# Versions for all modules listed in MYMETA.json (including optional ones):
# 
# === Configure Requires ===
# 
#     Module                       Want     Have
#     ------------------------ -------- --------
#     CPAN::Meta::Requirements 2.120620    2.131
#     ExtUtils::MakeMaker           any  7.05_19
#     Module::Metadata              any 1.000026
# 
# === Build Requires ===
# 
#     Module              Want    Have
#     ------------------- ---- -------
#     ExtUtils::MakeMaker  any 7.05_19
# 
# === Test Requires ===
# 
#     Module                          Want     Have
#     ------------------------------- ---- --------
#     Dist::Zilla::App::Tester         any    5.047
#     Dist::Zilla::Role::MetaProvider  any    5.047
#     File::Spec                       any     3.47
#     File::pushd                      any    1.009
#     Module::Metadata                 any 1.000026
#     Moose::Util                      any   2.1805
#     Path::Tiny                       any    0.065
#     Test::DZil                       any    5.047
#     Test::Deep                       any    0.115
#     Test::Fatal                      any    0.014
#     Test::More                      0.88 1.001014
#     if                               any     0.05
#     lib                              any     0.62
# 
# === Test Recommends ===
# 
#     Module         Want     Have
#     ---------- -------- --------
#     CPAN::Meta 2.120900 2.150010
# 
# === Runtime Requires ===
# 
#     Module                               Want     Have
#     -------------------------------- -------- --------
#     Dist::Zilla                      4.300039    5.047
#     Dist::Zilla::App                      any    5.047
#     Dist::Zilla::Role::BeforeRelease      any    5.047
#     Encode                                any     2.72
#     HTTP::Headers                         any     6.05
#     HTTP::Tiny                            any    0.054
#     JSON::MaybeXS                    1.001000 1.003004
#     List::Util                           1.33     1.45
#     Moose                                 any   2.1805
#     Term::ANSIColor                      3.00     4.03
#     namespace::autoclean                  any     0.24
#     strict                                any     1.04
#     warnings                              any     1.06
# 
# === Other Modules ===
# 
#     Module           Have
#     ------------- -------
#     App::Cmd        0.331
#     Log::Dispatch    2.44
#     Pod::Coverage missing
# 
t/00-report-prereqs.t .. ok
t/zzz-check-breaks.t ... ok
t/03-no-repo.t ......... ok
t/01-basic.t ........... ok
t/02-no-rt.t ........... ok
t/04-command.t ......... ok
All tests successful.
Files=6, Tests=19,  1 wallclock secs ( 0.03 usr  0.01 sys +  4.93 cusr  0.28 csys =  5.25 CPU)
Result: PASS

------------------------------
PREREQUISITES
------------------------------

Prerequisite modules loaded:

    No requirements found

------------------------------
ENVIRONMENT AND OTHER CONTEXT
------------------------------

Environment variables:

    HARNESS_OPTIONS = j5:c
    LANG = en_CA.UTF-8
    NO_NETWORK_TESTING = 1
    PATH = /Volumes/amaretto/Users/ether/.perlbrew/libs/10.1@std/bin:/Volumes/amaretto/Users/ether/perl5/perlbrew/bin:/Volumes/amaretto/Users/ether/perl5/perlbrew/perls/10.1/bin:/Volumes/amaretto/Users/ether/bin:/Volumes/amaretto/Users/ether/git/misc/install/jaeger/bin:/Volumes/amaretto/Users/ether/git/misc/install/generic/bin:/opt/local/bin:/opt/local/sbin:/Volumes/amaretto/Users/ether/git/git-hub/lib:/usr/local/bin:/usr/bin:/bin:/usr/sbin:/sbin:/opt/local/share/git-core/contrib/workdir
    PERL5LIB = /Volumes/amaretto/Users/ether/.perlbrew/libs/10.1@std/lib/perl5
    PERLBREW_BASHRC_VERSION = 0.80
    PERLBREW_HOME = /Volumes/amaretto/Users/ether/.perlbrew
    PERLBREW_LIB = std
    PERLBREW_MANPATH = /Volumes/amaretto/Users/ether/.perlbrew/libs/10.1@std/man:/Volumes/amaretto/Users/ether/perl5/perlbrew/perls/10.1/man
    PERLBREW_PATH = /Volumes/amaretto/Users/ether/.perlbrew/libs/10.1@std/bin:/Volumes/amaretto/Users/ether/perl5/perlbrew/bin:/Volumes/amaretto/Users/ether/perl5/perlbrew/perls/10.1/bin
    PERLBREW_PERL = 10.1
    PERLBREW_ROOT = /Volumes/amaretto/Users/ether/perl5/perlbrew
    PERLBREW_VERSION = 0.80
    PERLDOC_PAGER = less -sicMr
    PERL_AUTOINSTALL_PREFER_CPAN = 1
    PERL_INSTALL_QUIET = 1
    PERL_LOCAL_LIB_ROOT = /Volumes/amaretto/Users/ether/.perlbrew/libs/10.1@std
    PERL_MB_OPT = --install_base /Volumes/amaretto/Users/ether/.perlbrew/libs/10.1@std
    PERL_MM_OPT = INSTALL_BASE=/Volumes/amaretto/Users/ether/.perlbrew/libs/10.1@std
    PERL_USE_UNSAFE_INC = 0
    SHELL = /bin/bash
    TERM = xterm-color

Perl special variables (and OS-specific diagnostics, for MSWin32):

    EGID = 20 20 12 61 79 80 81 98 701 33 100 204 395 398 399
    EUID = 502
    EXECUTABLE_NAME = /Volumes/amaretto/Users/ether/perl5/perlbrew/perls/10.1/bin/perl
    GID = 20 20 12 61 79 80 81 98 701 33 100 204 395 398 399
    UID = 502

Perl module toolchain versions installed:

    Module              Have    
    ------------------- --------
    CPAN                1.9402  
    CPAN::Meta          2.150010
    Cwd                 3.47    
    ExtUtils::CBuilder  0.280220
    ExtUtils::Command   7.05_19 
    ExtUtils::Install   1.54    
    ExtUtils::MakeMaker 7.05_19 
    ExtUtils::Manifest  1.70    
    ExtUtils::ParseXS   3.24    
    File::Spec          3.47    
    JSON                2.90    
    JSON::PP            2.93    
    Module::Build       0.4211  
    Module::Signature   n/a     
    Parse::CPAN::Meta   2.150010
    Test::Harness       3.35    
    Test::More          1.001014
    YAML                n/a     
    YAML::Syck          n/a     
    version             0.9912  


--

Summary of my perl5 (revision 5 version 10 subversion 1) configuration:
   
  Platform:
    osname=darwin, osvers=14.1.0, archname=darwin-2level
    uname='darwin jaeger 14.1.0 darwin kernel version 14.1.0: mon dec 22 23:10:38 pst 2014; root:xnu-2782.10.72~2release_x86_64 x86_64 '
    config_args='-de -Dprefix=/Volumes/amaretto/Users/ether/perl5/perlbrew/perls/10.1 -Dman1dir=none -Dman3dir=none -Aeval:scriptdir=/Volumes/amaretto/Users/ether/perl5/perlbrew/perls/10.1/bin'
    hint=recommended, useposix=true, d_sigaction=define
    useithreads=undef, usemultiplicity=undef
    useperlio=define, d_sfio=undef, uselargefiles=define, usesocks=undef
    use64bitint=define, use64bitall=define, uselongdouble=undef
    usemymalloc=n, bincompat5005=undef
  Compiler:
    cc='cc', ccflags ='-fno-common -DPERL_DARWIN -fno-strict-aliasing -pipe -fstack-protector -I/opt/local/include',
    optimize='-O3',
    cppflags='-fno-common -DPERL_DARWIN -fno-strict-aliasing -pipe -fstack-protector -I/opt/local/include'
    ccversion='', gccversion='4.2.1 Compatible Apple LLVM 6.0 (clang-600.0.56)', gccosandvers=''
    intsize=4, longsize=8, ptrsize=8, doublesize=8, byteorder=12345678
    d_longlong=define, longlongsize=8, d_longdbl=define, longdblsize=16
    ivtype='long', ivsize=8, nvtype='double', nvsize=8, Off_t='off_t', lseeksize=8
    alignbytes=8, prototype=define
  Linker and Libraries:
    ld='env MACOSX_DEPLOYMENT_TARGET=10.3 cc', ldflags =' -fstack-protector -L/opt/local/lib'
    libpth=/opt/local/lib /usr/lib
    libs=-lgdbm -ldbm -ldl -lm -lutil -lc
    perllibs=-ldl -lm -lutil -lc
    libc=, so=dylib, useshrplib=false, libperl=libperl.a
    gnulibc_version=''
  Dynamic Linking:
    dlsrc=dl_dlopen.xs, dlext=bundle, d_dlsymun=undef, ccdlflags=' '
    cccdlflags=' ', lddlflags=' -bundle -undefined dynamic_lookup -L/opt/local/lib -fstack-protector'


Characteristics of this binary (from libperl): 
  Compile-time options: PERL_DONT_CREATE_GVSV PERL_MALLOC_WRAP USE_64_BIT_ALL
                        USE_64_BIT_INT USE_LARGE_FILES USE_PERLIO
  Locally applied patches:
	Devel::PatchPerl 1.30
  Built under darwin
  Compiled at Feb 22 2015 18:01:42
  %ENV:
    PERL5LIB="/Volumes/amaretto/Users/ether/.perlbrew/libs/10.1@std/lib/perl5"
    PERLBREW_BASHRC_VERSION="0.80"
    PERLBREW_HOME="/Volumes/amaretto/Users/ether/.perlbrew"
    PERLBREW_LIB="std"
    PERLBREW_MANPATH="/Volumes/amaretto/Users/ether/.perlbrew/libs/10.1@std/man:/Volumes/amaretto/Users/ether/perl5/perlbrew/perls/10.1/man"
    PERLBREW_PATH="/Volumes/amaretto/Users/ether/.perlbrew/libs/10.1@std/bin:/Volumes/amaretto/Users/ether/perl5/perlbrew/bin:/Volumes/amaretto/Users/ether/perl5/perlbrew/perls/10.1/bin"
    PERLBREW_PERL="10.1"
    PERLBREW_ROOT="/Volumes/amaretto/Users/ether/perl5/perlbrew"
    PERLBREW_VERSION="0.80"
    PERLDOC_PAGER="less -sicMr"
    PERL_AUTOINSTALL_PREFER_CPAN="1"
    PERL_INSTALL_QUIET="1"
    PERL_LOCAL_LIB_ROOT="/Volumes/amaretto/Users/ether/.perlbrew/libs/10.1@std"
    PERL_MB_OPT="--install_base /Volumes/amaretto/Users/ether/.perlbrew/libs/10.1@std"
    PERL_MM_OPT="INSTALL_BASE=/Volumes/amaretto/Users/ether/.perlbrew/libs/10.1@std"
    PERL_USE_UNSAFE_INC="0"
  @INC:
    /Volumes/amaretto/Users/ether/.perlbrew/libs/10.1@std/lib/perl5/darwin-2level
    /Volumes/amaretto/Users/ether/.perlbrew/libs/10.1@std/lib/perl5
    /Volumes/amaretto/Users/ether/perl5/perlbrew/perls/10.1/lib/5.10.1/darwin-2level
    /Volumes/amaretto/Users/ether/perl5/perlbrew/perls/10.1/lib/5.10.1
    /Volumes/amaretto/Users/ether/perl5/perlbrew/perls/10.1/lib/site_perl/5.10.1/darwin-2level
    /Volumes/amaretto/Users/ether/perl5/perlbrew/perls/10.1/lib/site_perl/5.10.1
    .