Report for App-dupfind-0.140230-TRIAL

Back
From: metabase:user:30f4dfbe-2aae-11df-837a-5e0a49663a4f
Subject: PASS App-dupfind-0.140230-TRIAL v5.14.4 GNU/Linux
Date: 2014-01-29T01:33:52Z

This distribution has been tested as part of the CPAN Testers
project, supporting the Perl programming language.  See
http://wiki.cpantesters.org/ for more information or email
questions to cpan-testers-discuss@perl.org


--
Dear Tommy Butler,

This is a computer-generated report for App-dupfind-0.140230-TRIAL
on perl 5.14.4, created by CPAN-Reporter-1.2010.

Thank you for uploading your work to CPAN.  Congratulations!
All tests were successful.

Sections of this report:

    * Tester comments
    * Program output
    * Prerequisites
    * Environment and other context

------------------------------
TESTER COMMENTS
------------------------------

Additional comments from tester:

this report is from an automated smoke testing program
and was not reviewed by a human for accuracy

------------------------------
PROGRAM OUTPUT
------------------------------

Output from './Build test':

t/00-compile.t ................ ok
# 
# 
# Generated by Dist::Zilla::Plugin::ReportVersions::Tiny v1.10
# perl: 5.014004 (wanted 5.010) on linux from /home/njh/perl5/perlbrew/perls/perl-5.14.4/bin/perl
# 
# Benchmark                                     => 1.12       (want any version)
# Digest::xxHash                                => 1.02       (want any version)
# ExtUtils::MakeMaker                           => 6.84       (want 6.30)   
# File::Spec                                    => 3.40       (want any version)
# File::Temp                                    => 0.2301     (want any version)
# File::Util                                    => 4.132140   (want any version)
# Getopt::Long                                  => 2.41       (want any version)
# IO::Handle                                    => 1.31       (want any version)
# IPC::Open3                                    => 1.0901     (want any version)
# Module::Build                                 => 0.4007     (want 0.3601) 
# Moo                                           => 1.003001   (want any version)
# Moo::Role                                     => 1.003001   (want any version)
# Pod::Usage                                    => 1.63       (want any version)
# Storable                                      => 2.45       (want any version)
# Term::ProgressBar                             => 2.14       (want any version)
# Term::Prompt                                  => 1.04       (want any version)
# Test                                          => 1.26       (want any version)
# Test::More                                    => 0.98       (want 0.88)   
# Test::NoWarnings                              => 1.04       (want any version)
# Thread::Queue                                 => 3.02       (want any version)
# Time::HiRes                                   => 1.9726     (want any version)
# Try::Tiny                                     => 0.18       (want any version)
# lib                                           => 0.63       (want any version)
# strict                                        => 1.04       (want any version)
# threads                                       => 1.87       (want any version)
# threads::shared                               => 1.43       (want any version)
# warnings                                      => 1.12       (want any version)
# 
# Thanks for using my code.  I hope it works for you.
# If not, please try and include this output in the bug report.
# That will help me reproduce the issue and solve your problem.
# 
t/000-report-versions-tiny.t .. ok
t/001_canuseit.t .............. ok
t/002_isa.t ................... ok
t/003_can.t ................... ok
t/004_scanfs.t ................ ok
t/005_prune.t ................. ok
t/006_weed.t .................. ok
t/007_digest.t ................ ok
t/008_output_robot.t .......... ok
t/009_output_human.t .......... ok
All tests successful.
Files=11, Tests=79,  2 wallclock secs ( 0.03 usr  0.00 sys +  1.18 cusr  0.17 csys =  1.38 CPU)
Result: PASS

------------------------------
PREREQUISITES
------------------------------

Prerequisite modules loaded:

requires:

    Module              Need   Have    
    ------------------- ------ --------
    Benchmark           0      1.12    
    Digest::xxHash      0      1.02    
    File::Util          0      4.132140
    Getopt::Long        0      2.41    
    lib                 0      0.63    
    Moo                 0      1.003001
    Moo::Role           0      1.003001
    perl                5.010  5.014004
    Pod::Usage          0      1.63    
    strict              0      1.04    
    Term::ProgressBar   0      2.14    
    Term::Prompt        0      1.04    
    Thread::Queue       0      3.02    
    threads             0      1.87    
    threads::shared     0      1.43    
    Time::HiRes         0      1.9726  
    warnings            0      1.12    

build_requires:

    Module              Need   Have    
    ------------------- ------ --------
    Benchmark           0      1.12    
    Digest::xxHash      0      1.02    
    ExtUtils::MakeMaker 0      6.84    
    File::Spec          0      3.40    
    File::Temp          0      0.2301  
    File::Util          0      4.132140
    Getopt::Long        0      2.41    
    IO::Handle          0      1.31    
    IPC::Open3          0      1.0901  
    Module::Build       0.3601 0.4007  
    Moo                 0      1.003001
    Moo::Role           0      1.003001
    perl                5.010  5.014004
    Pod::Usage          0      1.63    
    Storable            0      2.45    
    Test                0      1.26    
    Test::More          0.88   0.98    
    Test::NoWarnings    0      1.04    
    Thread::Queue       0      3.02    
    threads             0      1.87    
    threads::shared     0      1.43    
    Time::HiRes         0      1.9726  
    Try::Tiny           0      0.18    

configure_requires:

    Module              Need   Have    
    ------------------- ------ --------
    ExtUtils::MakeMaker 6.30   6.84    
    Module::Build       0.3601 0.4007  


------------------------------
ENVIRONMENT AND OTHER CONTEXT
------------------------------

Environment variables:

    AUTOMATED_TESTING = 1
    LANG = en_GB.UTF-8
    LANGUAGE = en_GB:en
    LD_LIBRARY_PATH = /usr/local/lib::
    PATH = /home/njh/perl5/perlbrew/bin:/home/njh/perl5/perlbrew/perls/perl-5.14.4/bin:/home/njh/perl5/perlbrew/bin:/usr/local/bin:/usr/bin:/bin:/usr/local/games:/usr/games:/home/njh/bin:/sbin
    PERL5LIB = /home/njh/.cpan/build/Term-Prompt-1.04-8cieDo/blib/arch:/home/njh/.cpan/build/Term-Prompt-1.04-8cieDo/blib/lib:/home/njh/.cpan/build/File-Util-4.132140-hFEEGS/blib/arch:/home/njh/.cpan/build/File-Util-4.132140-hFEEGS/blib/lib:/home/njh/.cpan/build/Digest-xxHash-1.02-i3g_3m/blib/arch:/home/njh/.cpan/build/Digest-xxHash-1.02-i3g_3m/blib/lib:/home/njh/.cpan/build/Term-ProgressBar-2.14-c7HzVj/blib/arch:/home/njh/.cpan/build/Term-ProgressBar-2.14-c7HzVj/blib/lib:/home/njh/.cpan/build/Class-MethodMaker-2.19-JVGTPV/blib/arch:/home/njh/.cpan/build/Class-MethodMaker-2.19-JVGTPV/blib/lib
    PERL5OPT = 
    PERL5_CPANPLUS_IS_RUNNING = 18269
    PERL5_CPAN_IS_RUNNING = 18269
    PERL5_MINISMOKEBOX = 0.58
    PERLBREW_BASHRC_VERSION = 0.58
    PERLBREW_HOME = /home/njh/.perlbrew
    PERLBREW_MANPATH = /home/njh/perl5/perlbrew/perls/perl-5.14.4/man
    PERLBREW_PATH = /home/njh/perl5/perlbrew/bin:/home/njh/perl5/perlbrew/perls/perl-5.14.4/bin
    PERLBREW_PERL = perl-5.14.4
    PERLBREW_ROOT = /home/njh/perl5/perlbrew
    PERLBREW_VERSION = 0.67
    PERL_EXTUTILS_AUTOINSTALL = --defaultdeps
    PERL_MM_USE_DEFAULT = 1
    SHELL = /bin/bash
    TERM = linux

Perl special variables (and OS-specific diagnostics, for MSWin32):

    $^X = /home/njh/perl5/perlbrew/perls/perl-5.14.4/bin/perl
    $UID/$EUID = 1000 / 1000
    $GID = 1000 4 24 25 29 30 44 46 108 112 1000
    $EGID = 1000 4 24 25 29 30 44 46 108 112 1000

Perl module toolchain versions installed:

    Module              Have    
    ------------------- --------
    CPAN                2.00    
    CPAN::Meta          2.133380
    Cwd                 3.40    
    ExtUtils::CBuilder  0.280212
    ExtUtils::Command   1.18    
    ExtUtils::Install   1.56    
    ExtUtils::MakeMaker 6.84    
    ExtUtils::Manifest  1.63    
    ExtUtils::ParseXS   3.22    
    File::Spec          3.40    
    JSON                2.59    
    JSON::PP            2.27203 
    Module::Build       0.4007  
    Module::Signature   0.73    
    Parse::CPAN::Meta   1.4409  
    Test::Harness       3.29    
    Test::More          0.98    
    YAML                0.84    
    YAML::Syck          1.27    
    version             0.9904  


--

Summary of my perl5 (revision 5 version 14 subversion 4) configuration:
   
  Platform:
    osname=linux, osvers=3.2.0-4-amd64, archname=x86_64-linux-thread-multi
    uname='linux nigelhorne.force9.co.uk 3.2.0-4-amd64 #1 smp debian 3.2.32-1 x86_64 gnulinux '
    config_args='-de -Dprefix=/home/njh/perl5/perlbrew/perls/perl-5.14.4 -Duseithreads -Dusemultiplicity -Accflags=-O2 -W -Wformat=2 -Wswitch -Wshadow -Wwrite-strings -Wuninitialized -Wall -pipe -mtune=native -march=native -fomit-frame-pointer -msse2 -msse -mmmx -mfpmath=sse -pedantic -D_FORTIFY_SOURCE=2 -Wpointer-arith -Wstrict-prototypes -fstack-protector -Wstack-protector -Wextra -Wbad-function-cast -Wcast-align -Wcast-qual -Wdisabled-optimization -Wendif-labels -Wfloat-equal -Wformat-nonliteral -Winline -Wmissing-declarations -Wmissing-prototypes -Wnested-externs -Wpointer-arith -Wundef -Wformat-security -Aeval:scriptdir=/home/njh/perl5/perlbrew/perls/perl-5.14.4/bin'
    hint=recommended, useposix=true, d_sigaction=define
    useithreads=define, usemultiplicity=define
    useperlio=define, d_sfio=undef, uselargefiles=define, usesocks=undef
    use64bitint=define, use64bitall=define, uselongdouble=undef
    usemymalloc=n, bincompat5005=undef
  Compiler:
    cc='cc', ccflags ='-D_REENTRANT -D_GNU_SOURCE -O2 -W -Wformat=2 -Wswitch -Wshadow -Wwrite-strings -Wuninitialized -Wall -pipe -mtune=native -march=native -fomit-frame-pointer -msse2 -msse -mmmx -mfpmath=sse -pedantic -D_FORTIFY_SOURCE=2 -Wpointer-arith -Wstrict-prototypes -fstack-protector -Wstack-protector -Wextra -Wbad-function-cast -Wcast-align -Wcast-qual -Wdisabled-optimization -Wendif-labels -Wfloat-equal -Wformat-nonliteral -Winline -Wmissing-declarations -Wmissing-prototypes -Wnested-externs -Wpointer-arith -Wundef -Wformat-security -fno-strict-aliasing -I/usr/local/include -D_LARGEFILE_SOURCE -D_FILE_OFFSET_BITS=64',
    optimize='-O2',
    cppflags='-D_REENTRANT -D_GNU_SOURCE -O2 -W -Wformat=2 -Wswitch -Wshadow -Wwrite-strings -Wuninitialized -Wall -pipe -mtune=native -march=native -fomit-frame-pointer -msse2 -msse -mmmx -mfpmath=sse -pedantic -D_FORTIFY_SOURCE=2 -Wpointer-arith -Wstrict-prototypes -fstack-protector -Wstack-protector -Wextra -Wbad-function-cast -Wcast-align -Wcast-qual -Wdisabled-optimization -Wendif-labels -Wfloat-equal -Wformat-nonliteral -Winline -Wmissing-declarations -Wmissing-prototypes -Wnested-externs -Wpointer-arith -Wundef -Wformat-security -fno-strict-aliasing -I/usr/local/include'
    ccversion='', gccversion='4.7.2', gccosandvers=''
    intsize=4, longsize=8, ptrsize=8, doublesize=8, byteorder=12345678
    d_longlong=define, longlongsize=8, d_longdbl=define, longdblsize=16
    ivtype='long', ivsize=8, nvtype='double', nvsize=8, Off_t='off_t', lseeksize=8
    alignbytes=8, prototype=define
  Linker and Libraries:
    ld='cc', ldflags =' -fstack-protector -L/usr/local/lib'
    libpth=/usr/local/lib /lib/x86_64-linux-gnu /lib/../lib /usr/lib/x86_64-linux-gnu /usr/lib/../lib /lib /usr/lib
    libs=-lnsl -lgdbm -ldb -ldl -lm -lcrypt -lutil -lpthread -lc -lgdbm_compat
    perllibs=-lnsl -ldl -lm -lcrypt -lutil -lpthread -lc
    libc=, so=so, useshrplib=false, libperl=libperl.a
    gnulibc_version='2.13'
  Dynamic Linking:
    dlsrc=dl_dlopen.xs, dlext=so, d_dlsymun=undef, ccdlflags='-Wl,-E'
    cccdlflags='-fPIC', lddlflags='-shared -O2 -L/usr/local/lib -fstack-protector'


Characteristics of this binary (from libperl): 
  Compile-time options: MULTIPLICITY PERL_DONT_CREATE_GVSV
                        PERL_IMPLICIT_CONTEXT PERL_MALLOC_WRAP
                        PERL_PRESERVE_IVUV USE_64_BIT_ALL USE_64_BIT_INT
                        USE_ITHREADS USE_LARGE_FILES USE_PERLIO USE_PERL_ATOF
                        USE_REENTRANT_API
  Built under linux
  Compiled at Mar 11 2013 11:00:48
  %ENV:
    PERL5LIB="/home/njh/.cpan/build/Term-Prompt-1.04-8cieDo/blib/arch:/home/njh/.cpan/build/Term-Prompt-1.04-8cieDo/blib/lib:/home/njh/.cpan/build/File-Util-4.132140-hFEEGS/blib/arch:/home/njh/.cpan/build/File-Util-4.132140-hFEEGS/blib/lib:/home/njh/.cpan/build/Digest-xxHash-1.02-i3g_3m/blib/arch:/home/njh/.cpan/build/Digest-xxHash-1.02-i3g_3m/blib/lib:/home/njh/.cpan/build/Term-ProgressBar-2.14-c7HzVj/blib/arch:/home/njh/.cpan/build/Term-ProgressBar-2.14-c7HzVj/blib/lib:/home/njh/.cpan/build/Class-MethodMaker-2.19-JVGTPV/blib/arch:/home/njh/.cpan/build/Class-MethodMaker-2.19-JVGTPV/blib/lib"
    PERL5OPT=""
    PERL5_CPANPLUS_IS_RUNNING="18269"
    PERL5_CPAN_IS_RUNNING="18269"
    PERL5_MINISMOKEBOX="0.58"
    PERLBREW_BASHRC_VERSION="0.58"
    PERLBREW_HOME="/home/njh/.perlbrew"
    PERLBREW_MANPATH="/home/njh/perl5/perlbrew/perls/perl-5.14.4/man"
    PERLBREW_PATH="/home/njh/perl5/perlbrew/bin:/home/njh/perl5/perlbrew/perls/perl-5.14.4/bin"
    PERLBREW_PERL="perl-5.14.4"
    PERLBREW_ROOT="/home/njh/perl5/perlbrew"
    PERLBREW_VERSION="0.67"
    PERL_EXTUTILS_AUTOINSTALL="--defaultdeps"
    PERL_MM_USE_DEFAULT="1"
  @INC:
    /home/njh/.cpan/build/Term-Prompt-1.04-8cieDo/blib/arch
    /home/njh/.cpan/build/Term-Prompt-1.04-8cieDo/blib/lib
    /home/njh/.cpan/build/File-Util-4.132140-hFEEGS/blib/arch
    /home/njh/.cpan/build/File-Util-4.132140-hFEEGS/blib/lib
    /home/njh/.cpan/build/Digest-xxHash-1.02-i3g_3m/blib/arch
    /home/njh/.cpan/build/Digest-xxHash-1.02-i3g_3m/blib/lib
    /home/njh/.cpan/build/Term-ProgressBar-2.14-c7HzVj/blib/arch
    /home/njh/.cpan/build/Term-ProgressBar-2.14-c7HzVj/blib/lib
    /home/njh/.cpan/build/Class-MethodMaker-2.19-JVGTPV/blib/arch
    /home/njh/.cpan/build/Class-MethodMaker-2.19-JVGTPV/blib/lib
    /home/njh/perl5/perlbrew/perls/perl-5.14.4/lib/site_perl/5.14.4/x86_64-linux-thread-multi
    /home/njh/perl5/perlbrew/perls/perl-5.14.4/lib/site_perl/5.14.4
    /home/njh/perl5/perlbrew/perls/perl-5.14.4/lib/5.14.4/x86_64-linux-thread-multi
    /home/njh/perl5/perlbrew/perls/perl-5.14.4/lib/5.14.4
    .