OpenAPI-PerlGenerator v0.01 Perl 5 v5.39.10 i86pc-solaris-thread-multi-64

Status
Pass
From
Carlos Guevara
Dist
OpenAPI-PerlGenerator v0.01
Platform
Perl 5 v5.39.10 i86pc-solaris-thread-multi-64
Date
2024-04-03 22:27:52
ID
6931d2c4-f209-11ee-8c32-dbbb8cfa75b5
This distribution has been tested as part of the CPAN Testers
project, supporting the Perl programming language.  See
http://wiki.cpantesters.org/ for more information or email
questions to cpan-testers-discuss@perl.org


--
Dear Max Maischein,

This is a computer-generated report for OpenAPI-PerlGenerator-0.01
on perl 5.39.10, created by CPAN-Reporter-1.2019.

Thank you for uploading your work to CPAN.  Congratulations!
All tests were successful.

Sections of this report:

    * Tester comments
    * Program output
    * Prerequisites
    * Environment and other context

------------------------------
TESTER COMMENTS
------------------------------

Additional comments from tester:

this report is from an automated smoke testing program
and was not reviewed by a human for accuracy

------------------------------
PROGRAM OUTPUT
------------------------------

Output from '/usr/bin/make test':

PERL_DL_NONLAZY=1 "/export/home/cpan/bin/perl/bin/perl5.39.10" "-MExtUtils::Command::MM" "-MTest::Harness" "-e" "undef *Test::Harness::Switches; test_harness(0, 'blib/lib', 'blib/arch')" t/00-load.t t/01-regression.t t/02-http-form.t
# Testing OpenAPI::PerlGenerator 0.01, Perl 5.039010
# AutoLoader 5.74
# B 1.89
# Carp 1.54
# Carp::Heavy 1.54
# Class::Accessor::Lite 0.08
# Class::Struct 0.68
# Class::XSAccessor 1.19
# Class::XSAccessor::Heavy 1.19
# Clone 0.46
# Compress::Raw::Zlib 2.209
# Config 5.039010
# Cwd 3.90
# Data::Dumper 2.189
# Digest::MD5 2.58_01
# Digest::SHA 6.04
# Digest::base 1.20
# Encode 3.21
# Encode::Alias 2.25
# Encode::Config 2.05
# Encode::Encoding 2.08
# Encode::Guess 2.08
# Encode::MIME::Name 1.03
# Encode::Unicode 2.20
# English 1.11
# Errno 1.38
# Exporter 5.78
# Exporter::Heavy 5.78
# ExtUtils::Liblist 7.70
# ExtUtils::Liblist::Kid 7.70
# ExtUtils::MM 7.70
# ExtUtils::MM_Any 7.70
# ExtUtils::MM_Unix 7.70
# ExtUtils::MY 7.70
# ExtUtils::MakeMaker 7.70
# ExtUtils::MakeMaker::Config 7.70
# ExtUtils::MakeMaker::Locale 7.70
# ExtUtils::MakeMaker::version 7.70
# Fcntl 1.17
# File::Basename 2.86
# File::Copy 2.41
# File::Find 1.44
# File::Glob 1.42
# File::GlobMapper 1.001
# File::Path 2.18
# File::Spec 3.90
# File::Spec::Functions 3.91
# File::Spec::Unix 3.91
# File::Temp 0.2311
# File::stat 1.14
# Getopt::Long 2.57
# HTML::Entities 3.82
# HTML::Parser 3.82
# I18N::Langinfo 0.24
# IO 1.55
# IO::Compress::Adapter::Deflate 2.208
# IO::Compress::Base 2.208
# IO::Compress::Base::Common 2.208
# IO::Compress::Gzip 2.208
# IO::Compress::Gzip::Constants 2.208
# IO::Compress::RawDeflate 2.208
# IO::Compress::Zlib::Extra 2.208
# IO::File 1.55
# IO::Handle 1.55
# IO::Poll 1.55
# IO::Seekable 1.55
# IO::Uncompress::Adapter::Inflate 2.208
# IO::Uncompress::Base 2.208
# IO::Uncompress::Gunzip 2.208
# IO::Uncompress::RawInflate 2.208
# JSON 4.10
# JSON::Pointer 0.07
# JSON::Pointer::Context 0.07
# JSON::Pointer::Exception 0.07
# JSON::Pointer::Syntax 0.07
# JSON::XS 4.03
# List::Util 1.63
# MIME::Base64 3.16_01
# Method::Generate::Accessor <unknown>
# Method::Generate::Constructor <unknown>
# Mojo::Base <unknown>
# Mojo::ByteStream <unknown>
# Mojo::Collection <unknown>
# Mojo::Exception <unknown>
# Mojo::File <unknown>
# Mojo::Template <unknown>
# Mojo::Util <unknown>
# Moo 2.005005
# Moo::HandleMoose::_TypeMap <unknown>
# Moo::Object <unknown>
# Moo::_Utils <unknown>
# Moo::sification <unknown>
# OpenAPI::PerlGenerator 0.01
# OpenAPI::PerlGenerator::Template 0.01
# OpenAPI::PerlGenerator::Utils 0.01
# POSIX 2.18
# Perl::Tidy 20240202
# Perl::Tidy::Debugger 20240202
# Perl::Tidy::Diagnostics 20240202
# Perl::Tidy::FileWriter 20240202
# Perl::Tidy::Formatter 20240202
# Perl::Tidy::HtmlWriter 20240202
# Perl::Tidy::IOScalar 20240202
# Perl::Tidy::IOScalarArray 20240202
# Perl::Tidy::IndentationItem 20240202
# Perl::Tidy::Logger 20240202
# Perl::Tidy::Tokenizer 20240202
# Perl::Tidy::VerticalAligner 20240202
# Perl::Tidy::VerticalAligner::Alignment 20240202
# Perl::Tidy::VerticalAligner::Line 20240202
# PerlIO 1.12
# Pod::Escapes 1.07
# Pod::Html 1.35
# Pod::Html::Util 1.35
# Pod::Simple 3.45
# Pod::Simple::BlackBox 3.45
# Pod::Simple::LinkSection 3.45
# Pod::Simple::Methody 3.45
# Pod::Simple::Search 3.45
# Pod::Simple::SimpleTree 3.45
# Pod::Simple::TiedOutFH 3.45
# Pod::Simple::XHTML 3.45
# Pod::Text 5.01
# Pod::Usage 2.03
# Role::Tiny 2.002004
# Scalar::Util 1.63
# SelectSaver 1.02
# Socket 2.037
# Storable 3.32
# Sub::Defer 2.006008
# Sub::Quote 2.006008
# Sub::Util 1.63
# Symbol 1.09
# Test::Builder 1.302198
# Test::Builder::Formatter 1.302198
# Test::Builder::Module 1.302198
# Test::Builder::TodoDiag 1.302198
# Test::More 1.302198
# Test2::API 1.302198
# Test2::API::Context 1.302198
# Test2::API::Instance 1.302198
# Test2::API::Stack 1.302198
# Test2::Event 1.302198
# Test2::Event::Bail 1.302198
# Test2::Event::Diag 1.302198
# Test2::Event::Exception 1.302198
# Test2::Event::Fail 1.302198
# Test2::Event::Note 1.302198
# Test2::Event::Ok 1.302198
# Test2::Event::Pass 1.302198
# Test2::Event::Plan 1.302198
# Test2::Event::Skip 1.302198
# Test2::Event::Subtest 1.302198
# Test2::Event::V2 1.302198
# Test2::Event::Waiting 1.302198
# Test2::EventFacet 1.302198
# Test2::EventFacet::About 1.302198
# Test2::EventFacet::Amnesty 1.302198
# Test2::EventFacet::Assert 1.302198
# Test2::EventFacet::Control 1.302198
# Test2::EventFacet::Error 1.302198
# Test2::EventFacet::Hub 1.302198
# Test2::EventFacet::Info 1.302198
# Test2::EventFacet::Meta 1.302198
# Test2::EventFacet::Parent 1.302198
# Test2::EventFacet::Plan 1.302198
# Test2::EventFacet::Trace 1.302198
# Test2::Formatter 1.302198
# Test2::Formatter::TAP 1.302198
# Test2::Hub 1.302198
# Test2::Hub::Interceptor 1.302198
# Test2::Hub::Interceptor::Terminator 1.302198
# Test2::Hub::Subtest 1.302198
# Test2::Util 1.302198
# Test2::Util::ExternalMeta 1.302198
# Test2::Util::Facets2Legacy 1.302198
# Test2::Util::HashBase 1.302198
# Test2::Util::Trace 1.302198
# Text::Tabs 2024.001
# Tie::Hash 1.06
# Time::HiRes 1.9777
# Types::Serialiser 1.01
# URI::Escape 5.28
# Unicode::Normalize 1.32
# XSLoader 0.32
# attributes 0.36
# base 2.27
# builtin 0.014
# bytes 1.09
# common::sense 3.75
# constant 1.33
# experimental 0.031
# feature 1.86
# if 0.0610
# integer 1.01
# locale 1.11
# mro 1.29
# overload 1.37
# overloading 0.02
# parent 0.241
# re 0.47
# strict 1.13
# utf8 1.25
# vars 1.05
# version 0.9930
# version::regex 0.9930
# warnings 1.68
# warnings::register 1.06
t/00-load.t ........ ok
Use of uninitialized value in concatenation (.) or string at template line 3.
t/01-regression.t .. ok
t/02-http-form.t ... ok
All tests successful.
Files=3, Tests=79,  3 wallclock secs ( 0.03 usr  0.01 sys +  1.90 cusr  0.27 csys =  2.21 CPU)
Result: PASS

------------------------------
PREREQUISITES
------------------------------

Prerequisite modules loaded:

requires:

    Module              Need  Have    
    ------------------- ----- --------
    Carp                0     1.54    
    experimental        0     0.031   
    Exporter            5     5.78    
    File::Basename      0     2.86    
    File::Path          0     2.18    
    Getopt::Long        0     2.57    
    HTTP::Request::Diff 0     0.07    
    JSON::Pointer       0     0.07    
    Mojo::File          0     0       
    Mojo::Template      0     0       
    Mojolicious         0     9.36    
    Moo                 2     2.005005
    OpenAPI::Modern     0     0.061   
    perl                5.020 5.039010
    Perl::Tidy          0     20240202
    warnings            0     1.68    
    YAML::PP            0     v0.38.0 

build_requires:

    Module              Need  Have    
    ------------------- ----- --------
    ExtUtils::MakeMaker 0     7.70    
  ! Future::Mojo        1.03  1.003   
    Future::Queue       0     0.52    
    HTTP::Request::Diff 0     0.07    
    Mojolicious         1.03  9.36    
    Test2::V0           0     0.000159

configure_requires:

    Module              Need  Have    
    ------------------- ----- --------
    ExtUtils::MakeMaker 0     7.70    


------------------------------
ENVIRONMENT AND OTHER CONTEXT
------------------------------

Environment variables:

    AUTOMATED_TESTING = 1
    DATE_MANIP_TEST_DM5 = 1
    LANG = en_US.UTF-8
    LC_ALL = C
    NONINTERACTIVE_TESTING = 1
    NO_NETWORK_TESTING = 1
    PATH = /export/home/cpan/bin/perl/bin:/usr/bin:/usr/sbin:/sbin:/opt/ooce/bin:/usr/gnu/bin
    PERL5LIB = 
    PERL5OPT = 
    PERL5_CPANPLUS_IS_RUNNING = 6786
    PERL5_CPAN_IS_RUNNING = 6786
    PERL_MM_USE_DEFAULT = 1
    PERL_USE_UNSAFE_INC = 1
    SHELL = /bin/bash
    TERM = screen

Perl special variables (and OS-specific diagnostics, for MSWin32):

    $^X = /export/home/cpan/bin/perl/bin/perl5.39.10
    $UID/$EUID = 101 / 101
    $GID = 1 1
    $EGID = 1 1

Perl module toolchain versions installed:

    Module              Have    
    ------------------- --------
    CPAN                2.36    
    CPAN::Meta          2.150010
    Cwd                 3.90    
    ExtUtils::CBuilder  0.280240
    ExtUtils::Command   7.70    
    ExtUtils::Install   2.22    
    ExtUtils::MakeMaker 7.70    
    ExtUtils::Manifest  1.75    
    ExtUtils::ParseXS   3.51    
    File::Spec          3.90    
    JSON                4.10    
    JSON::PP            4.16    
    Module::Build       0.4234  
    Module::Signature   n/a     
    Parse::CPAN::Meta   2.150010
    Test2               1.302198
    Test::Harness       3.48    
    Test::More          1.302198
    YAML                1.31    
    YAML::Syck          1.34    
    version             0.9930  


--

Summary of my perl5 (revision 5 version 39 subversion 10) configuration:
  Commit id: bcd28b1883bd29813e3d8a6c8e2330f87b91cbcc
  Platform:
    osname=solaris
    osvers=2.11
    archname=i86pc-solaris-thread-multi-64
    uname='sunos cjg-omniosce 5.11 omnios-r151048-f0898315c59 i86pc i386 i86pc '
    config_args='-des -Dprefix=/export/home/cpan/bin/perl -Dscriptdir=/export/home/cpan/bin/perl/bin -Dusedevel -Duse64bitall -Dcc=gcc -Duseithreads'
    hint=recommended
    useposix=true
    d_sigaction=define
    useithreads=define
    usemultiplicity=define
    use64bitint=define
    use64bitall=define
    uselongdouble=undef
    usemymalloc=n
    default_inc_excludes_dot=define
  Compiler:
    cc='gcc'
    ccflags ='-D_REENTRANT -m64 -fwrapv -fno-strict-aliasing -pipe -fstack-protector-strong -D_LARGEFILE_SOURCE -D_FILE_OFFSET_BITS=64 -D_FORTIFY_SOURCE=2'
    optimize='-O'
    cppflags='-D_REENTRANT -m64 -fwrapv -fno-strict-aliasing -pipe -fstack-protector-strong'
    ccversion=''
    gccversion='13.2.0'
    gccosandvers=''
    intsize=4
    longsize=8
    ptrsize=8
    doublesize=8
    byteorder=12345678
    doublekind=3
    d_longlong=define
    longlongsize=8
    d_longdbl=define
    longdblsize=16
    longdblkind=3
    ivtype='long'
    ivsize=8
    nvtype='double'
    nvsize=8
    Off_t='off_t'
    lseeksize=8
    alignbytes=8
    prototype=define
  Linker and Libraries:
    ld='gcc'
    ldflags =' -m64 -fstack-protector-strong -L/usr/gnu/lib '
    libpth=/opt/gcc-13/lib /usr/lib /usr/gnu/lib /usr/ccs/lib
    libs=-lpthread -lsocket -lnsl -ldl -lm -lc
    perllibs=-lpthread -lsocket -lnsl -ldl -lm -lc
    libc=/lib/libc.so
    so=so
    useshrplib=true
    libperl=libperl.so
    gnulibc_version=''
  Dynamic Linking:
    dlsrc=dl_dlopen.xs
    dlext=so
    d_dlsymun=undef
    ccdlflags='  -R /export/home/cpan/bin/perl/lib/5.39.10/i86pc-solaris-thread-multi-64/CORE'
    cccdlflags='-fPIC'
    lddlflags=' -shared -m64 -L/usr/gnu/lib -fstack-protector-strong'


Characteristics of this binary (from libperl): 
  Compile-time options:
    HAS_LONG_DOUBLE
    HAS_STRTOLD
    HAS_TIMES
    MULTIPLICITY
    PERLIO_LAYERS
    PERL_COPY_ON_WRITE
    PERL_DONT_CREATE_GVSV
    PERL_HASH_FUNC_SIPHASH13
    PERL_HASH_USE_SBOX32
    PERL_MALLOC_WRAP
    PERL_OP_PARENT
    PERL_PRESERVE_IVUV
    PERL_USE_DEVEL
    PERL_USE_SAFE_PUTENV
    USE_64_BIT_ALL
    USE_64_BIT_INT
    USE_ITHREADS
    USE_LARGE_FILES
    USE_LOCALE
    USE_LOCALE_COLLATE
    USE_LOCALE_CTYPE
    USE_LOCALE_NUMERIC
    USE_LOCALE_TIME
    USE_PERLIO
    USE_PERL_ATOF
    USE_REENTRANT_API
    USE_THREAD_SAFE_LOCALE
  Built under solaris
  Compiled at Apr  3 2024 13:21:16
  %ENV:
    PERL5LIB=""
    PERL5OPT=""
    PERL5_CPANPLUS_IS_RUNNING="6786"
    PERL5_CPAN_IS_RUNNING="6786"
    PERL_MM_USE_DEFAULT="1"
    PERL_USE_UNSAFE_INC="1"
  @INC:
    /export/home/cpan/bin/perl/lib/site_perl/5.39.10/i86pc-solaris-thread-multi-64
    /export/home/cpan/bin/perl/lib/site_perl/5.39.10
    /export/home/cpan/bin/perl/lib/5.39.10/i86pc-solaris-thread-multi-64
    /export/home/cpan/bin/perl/lib/5.39.10
    .