Starman v0.4017 Perl 5 v5.39.10 x86_64-linux-quadmath
- Status
- Pass
- From
- Andreas J. König (ANDK)
- Dist
-
Starman v0.4017
- Platform
- Perl 5 v5.39.10 x86_64-linux-quadmath
- Date
- 2024-06-29 13:56:40
- ID
- 69324e48-361f-11ef-9703-49816eeee4ec
This distribution has been tested as part of the CPAN Testers
project, supporting the Perl programming language. See
http://wiki.cpantesters.org/ for more information or email
questions to cpan-testers-discuss@perl.org
--
Dear Tatsuhiko Miyagawa,
This is a computer-generated report for Starman-0.4017
on perl 5.39.10, created by CPAN-Reporter-1.2019.
Thank you for uploading your work to CPAN. Congratulations!
All tests were successful.
Sections of this report:
* Tester comments
* Program output
* Prerequisites
* Environment and other context
------------------------------
TESTER COMMENTS
------------------------------
Additional comments from tester:
this report is from an automated smoke testing program
and was not reviewed by a human for accuracy
------------------------------
PROGRAM OUTPUT
------------------------------
Output from './Build test':
t/00_compile.t ........... ok
t/author-pod-syntax.t .... skipped: these tests are for testing by the author
2024/06/29-15:56:24 Starman::Server (type Net::Server::PreFork) starting! pid(214465)
Binding to TCP port 38683 on host 127.0.0.1 with IPv4
Setting gid to "1005 1005 1005"
2024/06/29-15:56:24 Server closing!
t/chunked_req.t .......... ok
t/chunked_termination.t .. ok
2024/06/29-15:56:25 Starman::Server (type Net::Server::PreFork) starting! pid(214473)
Binding to TCP port 36959 on host 127.0.0.1 with IPv4
Setting gid to "1005 1005 1005"
2024/06/29-15:56:25 Server closing!
t/chunked_zero_length.t .. ok
2024/06/29-15:56:25 Starman::Server (type Net::Server::PreFork) starting! pid(214480)
Binding to TCP port 44603 on host 127.0.0.1 with IPv4
Setting gid to "1005 1005 1005"
2024/06/29-15:56:25 Server closing!
t/early-hints.t .......... ok
2024/06/29-15:56:25 Starman::Server (type Net::Server::PreFork) starting! pid(214487)
Binding to TCP port 34567 on host 127.0.0.1 with IPv4
Setting gid to "1005 1005 1005"
2024/06/29-15:56:26 Server closing!
t/eintr.t ................ ok
2024/06/29-15:56:27 Starman::Server (type Net::Server::PreFork) starting! pid(214497)
Binding to TCP port 40185 on host 127.0.0.1 with IPv4
Setting gid to "1005 1005 1005"
2024/06/29-15:56:27 Server closing!
t/expect.t ............... ok
2024/06/29-15:56:27 Starman::Server (type Net::Server::PreFork) starting! pid(214504)
Binding to TCP port 40057 on host 127.0.0.1 with IPv4
Setting gid to "1005 1005 1005"
2024/06/29-15:56:27 Server closing!
2024/06/29-15:56:27 Starman::Server (type Net::Server::PreFork) starting! pid(214510)
Binding to TCP port 43163 on host 127.0.0.1 with IPv4
Setting gid to "1005 1005 1005"
2024/06/29-15:56:27 Server closing!
t/harakiri.t ............. ok
2024/06/29-15:56:27 Starman::Server (type Net::Server::PreFork) starting! pid(214536)
Binding to TCP port 42815 on host 127.0.0.1 with IPv4
Setting gid to "1005 1005 1005"
2024/06/29-15:56:27 Server closing!
t/lf_only_request.t ...... ok
2024/06/29-15:56:28 Starman::Server (type Net::Server::PreFork) starting! pid(214543)
Binding to TCP port 37679 on host 127.0.0.1 with IPv4
Setting gid to "1005 1005 1005"
2024/06/29-15:56:28 Server closing!
t/no_chunked_head.t ...... ok
t/release-findbin.t ...... skipped: these tests are for release candidate testing
t/release-rand.t ......... skipped: these tests are for release candidate testing
2024/06/29-15:56:28 Starman::Server (type Net::Server::PreFork) starting! pid(214552)
Binding to TCP port 36865 on host 127.0.0.1 with IPv4
Setting gid to "1005 1005 1005"
2024/06/29-15:56:28 Server closing!
t/single_zero.t .......... ok
2024/06/29-15:56:29 Starman::Server (type Net::Server::PreFork) starting! pid(214559)
Resolved [localhost]:45317 to [127.0.0.1]:45317, IPv4
Resolved [localhost]:45317 to [127.0.0.1]:45317, IPv4
Duplicate configuration (SSL) on [127.0.0.1]:45317 with IPv4) - skipping
Binding to SSL port 45317 on host 127.0.0.1 with IPv4
Setting gid to "1005 1005 1005"
Could not finalize SSL connection with client handle (SSL accept attempt failed error:0A000126:SSL routines::unexpected eof while reading)
2024/06/29-15:56:29 Server closing!
t/ssl.t .................. ok
2024/06/29-15:56:29 Starman::Server (type Net::Server::PreFork) starting! pid(214567)
Resolved [localhost]:43719 to [127.0.0.1]:43719, IPv4
Resolved [localhost]:43719 to [127.0.0.1]:43719, IPv4
Duplicate configuration (SSL) on [127.0.0.1]:43719 with IPv4) - skipping
Binding to SSL port 43719 on host 127.0.0.1 with IPv4
Setting gid to "1005 1005 1005"
Could not finalize SSL connection with client handle (SSL accept attempt failed error:0A000126:SSL routines::unexpected eof while reading)
2024/06/29-15:56:29 Server closing!
t/ssl_largebody.t ........ ok
2024/06/29-15:56:30 Starman::Server (type Net::Server::PreFork) starting! pid(214575)
Binding to TCP port 40957 on host 127.0.0.1 with IPv4
Setting gid to "1005 1005 1005"
2024/06/29-15:56:30 Server closing!
t/suite.t ................ ok
All tests successful.
Files=17, Tests=125, 7 wallclock secs ( 0.06 usr 0.04 sys + 2.74 cusr 0.90 csys = 3.74 CPU)
Result: PASS
------------------------------
PREREQUISITES
------------------------------
Prerequisite modules loaded:
requires:
Module Need Have
------------------- -------- --------
Data::Dump 0 1.25
HTTP::Date 0 6.06
HTTP::Parser::XS 0 0.17
HTTP::Status 0 6.46
Net::Server 2.007 2.014
parent 0 0.241
perl 5.008001 5.039010
Plack 0.9971 1.0051
Test::TCP 2.00 2.22
build_requires:
Module Need Have
------------------- -------- --------
LWP::UserAgent 0 6.77
Test::More 0 1.302199
Test::Requires 0 0.11
configure_requires:
Module Need Have
------------------- -------- --------
Module::Build::Tiny 0.034 0.048
------------------------------
ENVIRONMENT AND OTHER CONTEXT
------------------------------
Environment variables:
AUTOMATED_TESTING = 1
LANG = en_US.UTF-8
LANGUAGE = en_US:en
PATH = /home/sand/bin:/usr/local/bin:/usr/bin:/bin:/usr/games:/usr/local/perl/bin:/usr/X11/bin:/sbin:/usr/sbin
PERL5LIB =
PERL5OPT =
PERL5_CPANPLUS_IS_RUNNING = 213394
PERL5_CPAN_IS_RUNNING = 213394
PERL_CANARY_STABILITY_NOPROMPT = 1
PERL_MM_USE_DEFAULT = 1
PERL_USE_UNSAFE_INC = 1
SHELL = /usr/bin/zsh
TERM = screen
Perl special variables (and OS-specific diagnostics, for MSWin32):
$^X = /home/sand/src/perl/repoperls/installed-perls/host/k93msid/v5.39.10/ec94/bin/perl
$UID/$EUID = 1005 / 1005
$GID = 1005 1005
$EGID = 1005 1005
Perl module toolchain versions installed:
Module Have
------------------- --------
CPAN 2.36
CPAN::Meta 2.150010
Cwd 3.90
ExtUtils::CBuilder 0.280240
ExtUtils::Command 7.70
ExtUtils::Install 2.22
ExtUtils::MakeMaker 7.70
ExtUtils::Manifest 1.75
ExtUtils::ParseXS 3.51
File::Spec 3.90
JSON 4.10
JSON::PP 4.16
Module::Build 0.4234
Module::Signature 0.88
Parse::CPAN::Meta 2.150010
Test2 1.302199
Test::Harness 3.48
Test::More 1.302199
YAML 1.31
YAML::Syck 1.34
version 0.9932
--
Summary of my perl5 (revision 5 version 39 subversion 10) configuration:
Commit id: c46c2bea6f111c45982b89c7e57b56125ff2e10c
Platform:
osname=linux
osvers=6.7.9-amd64
archname=x86_64-linux-quadmath
uname='linux k93msid 6.7.9-amd64 #1 smp preempt_dynamic debian 6.7.9-2 (2024-03-13) x86_64 gnulinux '
config_args='-Dprefix=/home/sand/src/perl/repoperls/installed-perls/host/k93msid/v5.39.10/ec94 -Dmyhostname=k93msid -Dinstallusrbinperl=n -Uversiononly -Dusedevel -des -Ui_db -Dlibswanted=cl pthread socket inet nsl gdbm dbm malloc dl ld sun m crypt sec util c cposix posix ucb BSD gdbm_compat -Uuseithreads -Uuselongdouble -DEBUGGING=both -Dusequadmath'
hint=recommended
useposix=true
d_sigaction=define
useithreads=undef
usemultiplicity=undef
use64bitint=define
use64bitall=define
uselongdouble=undef
usemymalloc=n
default_inc_excludes_dot=define
Compiler:
cc='cc'
ccflags ='-fwrapv -DDEBUGGING -fno-strict-aliasing -pipe -fstack-protector-strong -I/usr/local/include -D_LARGEFILE_SOURCE -D_FILE_OFFSET_BITS=64 -D_FORTIFY_SOURCE=2'
optimize='-O2 -g'
cppflags='-fwrapv -DDEBUGGING -fno-strict-aliasing -pipe -fstack-protector-strong -I/usr/local/include'
ccversion=''
gccversion='13.2.0'
gccosandvers=''
intsize=4
longsize=8
ptrsize=8
doublesize=8
byteorder=12345678
doublekind=3
d_longlong=define
longlongsize=8
d_longdbl=define
longdblsize=16
longdblkind=3
ivtype='long'
ivsize=8
nvtype='__float128'
nvsize=16
Off_t='off_t'
lseeksize=8
alignbytes=16
prototype=define
Linker and Libraries:
ld='cc'
ldflags =' -fstack-protector-strong -L/usr/local/lib'
libpth=/usr/local/lib /usr/lib/x86_64-linux-gnu /usr/lib /usr/lib64
libs=-lpthread -ldl -lm -lcrypt -lutil -lc -lquadmath
perllibs=-lpthread -ldl -lm -lcrypt -lutil -lc -lquadmath
libc=/lib/x86_64-linux-gnu/libc.so.6
so=so
useshrplib=false
libperl=libperl.a
gnulibc_version='2.37'
Dynamic Linking:
dlsrc=dl_dlopen.xs
dlext=so
d_dlsymun=undef
ccdlflags='-Wl,-E'
cccdlflags='-fPIC'
lddlflags='-shared -O2 -g -L/usr/local/lib -fstack-protector-strong'
Characteristics of this binary (from libperl):
Compile-time options:
DEBUGGING
HAS_LONG_DOUBLE
HAS_STRTOLD
HAS_TIMES
PERLIO_LAYERS
PERL_COPY_ON_WRITE
PERL_DONT_CREATE_GVSV
PERL_HASH_FUNC_SIPHASH13
PERL_HASH_USE_SBOX32
PERL_MALLOC_WRAP
PERL_OP_PARENT
PERL_PRESERVE_IVUV
PERL_USE_DEVEL
PERL_USE_SAFE_PUTENV
USE_64_BIT_ALL
USE_64_BIT_INT
USE_LARGE_FILES
USE_LOCALE
USE_LOCALE_COLLATE
USE_LOCALE_CTYPE
USE_LOCALE_NUMERIC
USE_LOCALE_TIME
USE_PERLIO
USE_PERL_ATOF
USE_QUADMATH
Built under linux
Compiled at May 1 2024 11:55:33
%ENV:
PERL5LIB=""
PERL5OPT=""
PERL5_CPANPLUS_IS_RUNNING="213394"
PERL5_CPAN_IS_RUNNING="213394"
PERL_CANARY_STABILITY_NOPROMPT="1"
PERL_MM_USE_DEFAULT="1"
PERL_USE_UNSAFE_INC="1"
@INC:
/home/sand/src/perl/repoperls/installed-perls/host/k93msid/v5.39.10/ec94/lib/site_perl/5.39.10/x86_64-linux-quadmath
/home/sand/src/perl/repoperls/installed-perls/host/k93msid/v5.39.10/ec94/lib/site_perl/5.39.10
/home/sand/src/perl/repoperls/installed-perls/host/k93msid/v5.39.10/ec94/lib/5.39.10/x86_64-linux-quadmath
/home/sand/src/perl/repoperls/installed-perls/host/k93msid/v5.39.10/ec94/lib/5.39.10
.