Crypt-OpenSSL-PKCS10 v0.29-TRIAL Perl 5 v5.22.0 i686-linux-thread-multi-ld

Status
Pass
From
Chris Williams (BINGOS)
Dist
Crypt-OpenSSL-PKCS10 v0.29-TRIAL
Platform
Perl 5 v5.22.0 i686-linux-thread-multi-ld
Date
2025-01-26 02:22:37
ID
69331a72-db8c-11ef-98b0-b3c3213a625c
This distribution has been tested as part of the CPAN Testers
project, supporting the Perl programming language.  See
http://wiki.cpantesters.org/ for more information or email
questions to cpan-testers-discuss@perl.org


--

Dear TIMLEGGE,

This is a computer-generated error report created automatically by
CPANPLUS, version 0.9914. Testers personal comments may appear
at the end of this report.


Thank you for uploading your work to CPAN.  Congratulations!
All tests were successful.

TEST RESULTS:

Below is the error stack from stage 'make test':

"/home/cpan/pit/thr-ld/perl-5.22.0/bin/perl" -MExtUtils::Command::MM -e 'cp_nonempty' -- PKCS10.bs blib/arch/auto/Crypt/OpenSSL/PKCS10/PKCS10.bs 644
PERL_DL_NONLAZY=1 "/home/cpan/pit/thr-ld/perl-5.22.0/bin/perl" "-MExtUtils::Command::MM" "-MTest::Harness" "-e" "undef *Test::Harness::Switches; test_harness(0, 'blib/lib', 'blib/arch')" t/*.t
# OpenSSL 3.0.11 19 Sep 2023 (Library: OpenSSL 3.0.11 19 Sep 2023)
t/00-openssl-version.t .. ok
t/10-rsa-keys.t ......... ok
t/20-ec.t ............... ok
t/30-ec-keys.t .......... ok
t/author-pod-spell.t .... skipped: these tests are for testing by the author
t/author-pod-syntax.t ... skipped: these tests are for testing by the author
-----BEGIN CERTIFICATE REQUEST-----
MIIBPzCBqQIBADAAMIGfMA0GCSqGSIb3DQEBAQUAA4GNADCBiQKBgQCzDKzyg1+O
jPUcTmtHbjJSeDqXB0UwPFt+z11rMCurY950RENJ+EDDGR9TraHwC5JH9HDw+IKf
S8bPqkPjuyQAC/Tao9ecc9lLiYPYD157YeD7kOi+ORodccz2da7aJyeC4Ukr4rhU
nwB9FHV1vOvoqHPoxj77hjqAefrVxBPRewIDAQABoAAwDQYJKoZIhvcNAQELBQAD
gYEAG16OooX7CqeMj0LCQKReBFHv2/MSkdb7sRdqgimPFMnIfnuLNGjGxpquROeZ
POLy+fotp6tN4YARW373IvG6b5uVnqI+BAJoDbk8CAwiaG9ucNe6Gvx3XsOSqPNN
7RHCjRNBVtm2nAoq6Lg1nQMd7RDARjwyk++ayTfENJfCHgo=
-----END CERTIFICATE REQUEST-----
-----BEGIN PRIVATE KEY-----
MIICdgIBADANBgkqhkiG9w0BAQEFAASCAmAwggJcAgEAAoGBALMMrPKDX46M9RxO
a0duMlJ4OpcHRTA8W37PXWswK6tj3nREQ0n4QMMZH1OtofALkkf0cPD4gp9Lxs+q
Q+O7JAAL9Nqj15xz2UuJg9gPXnth4PuQ6L45Gh1xzPZ1rtonJ4LhSSviuFSfAH0U
dXW86+ioc+jGPvuGOoB5+tXEE9F7AgMBAAECgYBsJzT0zHxVHDoW3huZKyxEepFR
lzeo2lyeLd4NGCzYu1utOWq37LgZ4Tv2DMTrveGfiz0JoeMtG9W8rOmTTwB/7/60
pWrUEkNUUum4NWcRCFuBpS1ebkC2zj41kZKmgXbwcu/+ay69JmkNgocpWzkHrU+m
Sv7WFH0XJoABuFDVMQJBANt4k39evLdLFuLd0lYT4lutAPPdA2KVJiQsMLhPhlvj
N96PWPzeoxEAmIYk5Mdvy7OQh84e8XKOTFRkJWxP4WMCQQDQ2ciCZ8d1rv6vKJRF
Ht3cOUgc/0pRkXJO1Kth8ZrqMB+r0Ou6pr1f/mFNd9Ol8pDJg3Ji9JG6aSbwGDDh
dxcJAkA9oM8yTgUKJ1DG5ekheLXwblU9JUvFDALI14vaxaIB/Xz7xx8C6vW5WYR6
7rM7eZ4mzygDblb4hxLSA8kqcAfnAkAfuWUmweLfcnSHYM+c7EJhKGZW2USNvV0y
skVSPGP+vM6ix7p3AMr1YOug29nPdFgf9BKVC3dzbHOYtuP965wZAkEAi0D8RpvY
0jvRTyHZb5Kr6PiC5cvAoo/CCGcrJeG7q3hKjSU7s9VFDSdV1ZgAiJwAhAPYbTQA
neDBaH2XROnalg==
-----END PRIVATE KEY-----


Public-Key: (1024 bit)
Modulus:
    00:b3:0c:ac:f2:83:5f:8e:8c:f5:1c:4e:6b:47:6e:
    32:52:78:3a:97:07:45:30:3c:5b:7e:cf:5d:6b:30:
    2b:ab:63:de:74:44:43:49:f8:40:c3:19:1f:53:ad:
    a1:f0:0b:92:47:f4:70:f0:f8:82:9f:4b:c6:cf:aa:
    43:e3:bb:24:00:0b:f4:da:a3:d7:9c:73:d9:4b:89:
    83:d8:0f:5e:7b:61:e0:fb:90:e8:be:39:1a:1d:71:
    cc:f6:75:ae:da:27:27:82:e1:49:2b:e2:b8:54:9f:
    00:7d:14:75:75:bc:eb:e8:a8:73:e8:c6:3e:fb:86:
    3a:80:79:fa:d5:c4:13:d1:7b
Exponent: 65537 (0x10001)

-----BEGIN CERTIFICATE REQUEST-----
MIIBPzCBqQIBADAAMIGfMA0GCSqGSIb3DQEBAQUAA4GNADCBiQKBgQChtk81fXBw
6oDeH7ocepnJ+KAGyBYNjSiR5W3uN8TFruGh/h5UvkfC+fYI6+xbbfbMrbQnpJR4
OR3j2dKCG+BMGYQTQCHHwCFxo19Gq6UEFGqxEwhkUGC5K23e8P5FxhG7/Q6gefmk
eP2NaicoaqTGniZRr2giSY3V6uMl8H7FFQIDAQABoAAwDQYJKoZIhvcNAQELBQAD
gYEAWluUpfxQwknCxHELG404tRfLWc++SmI6vYe09EQgaQOgopO3isUiZKSMQ/vl
gyLWCIS/gOvIRWvugnqRV0DSlDUVnuaHeFSnBMGzaMqyYusGY0KlminAP5dSKc5I
zNwjVGPJ5mu1+oH6g7rHwKZSoADZpYNajtvcWpDsBijM1Hs=
-----END CERTIFICATE REQUEST-----

Public-Key: (1024 bit)
Modulus:
    00:a1:b6:4f:35:7d:70:70:ea:80:de:1f:ba:1c:7a:
    99:c9:f8:a0:06:c8:16:0d:8d:28:91:e5:6d:ee:37:
    c4:c5:ae:e1:a1:fe:1e:54:be:47:c2:f9:f6:08:eb:
    ec:5b:6d:f6:cc:ad:b4:27:a4:94:78:39:1d:e3:d9:
    d2:82:1b:e0:4c:19:84:13:40:21:c7:c0:21:71:a3:
    5f:46:ab:a5:04:14:6a:b1:13:08:64:50:60:b9:2b:
    6d:de:f0:fe:45:c6:11:bb:fd:0e:a0:79:f9:a4:78:
    fd:8d:6a:27:28:6a:a4:c6:9e:26:51:af:68:22:49:
    8d:d5:ea:e3:25:f0:7e:c5:15
Exponent: 65537 (0x10001)

rsa
-----BEGIN PUBLIC KEY-----
MIGfMA0GCSqGSIb3DQEBAQUAA4GNADCBiQKBgQChtk81fXBw6oDeH7ocepnJ+KAG
yBYNjSiR5W3uN8TFruGh/h5UvkfC+fYI6+xbbfbMrbQnpJR4OR3j2dKCG+BMGYQT
QCHHwCFxo19Gq6UEFGqxEwhkUGC5K23e8P5FxhG7/Q6gefmkeP2NaicoaqTGniZR
r2giSY3V6uMl8H7FFQIDAQAB
-----END PUBLIC KEY-----

-----BEGIN CERTIFICATE REQUEST-----
MIIBPzCBqQIBADAAMIGfMA0GCSqGSIb3DQEBAQUAA4GNADCBiQKBgQDkN2iz37k0
ylJMYftWyN/eSVCHcyL6YipYRM1wZq1atCMw9UJl2WzVr7vmhO4+jEwEYsuuAqz2
Z/oJv6TmDc9VBEgFDKi7gSrnYhNOItqGl26J0Bx30eYBgXqZCnj/d0RX4dq5vie4
piCHpP8nlpfBybzB2lf9S5Sc2ZD3fRFEewIDAQABoAAwDQYJKoZIhvcNAQEMBQAD
gYEABlYdjN/MyUdM3cj2Wfj6bqQWnsXy2I56JaQVyd5n0RoCWRhPz4VAhJi2L8of
2qEDW4A18BF84jpMubMmQx10ncchzvvY/vxTutRJLXrnWnU/WCxNzvQp1llkOzdb
AtVfklzw+z39XU9lyg3Zlur+T6Z0ceHV5o4aKz2pebkoC0Q=
-----END CERTIFICATE REQUEST-----

Public-Key: (1024 bit)
Modulus:
    00:e4:37:68:b3:df:b9:34:ca:52:4c:61:fb:56:c8:
    df:de:49:50:87:73:22:fa:62:2a:58:44:cd:70:66:
    ad:5a:b4:23:30:f5:42:65:d9:6c:d5:af:bb:e6:84:
    ee:3e:8c:4c:04:62:cb:ae:02:ac:f6:67:fa:09:bf:
    a4:e6:0d:cf:55:04:48:05:0c:a8:bb:81:2a:e7:62:
    13:4e:22:da:86:97:6e:89:d0:1c:77:d1:e6:01:81:
    7a:99:0a:78:ff:77:44:57:e1:da:b9:be:27:b8:a6:
    20:87:a4:ff:27:96:97:c1:c9:bc:c1:da:57:fd:4b:
    94:9c:d9:90:f7:7d:11:44:7b
Exponent: 65537 (0x10001)

rsa
-----BEGIN PUBLIC KEY-----
MIGfMA0GCSqGSIb3DQEBAQUAA4GNADCBiQKBgQDkN2iz37k0ylJMYftWyN/eSVCH
cyL6YipYRM1wZq1atCMw9UJl2WzVr7vmhO4+jEwEYsuuAqz2Z/oJv6TmDc9VBEgF
DKi7gSrnYhNOItqGl26J0Bx30eYBgXqZCnj/d0RX4dq5vie4piCHpP8nlpfBybzB
2lf9S5Sc2ZD3fRFEewIDAQAB
-----END PUBLIC KEY-----

-----BEGIN CERTIFICATE REQUEST-----
MIICJzCCAZACAQAwKTELMAkGA1UEBhMCUk8xDDAKBgNVBAoMA1VUSTEMMAoGA1UE
CwwDc3NpMIGfMA0GCSqGSIb3DQEBAQUAA4GNADCBiQKBgQDEs4wKVoUAj3fH2MsN
0P1lxVno3R2xlMVD4PLTBiu+K0SzV5cpLaUWpOqOc3wSFcThpvJk9qXC6Jru185G
WzJRiCxyT9eMDHL6lO+73odn1E3dSgArnoGTrp4aV6lIo+GjwdzfbIQxuMS56FKA
FJ9/8z411kFlKkv1MamlGAI2IwIDAQABoIG9MIG6BgkqhkiG9w0BCQ4xgawwgakw
DgYDVR0PAQH/BAQDAgWgMC4GA1UdJQQnMCUGCCsGAQUFBwMBBglghkgBhvhCBAEG
CisGAQQBgjcKAwMGAisEMBwGA1UdEQQVMBOBEXN0ZXZlQG9wZW5zc2wub3JnMB0G
A1UdDgQWBBTSrzmYtvoyF6rulqhgSIu6HeRaTzAZBgMqAwMEEhYQTXkgbmV3IGV4
dGVuc2lvbjAPBgMqAwQECB4GAGEAYgBjMA0GCSqGSIb3DQEBCwUAA4GBAE+ukx7L
WMpcFXYPPHuJp0xYySqIhvhMAxnt3YJgeh7+ekVFlZMYXABetmQhWQ8Af98WErNf
Zc0r/+7ZEm1OyV6mpug10kJMjWsdpTfwfzBathVAS73oPdAXShTtpEZoMlSl0X4j
ssAov/fDOl1F3CBNaBR0s/Qb/gb4w70TwQIF
-----END CERTIFICATE REQUEST-----
Public-Key: (1024 bit)
Modulus:
    00:c4:b3:8c:0a:56:85:00:8f:77:c7:d8:cb:0d:d0:
    fd:65:c5:59:e8:dd:1d:b1:94:c5:43:e0:f2:d3:06:
    2b:be:2b:44:b3:57:97:29:2d:a5:16:a4:ea:8e:73:
    7c:12:15:c4:e1:a6:f2:64:f6:a5:c2:e8:9a:ee:d7:
    ce:46:5b:32:51:88:2c:72:4f:d7:8c:0c:72:fa:94:
    ef:bb:de:87:67:d4:4d:dd:4a:00:2b:9e:81:93:ae:
    9e:1a:57:a9:48:a3:e1:a3:c1:dc:df:6c:84:31:b8:
    c4:b9:e8:52:80:14:9f:7f:f3:3e:35:d6:41:65:2a:
    4b:f5:31:a9:a5:18:02:36:23
Exponent: 65537 (0x10001)

-----BEGIN PUBLIC KEY-----
MIGfMA0GCSqGSIb3DQEBAQUAA4GNADCBiQKBgQDEs4wKVoUAj3fH2MsN0P1lxVno
3R2xlMVD4PLTBiu+K0SzV5cpLaUWpOqOc3wSFcThpvJk9qXC6Jru185GWzJRiCxy
T9eMDHL6lO+73odn1E3dSgArnoGTrp4aV6lIo+GjwdzfbIQxuMS56FKAFJ9/8z41
1kFlKkv1MamlGAI2IwIDAQAB
-----END PUBLIC KEY-----

t/Mytest.t .............. ok
t/release-kwalitee.t .... skipped: these tests are for release candidate testing
t/release-meta-json.t ... skipped: these tests are for release candidate testing
All tests successful.
Files=9, Tests=720, 51 wallclock secs ( 0.10 usr  0.02 sys + 49.64 cusr  1.18 csys = 50.94 CPU)
Result: PASS


PREREQUISITES:

Here is a list of prerequisites you specified and versions we
managed to load:

	  Module Name                        Have     Want
	  Crypt::OpenSSL::Guess              0.15     0.11
	  Crypt::OpenSSL::RSA                0.33        0
	  Exporter                           5.72        0
	  File::Slurper                     0.014        0
	  File::Spec::Functions              3.75        0
	  File::Temp                       0.2311        0
	  Import::Into                   1.002005        0
	  Test::Lib                         0.003        0
	  Test::More                     1.302199        0
	  XSLoader                           0.20        0

Perl module toolchain versions installed:
	Module Name                        Have
	CPANPLUS                         0.9914
	CPANPLUS::Dist::Build              0.90
	Cwd                                3.75
	ExtUtils::CBuilder             0.280236
	ExtUtils::Command                  7.70
	ExtUtils::Install                  2.22
	ExtUtils::MakeMaker                7.70
	ExtUtils::Manifest                 1.75
	ExtUtils::ParseXS                  3.51
	File::Spec                         3.75
	Module::Build                    0.4234
	Pod::Parser                        1.63
	Pod::Simple                        3.29
	Test2                          1.302199
	Test::Harness                      3.48
	Test::More                     1.302199
	version                          0.9932

******************************** NOTE ********************************
The comments above are created mechanically, possibly without manual
checking by the sender.  As there are many people performing automatic
tests on each upload to CPAN, it is likely that you will receive
identical messages about the same problem.

If you believe that the message is mistaken, please reply to the first
one with correction and/or additional informations, and do not take
it personally.  We appreciate your patience. :)
**********************************************************************

Additional comments:


This report was machine-generated by CPANPLUS::Dist::YACSmoke 1.08.
Powered by minismokebox version 0.68

CPANPLUS is prefering Build.PL

------------------------------
ENVIRONMENT AND OTHER CONTEXT
------------------------------

Environment variables:

    AUTOMATED_TESTING = 1
    LANG = en_GB.UTF-8
    LANGUAGE = en_GB:en
    NONINTERACTIVE_TESTING = 1
    PATH = /usr/local/bin:/usr/bin:/bin:/usr/local/games:/usr/games
    PERL5LIB = /home/cpan/pit/jail/6nHs0p4NEf/lib/perl5:/home/cpan/pit/thr-ld/conf/perl-5.22.0/.cpanplus/5.22.0/build/eA7pNxTcqN/Crypt-OpenSSL-PKCS10-0.29/blib/lib:/home/cpan/pit/thr-ld/conf/perl-5.22.0/.cpanplus/5.22.0/build/eA7pNxTcqN/Crypt-OpenSSL-PKCS10-0.29/blib/arch
    PERL5_CPANPLUS_IS_RUNNING = 10147
    PERL5_CPANPLUS_IS_VERSION = 0.9914
    PERL5_MINISMOKEBOX = 0.68
    PERL5_YACSMOKE_BASE = /home/cpan/pit/thr-ld/conf/perl-5.22.0
    PERL_EXTUTILS_AUTOINSTALL = --defaultdeps
    PERL_LOCAL_LIB_ROOT = /home/cpan/pit/jail/6nHs0p4NEf
    PERL_MB_OPT = --install_base "/home/cpan/pit/jail/6nHs0p4NEf"
    PERL_MM_OPT = INSTALL_BASE=/home/cpan/pit/jail/6nHs0p4NEf
    PERL_MM_USE_DEFAULT = 1
    SHELL = /bin/bash
    TERM = screen.xterm-256color

Perl special variables (and OS-specific diagnostics, for MSWin32):

    Perl: $^X = /home/cpan/pit/thr-ld/perl-5.22.0/bin/perl
    UID:  $<  = 1001
    EUID: $>  = 1001
    GID:  $(  = 1001 1001
    EGID: $)  = 1001 1001


-------------------------------


--

Summary of my perl5 (revision 5 version 22 subversion 0) configuration:
   
  Platform:
    osname=linux, osvers=5.10.0-12-686, archname=i686-linux-thread-multi-ld
    uname='linux dagobah 5.10.0-12-686 #1 smp debian 5.10.103-1 (2022-03-07) i686 gnulinux '
    config_args='-des -Dprefix=/home/cpan/pit/thr-ld/perl-5.22.0 -Dusethreads -Duselongdouble'
    hint=recommended, useposix=true, d_sigaction=define
    useithreads=define, usemultiplicity=define
    use64bitint=undef, use64bitall=undef, uselongdouble=define
    usemymalloc=n, bincompat5005=undef
  Compiler:
    cc='cc', ccflags ='-D_REENTRANT -D_GNU_SOURCE -fwrapv -fno-strict-aliasing -pipe -fstack-protector-strong -I/usr/local/include -D_LARGEFILE_SOURCE -D_FILE_OFFSET_BITS=64 -D_FORTIFY_SOURCE=2',
    optimize='-O2',
    cppflags='-D_REENTRANT -D_GNU_SOURCE -fwrapv -fno-strict-aliasing -pipe -fstack-protector-strong -I/usr/local/include'
    ccversion='', gccversion='10.2.1 20210110', gccosandvers=''
    intsize=4, longsize=4, ptrsize=4, doublesize=8, byteorder=1234, doublekind=3
    d_longlong=define, longlongsize=8, d_longdbl=define, longdblsize=12, longdblkind=3
    ivtype='long', ivsize=4, nvtype='long double', nvsize=12, Off_t='off_t', lseeksize=8
    alignbytes=4, prototype=define
  Linker and Libraries:
    ld='cc', ldflags =' -fstack-protector-strong -L/usr/local/lib'
    libpth=/usr/local/lib /usr/include/i386-linux-gnu /usr/lib /lib/i386-linux-gnu /lib/../lib /usr/lib/i386-linux-gnu /usr/lib/../lib /lib /lib64 /usr/lib64
    libs=-lpthread -lnsl -lgdbm -ldl -lm -lcrypt -lutil -lc
    perllibs=-lpthread -lnsl -ldl -lm -lcrypt -lutil -lc
    libc=libc-2.31.so, so=so, useshrplib=false, libperl=libperl.a
    gnulibc_version='2.31'
  Dynamic Linking:
    dlsrc=dl_dlopen.xs, dlext=so, d_dlsymun=undef, ccdlflags='-Wl,-E'
    cccdlflags='-fPIC', lddlflags='-shared -O2 -L/usr/local/lib -fstack-protector-strong'


Characteristics of this binary (from libperl): 
  Compile-time options: HAS_TIMES MULTIPLICITY PERLIO_LAYERS
                        PERL_DONT_CREATE_GVSV
                        PERL_HASH_FUNC_ONE_AT_A_TIME_HARD
                        PERL_IMPLICIT_CONTEXT PERL_MALLOC_WRAP
                        PERL_NEW_COPY_ON_WRITE PERL_PRESERVE_IVUV
                        USE_ITHREADS USE_LARGE_FILES USE_LOCALE
                        USE_LOCALE_COLLATE USE_LOCALE_CTYPE
                        USE_LOCALE_NUMERIC USE_LOCALE_TIME USE_LONG_DOUBLE
                        USE_PERLIO USE_PERL_ATOF USE_REENTRANT_API
  Locally applied patches:
	Devel::PatchPerl 2.08
  Built under linux
  Compiled at Mar 19 2022 14:46:26
  %ENV:
    PERL5LIB="/home/cpan/pit/jail/6nHs0p4NEf/lib/perl5:/home/cpan/pit/thr-ld/conf/perl-5.22.0/.cpanplus/5.22.0/build/eA7pNxTcqN/Crypt-OpenSSL-PKCS10-0.29/blib/lib:/home/cpan/pit/thr-ld/conf/perl-5.22.0/.cpanplus/5.22.0/build/eA7pNxTcqN/Crypt-OpenSSL-PKCS10-0.29/blib/arch"
    PERL5_CPANPLUS_IS_RUNNING="10147"
    PERL5_CPANPLUS_IS_VERSION="0.9914"
    PERL5_MINISMOKEBOX="0.68"
    PERL5_YACSMOKE_BASE="/home/cpan/pit/thr-ld/conf/perl-5.22.0"
    PERL_EXTUTILS_AUTOINSTALL="--defaultdeps"
    PERL_LOCAL_LIB_ROOT="/home/cpan/pit/jail/6nHs0p4NEf"
    PERL_MB_OPT="--install_base "/home/cpan/pit/jail/6nHs0p4NEf""
    PERL_MM_OPT="INSTALL_BASE=/home/cpan/pit/jail/6nHs0p4NEf"
    PERL_MM_USE_DEFAULT="1"
  @INC:
    /home/cpan/pit/jail/6nHs0p4NEf/lib/perl5/5.22.0/i686-linux-thread-multi-ld
    /home/cpan/pit/jail/6nHs0p4NEf/lib/perl5/5.22.0
    /home/cpan/pit/jail/6nHs0p4NEf/lib/perl5/i686-linux-thread-multi-ld
    /home/cpan/pit/jail/6nHs0p4NEf/lib/perl5
    /home/cpan/pit/thr-ld/conf/perl-5.22.0/.cpanplus/5.22.0/build/eA7pNxTcqN/Crypt-OpenSSL-PKCS10-0.29/blib/lib
    /home/cpan/pit/thr-ld/conf/perl-5.22.0/.cpanplus/5.22.0/build/eA7pNxTcqN/Crypt-OpenSSL-PKCS10-0.29/blib/arch
    /home/cpan/pit/thr-ld/perl-5.22.0/lib/site_perl/5.22.0/i686-linux-thread-multi-ld
    /home/cpan/pit/thr-ld/perl-5.22.0/lib/site_perl/5.22.0
    /home/cpan/pit/thr-ld/perl-5.22.0/lib/5.22.0/i686-linux-thread-multi-ld
    /home/cpan/pit/thr-ld/perl-5.22.0/lib/5.22.0
    .