Math-Prime-Util v0.73 Perl 5 v5.33.3 i86pc-solaris-64

Status
Pass
From
Carlos Guevara
Dist
Math-Prime-Util v0.73
Platform
Perl 5 v5.33.3 i86pc-solaris-64
Date
2020-10-21 01:19:05
ID
69388fde-133b-11eb-a0b1-bd3d291158cc
This distribution has been tested as part of the CPAN Testers
project, supporting the Perl programming language.  See
http://wiki.cpantesters.org/ for more information or email
questions to cpan-testers-discuss@perl.org


--
Dear Dana Jacobsen,

This is a computer-generated report for Math-Prime-Util-0.73
on perl 5.33.3, created by CPAN-Reporter-1.2018.

Thank you for uploading your work to CPAN.  Congratulations!
All tests were successful.

Sections of this report:

    * Tester comments
    * Program output
    * Prerequisites
    * Environment and other context

------------------------------
TESTER COMMENTS
------------------------------

Additional comments from tester:

this report is from an automated smoke testing program
and was not reviewed by a human for accuracy

------------------------------
PROGRAM OUTPUT
------------------------------

Output from '/usr/bin/make test':

"/export/home/cpan/bin/perl-blead/bin/perl5.33.3" -MExtUtils::Command::MM -e 'cp_nonempty' -- Util.bs blib/arch/auto/Math/Prime/Util/Util.bs 644
PERL_DL_NONLAZY=1 "/export/home/cpan/bin/perl-blead/bin/perl5.33.3" "-MExtUtils::Command::MM" "-MTest::Harness" "-e" "undef *Test::Harness::Switches; test_harness(0, 'blib/lib', 'blib/arch')" t/*.t
t/01-load.t .................. ok
t/011-load-ntheory.t ......... ok
t/02-can.t ................... ok
t/022-can-ntheory.t .......... ok
# Using XS.
t/03-init.t .................. ok
t/04-inputvalidation.t ....... ok
t/10-isprime.t ............... ok
t/11-clusters.t .............. ok
t/11-primes.t ................ ok
t/11-ramanujanprimes.t ....... ok
t/11-semiprimes.t ............ ok
t/11-sumprimes.t ............. ok
t/11-twinprimes.t ............ ok
t/12-nextprime.t ............. ok
t/13-primecount.t ............ ok
t/14-nthprime.t .............. ok
t/15-probprime.t ............. ok
t/16-randomprime.t ........... ok
t/17-pseudoprime.t ........... ok
t/18-functions.t ............. ok
t/19-chebyshev.t ............. ok
t/19-chinese.t ............... ok
t/19-divisorsum.t ............ ok
t/19-gcd.t ................... ok
t/19-kronecker.t ............. ok
t/19-legendrephi.t ........... ok
t/19-liouville.t ............. ok
t/19-mangoldt.t .............. ok
t/19-moebius.t ............... ok
t/19-popcount.t .............. ok
t/19-primroots.t ............. ok
t/19-ramanujan.t ............. ok
t/19-rootint.t ............... ok
t/19-totients.t .............. ok
t/19-valuation.t ............. ok
t/19-znorder.t ............... ok
t/20-jordantotient.t ......... ok
t/20-primorial.t ............. ok
t/21-conseq-lcm.t ............ ok
t/22-aks-prime.t ............. ok
t/23-primality-proofs.t ...... ok
t/23-random-certs.t .......... ok
t/24-partitions.t ............ ok
t/25-lucas_sequences.t ....... ok
t/26-combinatorial.t ......... ok
t/26-digits.t ................ ok
t/26-iscarmichael.t .......... ok
t/26-isfundamental.t ......... ok
t/26-ispower.t ............... ok
t/26-issemiprime.t ........... ok
t/26-issquarefree.t .......... ok
t/26-istotient.t ............. ok
t/26-mod.t ................... ok
t/26-pillai.t ................ ok
t/26-polygonal.t ............. ok
t/26-vec.t ................... ok
t/27-bernfrac.t .............. ok
t/28-pi.t .................... ok
t/29-mersenne.t .............. ok
t/30-relations.t ............. ok
t/31-threading.t ............. skipped: only in release or extended testing
t/32-iterators.t ............. ok
t/33-examples.t .............. skipped: these tests are for release candidate testing
# CORE::rand: drand48 (yech). Our PRNG: ChaCha20
t/34-random.t ................ ok
t/35-cipher.t ................ ok
t/35-rand-tag.t .............. ok
t/50-factoring.t ............. ok
t/51-randfactor.t ............ ok
t/51-znlog.t ................. ok
t/52-primearray.t ............ ok
t/70-rt-bignum.t ............. ok
t/80-pp.t .................... ok
# BigInt 0.51/1.999818, lib: Calc.  MPU::GMP <none>
t/81-bignum.t ................ ok
t/90-release-perlcritic.t .... skipped: these tests are for release candidate testing
t/91-release-pod-syntax.t .... skipped: these tests are for release candidate testing
t/92-release-pod-coverage.t .. skipped: these tests are for release candidate testing
t/93-release-spelling.t ...... skipped: these tests are for release candidate testing
t/94-weaken.t ................ skipped: these tests are for release candidate testing
t/97-synopsis.t .............. skipped: these tests are for release candidate testing
All tests successful.
Files=79, Tests=4048, 34 wallclock secs ( 0.86 usr  0.46 sys + 27.20 cusr  4.13 csys = 32.66 CPU)
Result: PASS

------------------------------
PREREQUISITES
------------------------------

Prerequisite modules loaded:

requires:

    Module              Need     Have    
    ------------------- -------- --------
    base                0        2.27    
    Carp                0        1.50    
    Config              0        5.033003
    constant            0        1.33    
    Exporter            5.57     5.76    
    Math::BigFloat      1.59     1.999818
    Math::BigInt        1.88     1.999818
    perl                5.006002 5.033003
    Tie::Array          0        1.07    
    XSLoader            0.01     0.30    

build_requires:

    Module              Need     Have    
    ------------------- -------- --------
    bignum              0.22     0.51    
    ExtUtils::MakeMaker 0        7.48    
    Test::More          0.45     1.302182

configure_requires:

    Module              Need     Have    
    ------------------- -------- --------
    ExtUtils::MakeMaker 0        7.48    


------------------------------
ENVIRONMENT AND OTHER CONTEXT
------------------------------

Environment variables:

    AUTOMATED_TESTING = 1
    DATE_MANIP_TEST_DM5 = 1
    LANG = en_US.UTF-8
    LC_ALL = C
    NONINTERACTIVE_TESTING = 1
    PATH = /home/cpan/bin/perl-blead/bin:/home/cpan/bin:/usr/bin:/usr/sbin:/sbin:/opt/ooce/bin:/usr/gnu/bin
    PERL5LIB = 
    PERL5OPT = 
    PERL5_CPANPLUS_IS_RUNNING = 21145
    PERL5_CPAN_IS_RUNNING = 21145
    PERL_MM_USE_DEFAULT = 1
    PERL_USE_UNSAFE_INC = 1
    PERL_VERSION = blead
    SHELL = /bin/bash
    TERM = screen.xterm-256color
    TMPDIR = /home/cpan/tmp

Perl special variables (and OS-specific diagnostics, for MSWin32):

    $^X = /export/home/cpan/bin/perl-blead/bin/perl5.33.3
    $UID/$EUID = 101 / 101
    $GID = 1 1
    $EGID = 1 1

Perl module toolchain versions installed:

    Module              Have    
    ------------------- --------
    CPAN                2.28    
    CPAN::Meta          2.150010
    Cwd                 3.78    
    ExtUtils::CBuilder  0.280234
    ExtUtils::Command   7.48    
    ExtUtils::Install   2.18    
    ExtUtils::MakeMaker 7.48    
    ExtUtils::Manifest  1.72    
    ExtUtils::ParseXS   3.41    
    File::Spec          3.78    
    JSON                4.02    
    JSON::PP            4.05    
    Module::Build       0.4231  
    Module::Signature   n/a     
    Parse::CPAN::Meta   2.150010
    Test::Harness       3.42    
    Test::More          1.302182
    YAML                1.30    
    YAML::Syck          1.32    
    version             0.9928  


--

Summary of my perl5 (revision 5 version 33 subversion 3) configuration:
  Commit id: d4c12c727047dbade2551e3297e90f7dbbf34d71
  Platform:
    osname=solaris
    osvers=2.11
    archname=i86pc-solaris-64
    uname='sunos cjg-omniosce 5.11 omnios-r151032-b7806e2511 i86pc i386 i86pc '
    config_args='-des -Dprefix=~/bin/perl-blead -Dscriptdir=~/bin/perl-blead/bin -Dusedevel -Duse64bitall -Dcc=gcc'
    hint=recommended
    useposix=true
    d_sigaction=define
    useithreads=undef
    usemultiplicity=undef
    use64bitint=define
    use64bitall=define
    uselongdouble=undef
    usemymalloc=n
    default_inc_excludes_dot=define
  Compiler:
    cc='gcc'
    ccflags ='-m64 -fwrapv -fno-strict-aliasing -pipe -fstack-protector-strong -D_LARGEFILE_SOURCE -D_FILE_OFFSET_BITS=64 -D_FORTIFY_SOURCE=2 -DPERL_USE_SAFE_PUTENV'
    optimize='-O'
    cppflags='-m64 -fwrapv -fno-strict-aliasing -pipe -fstack-protector-strong'
    ccversion=''
    gccversion='7.4.0'
    gccosandvers=''
    intsize=4
    longsize=8
    ptrsize=8
    doublesize=8
    byteorder=12345678
    doublekind=3
    d_longlong=define
    longlongsize=8
    d_longdbl=define
    longdblsize=16
    longdblkind=3
    ivtype='long'
    ivsize=8
    nvtype='double'
    nvsize=8
    Off_t='off_t'
    lseeksize=8
    alignbytes=8
    prototype=define
  Linker and Libraries:
    ld='gcc'
    ldflags =' -m64 -fstack-protector-strong -L/usr/gnu/lib '
    libpth=/opt/gcc-7/lib /opt/gcc-7/lib/gcc/i386-pc-solaris2.11/7.4.0/include-fixed /usr/lib /usr/gnu/lib /usr/ccs/lib
    libs=-lpthread -lsocket -lnsl -ldl -lm -lc
    perllibs=-lpthread -lsocket -lnsl -ldl -lm -lc
    libc=/lib/libc.so
    so=so
    useshrplib=true
    libperl=libperl.so
    gnulibc_version=''
  Dynamic Linking:
    dlsrc=dl_dlopen.xs
    dlext=so
    d_dlsymun=undef
    ccdlflags='  -R /home/cpan/bin/perl-blead/lib/5.33.3/i86pc-solaris-64/CORE'
    cccdlflags='-fPIC'
    lddlflags=' -shared -m64 -L/usr/gnu/lib -fstack-protector-strong'


Characteristics of this binary (from libperl): 
  Compile-time options:
    HAS_TIMES
    PERLIO_LAYERS
    PERL_COPY_ON_WRITE
    PERL_DONT_CREATE_GVSV
    PERL_MALLOC_WRAP
    PERL_OP_PARENT
    PERL_PRESERVE_IVUV
    PERL_USE_DEVEL
    PERL_USE_SAFE_PUTENV
    USE_64_BIT_ALL
    USE_64_BIT_INT
    USE_LARGE_FILES
    USE_LOCALE
    USE_LOCALE_COLLATE
    USE_LOCALE_CTYPE
    USE_LOCALE_NUMERIC
    USE_LOCALE_TIME
    USE_PERLIO
    USE_PERL_ATOF
  Built under solaris
  Compiled at Oct 20 2020 13:07:04
  %ENV:
    PERL5LIB=""
    PERL5OPT=""
    PERL5_CPANPLUS_IS_RUNNING="21145"
    PERL5_CPAN_IS_RUNNING="21145"
    PERL_MM_USE_DEFAULT="1"
    PERL_USE_UNSAFE_INC="1"
    PERL_VERSION="blead"
  @INC:
    /home/cpan/bin/perl-blead/lib/site_perl/5.33.3/i86pc-solaris-64
    /home/cpan/bin/perl-blead/lib/site_perl/5.33.3
    /home/cpan/bin/perl-blead/lib/5.33.3/i86pc-solaris-64
    /home/cpan/bin/perl-blead/lib/5.33.3
    .