Report for CM-Permutation-0.94

Back
From: metabase:user:30ae4450-2aae-11df-837a-5e0a49663a4f
Subject: PASS CM-Permutation-0.94 v5.16.2 GNU/Linux
Date: 2013-06-23T15:20:17Z

This distribution has been tested as part of the CPAN Testers
project, supporting the Perl programming language.  See
http://wiki.cpantesters.org/ for more information or email
questions to cpan-testers-discuss@perl.org


--
Dear Petrea Corneliu Stefan,

This is a computer-generated report for CM-Permutation-0.94
on perl 5.16.2, created by CPAN-Reporter-1.2010.

Thank you for uploading your work to CPAN.  Congratulations!
All tests were successful.

Sections of this report:

    * Tester comments
    * Program output
    * Prerequisites
    * Environment and other context

------------------------------
TESTER COMMENTS
------------------------------

Additional comments from tester:

this report is from an automated smoke testing program
and was not reviewed by a human for accuracy

------------------------------
PROGRAM OUTPUT
------------------------------

Output from '/usr/bin/make test':

PERL_DL_NONLAZY=1 /home/c/perl5/perlbrew/perls/5.16.2i/bin/perl "-MExtUtils::Command::MM" "-e" "test_harness(0, 'blib/lib', 'blib/arch')" t/*.t
Name "main::a" used only once: possible typo at t/00_CM-Permutation.t line 72.
Name "main::b" used only once: possible typo at t/00_CM-Permutation.t line 72.
t/00_CM-Permutation.t ................. ok
t/01_CM-Permutation-Cycle.t ........... ok
t/02_CM-Cycle_Algorithm.t ............. ok
Argument "1,1,1" isn't numeric in numeric lt (<) at lib//CM/Group/Sym.pm line 422.
Argument "1,2" isn't numeric in numeric lt (<) at lib//CM/Group/Sym.pm line 422.
Argument "1,1,1,1" isn't numeric in numeric lt (<) at lib//CM/Group/Sym.pm line 422.
Argument "1,3" isn't numeric in numeric lt (<) at lib//CM/Group/Sym.pm line 422.
Argument "2,2" isn't numeric in numeric lt (<) at lib//CM/Group/Sym.pm line 422.
Argument "1,1,2" isn't numeric in numeric lt (<) at lib//CM/Group/Sym.pm line 422.
Argument "1,1,1,1" isn't numeric in numeric lt (<) at lib//CM/Group/Sym.pm line 422.
Argument "1,3" isn't numeric in numeric lt (<) at lib//CM/Group/Sym.pm line 422.
Argument "2,2" isn't numeric in numeric lt (<) at lib//CM/Group/Sym.pm line 422.
Argument "1,1,2" isn't numeric in numeric lt (<) at lib//CM/Group/Sym.pm line 422.
t/03_CM-Group-Sym.t ................... ok
t/04-CM-Group-Altern.t ................ ok
t/05-CM-Group-Dihedral.t .............. ok
t/06-CM-Group-Rubik.t ................. ok
t/07-CM-Group-ModuloMultiplication.t .. ok
t/08-Rubik-Model.t .................... ok
t/09-CM-Tuple.t ....................... ok
t/10-DirectProduct.t .................. ok
t/11-Commutator.t ..................... ok
t/12-Factor.t ......................... ok
t/13-Morphism.t ....................... ok
t/14-CM-Group-ModuloAddition.t ........ ok
t/18-CM-Polynomial-Chebyshev.t ........ ok
Operator or semicolon missing before *CM::Polynomial::Cyclotomic at t/19-CM-Polynomial-Cyclotomic.t line 80.
Ambiguous use of * resolved as operator * at t/19-CM-Polynomial-Cyclotomic.t line 80.
t/19-CM-Polynomial-Cyclotomic.t ....... ok
The plan was already output at /home/c/perl5/perlbrew/perls/5.16.2i/lib/5.16.2/Test/Builder.pm line 2423.
t/20-CM-Polynomial-Irreducible.t ...... ok
Subroutine CM::Polynomial::Discriminant::inner redefined at (eval 234) line 8.
Prototype mismatch: sub CM::Polynomial::Discriminant::inner: none vs (;@) at (eval 234) line 8.
t/21-CM-Polynomial-Discriminant.t ..... ok
All tests successful.
Files=19, Tests=224, 19 wallclock secs ( 0.01 usr  0.20 sys +  8.32 cusr  7.14 csys = 15.67 CPU)
Result: PASS

------------------------------
PREREQUISITES
------------------------------

Prerequisite modules loaded:

requires:

    Module                      Need       Have      
    --------------------------- ---------- ----------
    Acme::AsciiArt2HtmlTable    0          0.01      
    Algorithm::Permute          0          0.12      
    Bit::Vector                 7.1        7.2       
    Carp                        0          1.26      
    Devel::REPL                 1.003009   1.003018  
    GD::SVG                     0.33       0.33      
    GraphViz                    0          2.14      
    List::AllUtils              0.02       0.03      
    Math::BigInt                0          1.998     
    Math::Complex               1.56       1.59      
    Math::Factor::XS            0.38       0.40      
    Math::Pari                  2.01080605 2.01080605
    Math::Polynomial            1.002      1.005     
    Math::Polynomial::Solve     2.50       2.67      
    Math::Primality             0.04       0.08      
    Math::Prime::XS             0.23       0.26      
    Math::Symbolic              0.606      0.612     
    Moose                       0.92       2.0802    
    MooseX::Role::Parameterized 0.17       1.00      
    OpenGL                      0.64       0.66      
    overload                    0          1.18      
    Params::Validate            0.94       1.07      
    PDL                         v2.4.6     2.4.11    
    Storable                    0          2.34      
    Test::Deep                  0.106      0.110     
    Test::More                  0          0.98      
    Text::Table                 1.114      1.127     

configure_requires:

    Module                      Need       Have      
    --------------------------- ---------- ----------
    ExtUtils::MakeMaker         6.30       6.63_02   


------------------------------
ENVIRONMENT AND OTHER CONTEXT
------------------------------

Environment variables:

    AUTOMATED_TESTING = 1
    LANG = ru_RU.utf8
    PATH = /home/c/perl5/perlbrew/bin:/home/c/perl5/perlbrew/perls/5.16.2i/bin:/usr/local/bin:/usr/bin:/bin:/usr/local/games:/usr/games
    PERL5LIB = /home/c/.cpan/build/Math-Prime-XS-0.26-zLhjA8/blib/arch:/home/c/.cpan/build/Math-Prime-XS-0.26-zLhjA8/blib/lib:/home/c/.cpan/build/Math-Polynomial-1.005-QZImMJ/blib/arch:/home/c/.cpan/build/Math-Polynomial-1.005-QZImMJ/blib/lib:/home/c/.cpan/build/Math-Symbolic-0.612-9ZcHcS/blib/arch:/home/c/.cpan/build/Math-Symbolic-0.612-9ZcHcS/blib/lib:/home/c/.cpan/build/Math-Polynomial-Solve-2.67-rOMRkG/blib/arch:/home/c/.cpan/build/Math-Polynomial-Solve-2.67-rOMRkG/blib/lib:/home/c/.cpan/build/Math-Factor-XS-0.40-VgAAU2/blib/arch:/home/c/.cpan/build/Math-Factor-XS-0.40-VgAAU2/blib/lib:/home/c/.cpan/build/Acme-AsciiArt2HtmlTable-0.01-W7MhpN/blib/arch:/home/c/.cpan/build/Acme-AsciiArt2HtmlTable-0.01-W7MhpN/blib/lib:/home/c/.cpan/build/GD-SVG-0.33-mbhVwc/blib/arch:/home/c/.cpan/build/GD-SVG-0.33-mbhVwc/blib/lib
    PERL5OPT = 
    PERL5_CPANPLUS_IS_RUNNING = 11432
    PERL5_CPAN_IS_RUNNING = 11432
    PERL5_CPAN_IS_RUNNING_IN_RECURSION = 15679,11432
    PERLBREW_MANPATH = /home/c/perl5/perlbrew/perls/5.16.2i/man
    PERLBREW_PATH = /home/c/perl5/perlbrew/bin:/home/c/perl5/perlbrew/perls/5.16.2i/bin
    PERLBREW_PERL = 5.16.2i
    PERLBREW_ROOT = /home/c/perl5/perlbrew
    PERLBREW_SKIP_INIT = 1
    PERLBREW_VERSION = 0.58
    PERL_CR_SMOKER_CURRENT = CM-Permutation-0.94
    PERL_EXTUTILS_AUTOINSTALL = --defaultdeps
    PERL_MM_USE_DEFAULT = 1
    SHELL = /bin/bash
    TERM = xterm

Perl special variables (and OS-specific diagnostics, for MSWin32):

    $^X = /home/c/perl5/perlbrew/perls/5.16.2i/bin/perl
    $UID/$EUID = 1000 / 1000
    $GID = 1000 24 25 27 29 30 44 46 108 109 115 1000 1001
    $EGID = 1000 24 25 27 29 30 44 46 108 109 115 1000 1001

Perl module toolchain versions installed:

    Module              Have    
    ------------------- --------
    CPAN                2.00    
    CPAN::Meta          2.120921
    Cwd                 3.40    
    ExtUtils::CBuilder  0.280206
    ExtUtils::Command   1.17    
    ExtUtils::Install   1.58    
    ExtUtils::MakeMaker 6.63_02 
    ExtUtils::Manifest  1.61    
    ExtUtils::ParseXS   3.16    
    File::Spec          3.40    
    JSON                2.53    
    JSON::PP            2.27200 
    Module::Build       0.4005  
    Module::Signature   0.70    
    Parse::CPAN::Meta   1.4404  
    Test::Harness       3.28    
    Test::More          0.98    
    YAML                0.84    
    YAML::Syck          1.22    
    version             0.9901  


--

Summary of my perl5 (revision 5 version 16 subversion 2) configuration:
   
  Platform:
    osname=linux, osvers=2.6.32-5-686, archname=i686-linux-thread-multi
    uname='linux deb1 2.6.32-5-686 #1 smp sun sep 23 09:49:36 utc 2012 i686 gnulinux '
    config_args='-de -Dprefix=/home/c/perl5/perlbrew/perls/5.16.2i -Dusethreads -Aeval:scriptdir=/home/c/perl5/perlbrew/perls/5.16.2i/bin'
    hint=recommended, useposix=true, d_sigaction=define
    useithreads=define, usemultiplicity=define
    useperlio=define, d_sfio=undef, uselargefiles=define, usesocks=undef
    use64bitint=undef, use64bitall=undef, uselongdouble=undef
    usemymalloc=n, bincompat5005=undef
  Compiler:
    cc='cc', ccflags ='-D_REENTRANT -D_GNU_SOURCE -fno-strict-aliasing -pipe -fstack-protector -I/usr/local/include -D_LARGEFILE_SOURCE -D_FILE_OFFSET_BITS=64',
    optimize='-O2',
    cppflags='-D_REENTRANT -D_GNU_SOURCE -fno-strict-aliasing -pipe -fstack-protector -I/usr/local/include'
    ccversion='', gccversion='4.4.5', gccosandvers=''
    intsize=4, longsize=4, ptrsize=4, doublesize=8, byteorder=1234
    d_longlong=define, longlongsize=8, d_longdbl=define, longdblsize=12
    ivtype='long', ivsize=4, nvtype='double', nvsize=8, Off_t='off_t', lseeksize=8
    alignbytes=4, prototype=define
  Linker and Libraries:
    ld='cc', ldflags =' -fstack-protector -L/usr/local/lib'
    libpth=/usr/local/lib /lib/../lib /usr/lib/../lib /lib /usr/lib /usr/lib/i486-linux-gnu /usr/lib64
    libs=-lnsl -lgdbm -ldb -ldl -lm -lcrypt -lutil -lpthread -lc -lgdbm_compat
    perllibs=-lnsl -ldl -lm -lcrypt -lutil -lpthread -lc
    libc=/lib/libc-2.11.3.so, so=so, useshrplib=false, libperl=libperl.a
    gnulibc_version='2.11.3'
  Dynamic Linking:
    dlsrc=dl_dlopen.xs, dlext=so, d_dlsymun=undef, ccdlflags='-Wl,-E'
    cccdlflags='-fPIC', lddlflags='-shared -O2 -L/usr/local/lib -fstack-protector'


Characteristics of this binary (from libperl): 
  Compile-time options: HAS_TIMES MULTIPLICITY PERLIO_LAYERS
                        PERL_DONT_CREATE_GVSV PERL_IMPLICIT_CONTEXT
                        PERL_MALLOC_WRAP PERL_PRESERVE_IVUV USE_ITHREADS
                        USE_LARGE_FILES USE_LOCALE USE_LOCALE_COLLATE
                        USE_LOCALE_CTYPE USE_LOCALE_NUMERIC USE_PERLIO
                        USE_PERL_ATOF USE_REENTRANT_API
  Built under linux
  Compiled at Jan 26 2013 16:12:36
  %ENV:
    PERL5LIB="/home/c/.cpan/build/Math-Prime-XS-0.26-zLhjA8/blib/arch:/home/c/.cpan/build/Math-Prime-XS-0.26-zLhjA8/blib/lib:/home/c/.cpan/build/Math-Polynomial-1.005-QZImMJ/blib/arch:/home/c/.cpan/build/Math-Polynomial-1.005-QZImMJ/blib/lib:/home/c/.cpan/build/Math-Symbolic-0.612-9ZcHcS/blib/arch:/home/c/.cpan/build/Math-Symbolic-0.612-9ZcHcS/blib/lib:/home/c/.cpan/build/Math-Polynomial-Solve-2.67-rOMRkG/blib/arch:/home/c/.cpan/build/Math-Polynomial-Solve-2.67-rOMRkG/blib/lib:/home/c/.cpan/build/Math-Factor-XS-0.40-VgAAU2/blib/arch:/home/c/.cpan/build/Math-Factor-XS-0.40-VgAAU2/blib/lib:/home/c/.cpan/build/Acme-AsciiArt2HtmlTable-0.01-W7MhpN/blib/arch:/home/c/.cpan/build/Acme-AsciiArt2HtmlTable-0.01-W7MhpN/blib/lib:/home/c/.cpan/build/GD-SVG-0.33-mbhVwc/blib/arch:/home/c/.cpan/build/GD-SVG-0.33-mbhVwc/blib/lib"
    PERL5OPT=""
    PERL5_CPANPLUS_IS_RUNNING="11432"
    PERL5_CPAN_IS_RUNNING="11432"
    PERL5_CPAN_IS_RUNNING_IN_RECURSION="15679,11432"
    PERLBREW_MANPATH="/home/c/perl5/perlbrew/perls/5.16.2i/man"
    PERLBREW_PATH="/home/c/perl5/perlbrew/bin:/home/c/perl5/perlbrew/perls/5.16.2i/bin"
    PERLBREW_PERL="5.16.2i"
    PERLBREW_ROOT="/home/c/perl5/perlbrew"
    PERLBREW_SKIP_INIT="1"
    PERLBREW_VERSION="0.58"
    PERL_CR_SMOKER_CURRENT="CM-Permutation-0.94"
    PERL_EXTUTILS_AUTOINSTALL="--defaultdeps"
    PERL_MM_USE_DEFAULT="1"
  @INC:
    /home/c/.cpan/build/Math-Prime-XS-0.26-zLhjA8/blib/arch
    /home/c/.cpan/build/Math-Prime-XS-0.26-zLhjA8/blib/lib
    /home/c/.cpan/build/Math-Polynomial-1.005-QZImMJ/blib/arch
    /home/c/.cpan/build/Math-Polynomial-1.005-QZImMJ/blib/lib
    /home/c/.cpan/build/Math-Symbolic-0.612-9ZcHcS/blib/arch
    /home/c/.cpan/build/Math-Symbolic-0.612-9ZcHcS/blib/lib
    /home/c/.cpan/build/Math-Polynomial-Solve-2.67-rOMRkG/blib/arch
    /home/c/.cpan/build/Math-Polynomial-Solve-2.67-rOMRkG/blib/lib
    /home/c/.cpan/build/Math-Factor-XS-0.40-VgAAU2/blib/arch
    /home/c/.cpan/build/Math-Factor-XS-0.40-VgAAU2/blib/lib
    /home/c/.cpan/build/Acme-AsciiArt2HtmlTable-0.01-W7MhpN/blib/arch
    /home/c/.cpan/build/Acme-AsciiArt2HtmlTable-0.01-W7MhpN/blib/lib
    /home/c/.cpan/build/GD-SVG-0.33-mbhVwc/blib/arch
    /home/c/.cpan/build/GD-SVG-0.33-mbhVwc/blib/lib
    /home/c/perl5/perlbrew/perls/5.16.2i/lib/site_perl/5.16.2/i686-linux-thread-multi
    /home/c/perl5/perlbrew/perls/5.16.2i/lib/site_perl/5.16.2
    /home/c/perl5/perlbrew/perls/5.16.2i/lib/5.16.2/i686-linux-thread-multi
    /home/c/perl5/perlbrew/perls/5.16.2i/lib/5.16.2
    .