XML-XPathScript v2.00 Perl 5 v5.26.2 x86_64-linux-thread-multi

Status
Pass
From
David Cantrell (DCANTRELL)
Dist
XML-XPathScript v2.00
Platform
Perl 5 v5.26.2 x86_64-linux-thread-multi
Date
2019-07-10 05:27:30
ID
697b26d4-a2d3-11e9-a0b2-9f07052d0de1
This distribution has been tested as part of the CPAN Testers
project, supporting the Perl programming language.  See
http://wiki.cpantesters.org/ for more information or email
questions to cpan-testers-discuss@perl.org


--
Dear Yanick Champoux,

This is a computer-generated report for XML-XPathScript-2.00
on perl 5.26.2, created by CPAN-Reporter-1.2018.

Thank you for uploading your work to CPAN.  Congratulations!
All tests were successful.

Sections of this report:

    * Tester comments
    * Program output
    * Prerequisites
    * Environment and other context

------------------------------
TESTER COMMENTS
------------------------------

Additional comments from tester:

this report is from an automated smoke testing program
and was not reviewed by a human for accuracy

------------------------------
PROGRAM OUTPUT
------------------------------

Output from '/usr/bin/make test':

PERL_DL_NONLAZY=1 "/home/david/cpantesting/perl-5.26.2/bin/perl" "-MExtUtils::Command::MM" "-MTest::Harness" "-e" "undef *Test::Harness::Switches; test_harness(0, 'blib/lib', 'blib/arch')" t/*.t
t/00-compile.t ................. ok
# 
# Versions for all modules listed in MYMETA.json (including optional ones):
# 
# === Configure Requires ===
# 
#     Module              Want Have
#     ------------------- ---- ----
#     ExtUtils::MakeMaker  any 7.24
# 
# === Build Requires ===
# 
#     Module              Want Have
#     ------------------- ---- ----
#     ExtUtils::MakeMaker  any 7.24
# 
# === Test Requires ===
# 
#     Module              Want     Have
#     ------------------- ---- --------
#     ExtUtils::MakeMaker  any     7.24
#     File::Spec           any     3.67
#     IO::File             any     1.16
#     IO::Handle           any     1.36
#     IPC::Open3           any     1.20
#     Test                 any     1.30
#     Test::More           any 1.302164
# 
# === Test Recommends ===
# 
#     Module         Want     Have
#     ---------- -------- --------
#     CPAN::Meta 2.120900 2.150010
# 
# === Runtime Requires ===
# 
#     Module                Want    Have
#     --------------------- ---- -------
#     Carp                   any    1.42
#     Clone                  any    0.41
#     Data::Dumper           any   2.167
#     Exporter               any    5.72
#     File::Basename         any    2.85
#     Readonly               any    2.05
#     Scalar::Util           any 1.46_02
#     Symbol                 any    1.08
#     XML::LibXML            any  2.0201
#     XML::Parser            any    2.44
#     XML::XPath             any    1.44
#     XML::XPath::Node       any    1.44
#     XML::XPath::NodeSet    any    1.44
#     XML::XPath::XMLParser  any    1.44
#     base                   any    2.26
#     bytes                  any    1.05
#     constant               any    1.33
#     overload               any    1.28
#     strict                 any    1.11
#     utf8                   any    1.19
#     vars                   any    1.03
#     warnings               any    1.37
# 
t/00-report-prereqs.t .......... ok
t/01basic.t .................... ok
t/02interpolate.t .............. ok
t/03general.t .................. ok
t/04unicode.t .................. ok
t/05textnode.t ................. ok
t/06testcode.t ................. ok
t/07stylesheetcallbacks.t ...... ok
t/08document.t ................. ok
t/09argencoding.t .............. ok
t/10comments.t ................. ok
t/11new_interface.t ............ ok
t/12template.t ................. ok
t/13samples.t .................. ok
t/14transform.t ................ ok
t/15stylesheet_dependencies.t .. ok
t/16stylesheet_arguments.t ..... ok
t/17xml_loading.t .............. ok
t/18tag.t ...................... ok
t/19namespace.t ................ ok
This is $Id: docbook2latex.xps 32928 2006-02-01 17:59:52Z dom $
Using XML::LibXML version 2.0201, XML::XPathScript version 2.00
Unknown Unicode character (code 0)
Modify me! (array %uniconvs at the top of docbook2latex.xps)
/article[1]/sect1[@id="SEC-tables"]/table[@id="CC-Niveaux-Assurance"]/tgroup[1]/tbody[1]/row[1]/entry[1]:
     I don't know how to align multiline cells in TeX in stylesheet line 2104
/article[1]/sect1[@id="SEC-tables"]/table[@id="CC-Niveaux-Assurance"]/tgroup[1]/tbody[1]:
     No more room for this cell (row 3, entry 12) in stylesheet line 1971

/article[1]/sect1[2]/para[7]/xref[1]:
     label "FOOT-imbriquee" not found in stylesheet line 2435
/article[1]/sect1[3]/sect2[1]/screenco[1]/calloutlist[1]/callout[1]:
     No area definition found for premiere for this callout in stylesheet line 1379
/article[1]/sect1[3]/sect2[1]/screenco[1]/calloutlist[1]/callout[2]:
     No area definition found for premiere for this callout in stylesheet line 1379
/article[1]/sect1[3]/sect2[1]/screenco[1]/calloutlist[1]/callout[2]:
     No area definition found for troisieme for this callout in stylesheet line 1379
/article[1]/sect1[3]/sect2[1]/screenco[1]/calloutlist[1]/callout[3]:
     No area definition found for tout-le-texte for this callout in stylesheet line 1379
/article[1]/sect1[4]/para[1]/blockquote[1]/para[1]/xref[1]:
     label "TABLE1" not found in stylesheet line 2435
/article[1]/sect1[4]/para[1]/blockquote[1]/para[1]/xref[2]:
     label "SEC-tables" not found in stylesheet line 2435
/article[1]/sect1[4]/para[1]/blockquote[1]/para[1]/xref[3]:
     label "TABLE2" not found in stylesheet line 2435
/article[1]/sect1[4]/para[1]/blockquote[1]/para[1]/xref[4]:
     label "TABLE1" not found in stylesheet line 2435
/article[1]/sect1[4]/para[1]/blockquote[2]/para[1]/xref[1]:
     label "TABLE1" not found in stylesheet line 2435
/article[1]/sect1[4]/para[1]/blockquote[2]/para[1]/xref[2]:
     label "SEC-tables" not found in stylesheet line 2435
/article[1]/sect1[4]/para[1]/blockquote[2]/para[1]/xref[3]:
     label "TABLE2" not found in stylesheet line 2435
/article[1]/sect1[4]/para[1]/blockquote[2]/para[1]/xref[4]:
     label "TABLE1" not found in stylesheet line 2435
/article[1]/sect1[4]/para[2]/orderedlist[1]/listitem[2]/para[1]/xref[1]:
     label "SEC-chef-tjrs-raison" not found in stylesheet line 2435
t/20docbookxml2latex.t ......... ok
t/21processor.t ................ ok
t/22stylesheet.t ............... ok
t/24content.t .................. ok
t/25stylesheetlines.t .......... ok
t/26bxpath.t ................... skipped: B::XPath not installed
t/27template_import.t .......... ok
t/28function_overload.t ........ ok
All tests successful.
Files=29, Tests=136, 31 wallclock secs ( 0.09 usr  0.04 sys +  3.55 cusr  0.31 csys =  3.99 CPU)
Result: PASS

------------------------------
PREREQUISITES
------------------------------

Prerequisite modules loaded:

requires:

    Module                Need  Have    
    --------------------- ----- --------
    base                  0     2.26    
    bytes                 0     1.05    
    Carp                  0     1.42    
    Clone                 0     0.41    
    constant              0     1.33    
    Data::Dumper          0     2.167   
    Exporter              0     5.72    
    File::Basename        0     2.85    
    overload              0     1.28    
    perl                  5.006 5.026002
    Readonly              0     2.05    
    Scalar::Util          0     1.46_02 
    strict                0     1.11    
    Symbol                0     1.08    
    utf8                  0     1.19    
    vars                  0     1.03    
    warnings              0     1.37    
    XML::LibXML           0     2.0201  
    XML::Parser           0     2.44    
    XML::XPath            0     1.44    
    XML::XPath::Node      0     1.44    
    XML::XPath::NodeSet   0     1.44    
    XML::XPath::XMLParser 0     1.44    

build_requires:

    Module                Need  Have    
    --------------------- ----- --------
    ExtUtils::MakeMaker   0     7.24    
    File::Spec            0     3.67    
    IO::File              0     1.16    
    IO::Handle            0     1.36    
    IPC::Open3            0     1.20    
    Test                  0     1.30    
    Test::More            0     1.302164

configure_requires:

    Module                Need  Have    
    --------------------- ----- --------
    ExtUtils::MakeMaker   0     7.24    


------------------------------
ENVIRONMENT AND OTHER CONTEXT
------------------------------

Environment variables:

    AUTOMATED_TESTING = 1
    LANG = en_US.UTF-8
    NONINTERACTIVE_TESTING = 1
    PATH = /usr/local/bin:/usr/bin:/bin:/usr/local/games:/usr/games
    PERL = 5.26.2
    PERL5LIB = 
    PERL5OPT = 
    PERL5_CPANPLUS_IS_RUNNING = 996
    PERL5_CPAN_IS_RUNNING = 996
    PERLVER = 5.26.2
    PERL_INLINE_DIRECTORY = /home/david/.Inline-5.26.2
    PERL_MM_USE_DEFAULT = 1
    PERL_USE_UNSAFE_INC = 0
    SHELL = /bin/bash
    TERM = screen

Perl special variables (and OS-specific diagnostics, for MSWin32):

    $^X = /home/david/cpantesting/perl-5.26.2/bin/perl
    $UID/$EUID = 1000 / 1000
    $GID = 1000 27 1000
    $EGID = 1000 27 1000

Perl module toolchain versions installed:

    Module              Have    
    ------------------- --------
    CPAN                2.18    
    CPAN::Meta          2.150010
    Cwd                 3.67    
    ExtUtils::CBuilder  0.280231
    ExtUtils::Command   7.24    
    ExtUtils::Install   2.04    
    ExtUtils::MakeMaker 7.24    
    ExtUtils::Manifest  1.70    
    ExtUtils::ParseXS   3.35    
    File::Spec          3.67    
    JSON                4.02    
    JSON::PP            4.04    
    Module::Build       0.4229  
    Module::Signature   n/a     
    Parse::CPAN::Meta   2.150010
    Test::Harness       3.38    
    Test::More          1.302164
    YAML                1.29    
    YAML::Syck          n/a     
    version             0.9917  


--

Summary of my perl5 (revision 5 version 26 subversion 2) configuration:
   
  Platform:
    osname=linux
    osvers=4.9.0-8-amd64
    archname=x86_64-linux-thread-multi
    uname='linux pigsty 4.9.0-8-amd64 #1 smp debian 4.9.144-3 (2019-02-02) x86_64 gnulinux '
    config_args='-de -Duse64bitall -Dusethreads -Dprefix=/home/david/cpantesting/perl-5.26.2'
    hint=recommended
    useposix=true
    d_sigaction=define
    useithreads=define
    usemultiplicity=define
    use64bitint=define
    use64bitall=define
    uselongdouble=undef
    usemymalloc=n
    default_inc_excludes_dot=define
    bincompat5005=undef
  Compiler:
    cc='cc'
    ccflags ='-D_REENTRANT -D_GNU_SOURCE -fwrapv -fno-strict-aliasing -pipe -fstack-protector-strong -I/usr/local/include -D_LARGEFILE_SOURCE -D_FILE_OFFSET_BITS=64 -D_FORTIFY_SOURCE=2'
    optimize='-O2'
    cppflags='-D_REENTRANT -D_GNU_SOURCE -fwrapv -fno-strict-aliasing -pipe -fstack-protector-strong -I/usr/local/include'
    ccversion=''
    gccversion='6.3.0 20170516'
    gccosandvers=''
    intsize=4
    longsize=8
    ptrsize=8
    doublesize=8
    byteorder=12345678
    doublekind=3
    d_longlong=define
    longlongsize=8
    d_longdbl=define
    longdblsize=16
    longdblkind=3
    ivtype='long'
    ivsize=8
    nvtype='double'
    nvsize=8
    Off_t='off_t'
    lseeksize=8
    alignbytes=8
    prototype=define
  Linker and Libraries:
    ld='cc'
    ldflags =' -fstack-protector-strong -L/usr/local/lib'
    libpth=/usr/local/lib /usr/lib/gcc/x86_64-linux-gnu/6/include-fixed /usr/include/x86_64-linux-gnu /usr/lib /lib/x86_64-linux-gnu /lib/../lib /usr/lib/x86_64-linux-gnu /usr/lib/../lib /lib
    libs=-lpthread -lnsl -ldb -ldl -lm -lcrypt -lutil -lc
    perllibs=-lpthread -lnsl -ldl -lm -lcrypt -lutil -lc
    libc=libc-2.24.so
    so=so
    useshrplib=false
    libperl=libperl.a
    gnulibc_version='2.24'
  Dynamic Linking:
    dlsrc=dl_dlopen.xs
    dlext=so
    d_dlsymun=undef
    ccdlflags='-Wl,-E'
    cccdlflags='-fPIC'
    lddlflags='-shared -O2 -L/usr/local/lib -fstack-protector-strong'


Characteristics of this binary (from libperl): 
  Compile-time options:
    HAS_TIMES
    MULTIPLICITY
    PERLIO_LAYERS
    PERL_COPY_ON_WRITE
    PERL_DONT_CREATE_GVSV
    PERL_IMPLICIT_CONTEXT
    PERL_MALLOC_WRAP
    PERL_OP_PARENT
    PERL_PRESERVE_IVUV
    USE_64_BIT_ALL
    USE_64_BIT_INT
    USE_ITHREADS
    USE_LARGE_FILES
    USE_LOCALE
    USE_LOCALE_COLLATE
    USE_LOCALE_CTYPE
    USE_LOCALE_NUMERIC
    USE_LOCALE_TIME
    USE_PERLIO
    USE_PERL_ATOF
    USE_REENTRANT_API
  Built under linux
  Compiled at Apr 25 2019 01:36:50
  %ENV:
    PERL="5.26.2"
    PERL5LIB=""
    PERL5OPT=""
    PERL5_CPANPLUS_IS_RUNNING="996"
    PERL5_CPAN_IS_RUNNING="996"
    PERLVER="5.26.2"
    PERL_INLINE_DIRECTORY="/home/david/.Inline-5.26.2"
    PERL_MM_USE_DEFAULT="1"
    PERL_USE_UNSAFE_INC="0"
  @INC:
    /home/david/cpantesting/perl-5.26.2/lib/site_perl/5.26.2/x86_64-linux-thread-multi
    /home/david/cpantesting/perl-5.26.2/lib/site_perl/5.26.2
    /home/david/cpantesting/perl-5.26.2/lib/5.26.2/x86_64-linux-thread-multi
    /home/david/cpantesting/perl-5.26.2/lib/5.26.2