Dist-Zilla-Plugin-Test-EOL v0.19 Perl 5 v5.35.11 amd64-freebsd-ld
- Status
- Pass
- From
- Slaven Rezić
- Dist
-
Dist-Zilla-Plugin-Test-EOL v0.19
- Platform
- Perl 5 v5.35.11 amd64-freebsd-ld
- Date
- 2022-04-22 22:06:08
- ID
- 698234ce-c288-11ec-8b5f-a28c1f24ea8f
This distribution has been tested as part of the CPAN Testers
project, supporting the Perl programming language. See
http://wiki.cpantesters.org/ for more information or email
questions to cpan-testers-discuss@perl.org
--
Dear Karen Etheridge,
This is a computer-generated report for Dist-Zilla-Plugin-Test-EOL-0.19
on perl 5.35.11, created by CPAN-Reporter-1.2018.
Thank you for uploading your work to CPAN. Congratulations!
All tests were successful.
Sections of this report:
* Tester comments
* Program output
* Prerequisites
* Environment and other context
------------------------------
TESTER COMMENTS
------------------------------
Additional comments from tester:
none provided
------------------------------
PROGRAM OUTPUT
------------------------------
Output from './Build test':
#
# Versions for all modules listed in MYMETA.json (including optional ones):
#
# === Configure Requires ===
#
# Module Want Have
# ------------------- ----- -----
# Module::Build::Tiny 0.034 0.039
#
# === Test Requires ===
#
# Module Want Have
# ---------------- ----- --------
# File::Spec any 3.84
# File::pushd any 1.016
# FindBin any 1.53
# Module::Metadata any 1.000037
# Test::DZil any 6.024
# Test::Deep any 1.130
# Test::EOL any 2.02
# Test::More 0.88 1.302190
# Test::Warnings 0.009 0.031
# if any 0.0610
#
# === Test Recommends ===
#
# Module Want Have
# ---------- -------- --------
# CPAN::Meta 2.120900 2.150010
#
# === Runtime Requires ===
#
# Module Want Have
# --------------------------------- ----- --------
# Data::Section 0.004 0.200007
# Dist::Zilla::File::InMemory any 6.024
# Dist::Zilla::Role::FileFinderUser any 6.024
# Dist::Zilla::Role::FileGatherer any 6.024
# Dist::Zilla::Role::FileMunger any 6.024
# Dist::Zilla::Role::PrereqSource any 6.024
# Dist::Zilla::Role::TextTemplate any 6.024
# Moose any 2.2201
# Moose::Util::TypeConstraints any 2.2201
# Path::Tiny any 0.122
# Sub::Exporter::ForMethods any 0.100054
# namespace::autoclean any 0.29
# strict any 1.12
# warnings any 1.58
#
# === Other Modules ===
#
# Module Have
# --------------------- --------
# CPAN::Meta::Validator 2.150010
# Pod::Coverage 0.23
#
t/00-report-prereqs.t .. ok
t/01-basic.t ........... ok
t/02-eoltests.t ........ ok
t/03-finder.t .......... ok
t/04-filename.t ........ ok
t/eol.t ................ ok
t/prereqs.t ............ ok
t/zzz-check-breaks.t ... ok
All tests successful.
Files=8, Tests=66, 2 wallclock secs ( 0.03 usr 0.02 sys + 2.55 cusr 0.24 csys = 2.84 CPU)
Result: PASS
------------------------------
PREREQUISITES
------------------------------
Prerequisite modules loaded:
requires:
Module Need Have
--------------------------------- ----- --------
Data::Section 0.004 0.200007
Dist::Zilla::File::InMemory 0 6.024
Dist::Zilla::Role::FileFinderUser 0 6.024
Dist::Zilla::Role::FileGatherer 0 6.024
Dist::Zilla::Role::FileMunger 0 6.024
Dist::Zilla::Role::PrereqSource 0 6.024
Dist::Zilla::Role::TextTemplate 0 6.024
Moose 0 2.2201
Moose::Util::TypeConstraints 0 2.2201
namespace::autoclean 0 0.29
Path::Tiny 0 0.122
perl 5.006 5.035011
strict 0 1.12
Sub::Exporter::ForMethods 0 0.100054
warnings 0 1.58
build_requires:
Module Need Have
--------------------------------- ----- --------
File::pushd 0 1.016
File::Spec 0 3.84
FindBin 0 1.53
if 0 0.0610
Module::Metadata 0 1.000037
perl 5.006 5.035011
Test::Deep 0 1.130
Test::DZil 0 6.024
Test::EOL 0 2.02
Test::More 0.88 1.302190
Test::Warnings 0.009 0.031
configure_requires:
Module Need Have
--------------------------------- ----- --------
Module::Build::Tiny 0.034 0.039
perl 5.006 5.035011
------------------------------
ENVIRONMENT AND OTHER CONTEXT
------------------------------
Environment variables:
PATH = /usr/local/bin:/usr/bin:/bin:/usr/local/sbin:/usr/sbin:/sbin:/home/cpansand/bin/sh:/home/cpansand/bin:/usr/games:/home/cpansand/devel:/usr/home/eserte/src/srezic-misc/scripts
PERL5LIB =
PERL5OPT =
PERL5_CPANPLUS_IS_RUNNING = 59303
PERL5_CPAN_IS_RUNNING = 59303
PERL5_CPAN_IS_RUNNING_IN_RECURSION = 1478,59303
PERL_BATCH = yes
PERL_CANARY_STABILITY_NOPROMPT = 1
PERL_CPAN_REPORTER_CONFIG = /var/tmp/cpansmoker-1023/2022042221/cpanreporter_000_config.ini
PERL_EXTUTILS_AUTOINSTALL = --defaultdeps
PERL_USE_UNSAFE_INC = 1
SHELL = /bin/sh
TMPDIR = /var/tmp/cpansmoker-1023/2022042221
Perl special variables (and OS-specific diagnostics, for MSWin32):
$^X = /usr/perl5.35.11Dp/bin/perl5.35.11
$UID/$EUID = 1023 / 1023
$GID = 1023 1023
$EGID = 1023 1023
Perl module toolchain versions installed:
Module Have
------------------- --------
CPAN 2.33
CPAN::Meta 2.150010
Cwd 3.84
ExtUtils::CBuilder 0.280236
ExtUtils::Command 7.64
ExtUtils::Install 2.20
ExtUtils::MakeMaker 7.64
ExtUtils::Manifest 1.73
ExtUtils::ParseXS 3.45
File::Spec 3.84
JSON 4.05
JSON::PP 4.07
Module::Build 0.4231
Module::Signature n/a
Parse::CPAN::Meta 2.150010
Test::Harness 3.44
Test::More 1.302190
YAML 1.30
YAML::Syck 1.34
version 0.9929
--
Summary of my perl5 (revision 5 version 35 subversion 11) configuration:
Platform:
osname=freebsd
osvers=13.1-stable
archname=amd64-freebsd-ld
uname='freebsd cloud10.bbbike.org 13.1-stable freebsd 13.1-stable #3 stable13-d7365cc80: thu apr 14 19:03:30 utc 2022 root@cloud10.bbbike.org:usrobjusrhomeprojectsfreebsd-srcamd64.amd64sysgeneric amd64 '
config_args='-ds -e -Dprefix=/usr/perl5.35.11Dp -Dusedevel -Dusemallocwrap=no -Duselongdouble -Dcf_email=srezic@cpan.org -Doptimize=-O2 -pipe'
hint=previous
useposix=true
d_sigaction=define
useithreads=undef
usemultiplicity=undef
use64bitint=define
use64bitall=define
uselongdouble=define
usemymalloc=n
default_inc_excludes_dot=define
Compiler:
cc='cc'
ccflags ='-DHAS_FPSETMASK -DHAS_FLOATINGPOINT_H -fno-strict-aliasing -pipe -fstack-protector-strong -I/usr/local/include'
optimize='-O2 -pipe'
cppflags='-DHAS_FPSETMASK -DHAS_FLOATINGPOINT_H -fno-strict-aliasing -pipe -fstack-protector-strong -I/usr/local/include'
ccversion=''
gccversion='FreeBSD Clang 13.0.0 (git@github.com:llvm/llvm-project.git llvmorg-13.0.0-0-gd7b669b3a303)'
gccosandvers=''
intsize=4
longsize=8
ptrsize=8
doublesize=8
byteorder=12345678
doublekind=3
d_longlong=define
longlongsize=8
d_longdbl=define
longdblsize=16
longdblkind=3
ivtype='long'
ivsize=8
nvtype='long double'
nvsize=16
Off_t='off_t'
lseeksize=8
alignbytes=16
prototype=define
Linker and Libraries:
ld='cc'
ldflags ='-pthread -Wl,-E -fstack-protector-strong -L/usr/local/lib'
libpth=/usr/lib /usr/local/lib /usr/lib/clang/13.0.0/lib
libs=-lpthread -lgdbm -ldl -lm -lcrypt -lutil -lc
perllibs=-lpthread -ldl -lm -lcrypt -lutil -lc
libc=
so=so
useshrplib=false
libperl=libperl.a
gnulibc_version=''
Dynamic Linking:
dlsrc=dl_dlopen.xs
dlext=so
d_dlsymun=undef
ccdlflags=' '
cccdlflags='-DPIC -fPIC'
lddlflags='-shared -L/usr/local/lib -fstack-protector-strong'
Characteristics of this binary (from libperl):
Compile-time options:
HAS_TIMES
PERLIO_LAYERS
PERL_COPY_ON_WRITE
PERL_DONT_CREATE_GVSV
PERL_OP_PARENT
PERL_PRESERVE_IVUV
PERL_USE_DEVEL
USE_64_BIT_ALL
USE_64_BIT_INT
USE_LARGE_FILES
USE_LOCALE
USE_LOCALE_COLLATE
USE_LOCALE_CTYPE
USE_LOCALE_NUMERIC
USE_LOCALE_TIME
USE_LONG_DOUBLE
USE_PERLIO
USE_PERL_ATOF
Built under freebsd
Compiled at Apr 21 2022 20:42:56
%ENV:
PERL5LIB=""
PERL5OPT=""
PERL5_CPANPLUS_IS_RUNNING="59303"
PERL5_CPAN_IS_RUNNING="59303"
PERL5_CPAN_IS_RUNNING_IN_RECURSION="1478,59303"
PERL_BATCH="yes"
PERL_CANARY_STABILITY_NOPROMPT="1"
PERL_CPAN_REPORTER_CONFIG="/var/tmp/cpansmoker-1023/2022042221/cpanreporter_000_config.ini"
PERL_EXTUTILS_AUTOINSTALL="--defaultdeps"
PERL_USE_UNSAFE_INC="1"
@INC:
/usr/perl5.35.11Dp/lib/site_perl/5.35.11/amd64-freebsd-ld
/usr/perl5.35.11Dp/lib/site_perl/5.35.11
/usr/perl5.35.11Dp/lib/5.35.11/amd64-freebsd-ld
/usr/perl5.35.11Dp/lib/5.35.11
.