Report for Shell-Guess-0.06

Back
From: metabase:user:314402c4-2aae-11df-837a-5e0a49663a4f
Subject: PASS Shell-Guess-0.06 v5.20.0 FreeBSD
Date: 2015-03-08T17:27:36Z

This distribution has been tested as part of the CPAN Testers
project, supporting the Perl programming language.  See
http://wiki.cpantesters.org/ for more information or email
questions to cpan-testers-discuss@perl.org


--
Dear Graham Ollis,

This is a computer-generated report for Shell-Guess-0.06
on perl 5.20.0, created by CPAN-Reporter-1.2011.

Thank you for uploading your work to CPAN.  Congratulations!
All tests were successful.

Sections of this report:

    * Tester comments
    * Program output
    * Prerequisites
    * Environment and other context

------------------------------
TESTER COMMENTS
------------------------------

Additional comments from tester:

none provided

------------------------------
PROGRAM OUTPUT
------------------------------

Output from './Build test':

Useless use of getppid in void context at inc/My/ModuleBuild.pm line 12.
# 
# 
# 
# DBIC_NO_WARN_BAD_PERL=1
# HARNESS_ACTIVE=1
# HARNESS_VERSION=3.30
# PERL5LIB=/usr/local/src/CPAN/build/Shell-Guess-0.06-DxYuHO/blib/lib:/usr/local/src/CPAN/build/Shell-Guess-0.06-DxYuHO/blib/arch:inc:/usr/local/src/CPAN/build/File-ShareDir-1.102-efrhYg/blib/arch:/usr/local/src/CPAN/build/File-ShareDir-1.102-efrhYg/blib/lib:/usr/local/src/CPAN/build/Class-Inspector-1.28-qLV1Iq/blib/arch:/usr/local/src/CPAN/build/Class-Inspector-1.28-qLV1Iq/blib/lib:/usr/local/src/CPAN/build/File-ShareDir-Install-0.10-DrIrZs/blib/arch:/usr/local/src/CPAN/build/File-ShareDir-Install-0.10-DrIrZs/blib/lib:/usr/local/src/CPAN/build/File-ShareDir-1.102-efrhYg/blib/arch:/usr/local/src/CPAN/build/File-ShareDir-1.102-efrhYg/blib/lib:/usr/local/src/CPAN/build/Class-Inspector-1.28-qLV1Iq/blib/arch:/usr/local/src/CPAN/build/Class-Inspector-1.28-qLV1Iq/blib/lib:/usr/local/src/CPAN/build/File-ShareDir-Install-0.10-DrIrZs/blib/arch:/usr/local/src/CPAN/build/File-ShareDir-Install-0.10-DrIrZs/blib/lib
# PERL5OPT=
# PERL5_CPANPLUS_IS_RUNNING=12706
# PERL5_CPAN_IS_RUNNING=12706
# PERL5_CPAN_IS_RUNNING_IN_RECURSION=7201,12706
# PERLDOC=-MPod::Perldoc::ToTextOverstrike
# PERL_BATCH=yes
# PERL_CPAN_REPORTER_CONFIG=/var/tmp/cpansmoker-1000/xMXxiC5Fqs_config.ini
# PERL_DL_NONLAZY=1
# PERL_EXTUTILS_AUTOINSTALL=--defaultdeps
# PERL_HTML_DISPLAY_CLASS=HTML::Display::Mozilla
# SHELL=/usr/local/bin/zsh
# 
# 
# 
# PERL5LIB path
# /usr/local/src/CPAN/build/Shell-Guess-0.06-DxYuHO/blib/lib
# /usr/local/src/CPAN/build/Shell-Guess-0.06-DxYuHO/blib/arch
# inc
# /usr/local/src/CPAN/build/File-ShareDir-1.102-efrhYg/blib/arch
# /usr/local/src/CPAN/build/File-ShareDir-1.102-efrhYg/blib/lib
# /usr/local/src/CPAN/build/Class-Inspector-1.28-qLV1Iq/blib/arch
# /usr/local/src/CPAN/build/Class-Inspector-1.28-qLV1Iq/blib/lib
# /usr/local/src/CPAN/build/File-ShareDir-Install-0.10-DrIrZs/blib/arch
# /usr/local/src/CPAN/build/File-ShareDir-Install-0.10-DrIrZs/blib/lib
# /usr/local/src/CPAN/build/File-ShareDir-1.102-efrhYg/blib/arch
# /usr/local/src/CPAN/build/File-ShareDir-1.102-efrhYg/blib/lib
# /usr/local/src/CPAN/build/Class-Inspector-1.28-qLV1Iq/blib/arch
# /usr/local/src/CPAN/build/Class-Inspector-1.28-qLV1Iq/blib/lib
# /usr/local/src/CPAN/build/File-ShareDir-Install-0.10-DrIrZs/blib/arch
# /usr/local/src/CPAN/build/File-ShareDir-Install-0.10-DrIrZs/blib/lib
# 
# 
# 
# perl                 v5.20.0
# Module::Build        0.4206
# Test::More           1.001002
# Unix::Process        -
# Win32::Getppid       -
# Win32::Process::List -
# 
# 
# 
t/00_diag.t ........ ok
t/guess_login.t .... ok
t/guess_running.t .. ok
t/os_dos.t ......... skipped: DOS only test
t/os_proc.t ........ skipped: test requires that PERL5OPT not be set
t/os_vms.t ......... skipped: VMS only test
t/os_win32.t ....... skipped: windows only test
t/shell_bash.t ..... ok
t/shell_bourne.t ... ok
t/shell_c.t ........ ok
t/shell_cmd.t ...... ok
t/shell_command.t .. ok
t/shell_dcl.t ...... ok
t/shell_fish.t ..... ok
t/shell_korn.t ..... ok
t/shell_power.t .... ok
t/shell_tc.t ....... ok
t/shell_z.t ........ ok
t/use.t ............ ok
All tests successful.
Files=19, Tests=182,  1 wallclock secs ( 0.09 usr  0.09 sys +  1.27 cusr  0.23 csys =  1.66 CPU)
Result: PASS

------------------------------
PREREQUISITES
------------------------------

Prerequisite modules loaded:

requires:

    Module        Need  Have    
    ------------- ----- --------
    perl          5.006 5.020000

build_requires:

    Module        Need  Have    
    ------------- ----- --------
    Module::Build 0.28  0.4206  
    perl          5.006 5.020000
    Test::More    0.94  1.001002

configure_requires:

    Module        Need  Have    
    ------------- ----- --------
    Module::Build 0.28  0.4206  
    perl          5.006 5.020000


------------------------------
ENVIRONMENT AND OTHER CONTEXT
------------------------------

Environment variables:

    DBIC_NO_WARN_BAD_PERL = 1
    PATH = /usr/local/bin:/usr/bin:/bin:/usr/local/sbin:/usr/sbin:/sbin:/home/e/eserte/bin/freebsd9.1:/home/e/eserte/bin/sh:/home/e/eserte/bin:/usr/games:/home/e/eserte/devel:/home/e/eserte/src/srezic-misc/scripts
    PERL5LIB = /usr/local/src/CPAN/build/File-ShareDir-1.102-efrhYg/blib/arch:/usr/local/src/CPAN/build/File-ShareDir-1.102-efrhYg/blib/lib:/usr/local/src/CPAN/build/Class-Inspector-1.28-qLV1Iq/blib/arch:/usr/local/src/CPAN/build/Class-Inspector-1.28-qLV1Iq/blib/lib:/usr/local/src/CPAN/build/File-ShareDir-Install-0.10-DrIrZs/blib/arch:/usr/local/src/CPAN/build/File-ShareDir-Install-0.10-DrIrZs/blib/lib
    PERL5OPT = 
    PERL5_CPANPLUS_IS_RUNNING = 12706
    PERL5_CPAN_IS_RUNNING = 12706
    PERL5_CPAN_IS_RUNNING_IN_RECURSION = 7201,12706
    PERLDOC = -MPod::Perldoc::ToTextOverstrike
    PERL_BATCH = yes
    PERL_CPAN_REPORTER_CONFIG = /var/tmp/cpansmoker-1000/xMXxiC5Fqs_config.ini
    PERL_EXTUTILS_AUTOINSTALL = --defaultdeps
    PERL_HTML_DISPLAY_CLASS = HTML::Display::Mozilla
    SHELL = /usr/local/bin/zsh
    TERM = screen
    TMPDIR = /var/tmp/cpansmoker-1000

Perl special variables (and OS-specific diagnostics, for MSWin32):

    $^X = /usr/perl5.20.0t/bin/perl5.20.0
    $UID/$EUID = 1000 / 1000
    $GID = 1000 1000 0 5 1023 1024
    $EGID = 1000 1000 0 5 1023 1024

Perl module toolchain versions installed:

    Module              Have    
    ------------------- --------
    CPAN                2.05    
    CPAN::Meta          2.140640
    Cwd                 3.47    
    ExtUtils::CBuilder  0.280216
    ExtUtils::Command   1.18    
    ExtUtils::Install   1.67    
    ExtUtils::MakeMaker 6.98    
    ExtUtils::Manifest  1.63    
    ExtUtils::ParseXS   3.24    
    File::Spec          3.47    
    JSON                2.90    
    JSON::PP            2.27203 
    Module::Build       0.4206  
    Module::Signature   n/a     
    Parse::CPAN::Meta   1.4414  
    Test::Harness       3.30    
    Test::More          1.001002
    YAML                1.01    
    YAML::Syck          1.27    
    version             0.9908  


--

Summary of my perl5 (revision 5 version 20 subversion 0) configuration:
   
  Platform:
    osname=freebsd, osvers=9.2-release, archname=amd64-freebsd-thread-multi
    uname='freebsd cvrsnica.herceg.de 9.2-release freebsd 9.2-release #0 r255898: thu sep 26 22:50:31 utc 2013 root@bake.isc.freebsd.org:usrobjusrsrcsysgeneric amd64 '
    config_args='-D usethreads=define -D useshrplib=true -Dprefix=/usr/perl5.20.0t -Dprefix=/usr/perl5.20.0t -Dusemymalloc=n -D cc=ccache cc -Dgccansipedantic -de'
    hint=recommended, useposix=true, d_sigaction=define
    useithreads=define, usemultiplicity=define
    use64bitint=define, use64bitall=define, uselongdouble=undef
    usemymalloc=n, bincompat5005=undef
  Compiler:
    cc='ccache cc', ccflags ='-DHAS_FPSETMASK -DHAS_FLOATINGPOINT_H -fno-strict-aliasing -pipe -fstack-protector -I/usr/local/include',
    optimize='-O2 -pipe',
    cppflags='-DHAS_FPSETMASK -DHAS_FLOATINGPOINT_H -fno-strict-aliasing -pipe -fstack-protector -I/usr/local/include'
    ccversion='', gccversion='4.2.1 20070831 patched [FreeBSD]', gccosandvers=''
    intsize=4, longsize=8, ptrsize=8, doublesize=8, byteorder=12345678
    d_longlong=define, longlongsize=8, d_longdbl=define, longdblsize=16
    ivtype='long', ivsize=8, nvtype='double', nvsize=8, Off_t='off_t', lseeksize=8
    alignbytes=8, prototype=define
  Linker and Libraries:
    ld='ccache cc', ldflags ='-pthread -Wl,-E  -fstack-protector -L/usr/local/lib'
    libpth=/usr/lib /usr/local/lib /usr/include/gcc/4.2 /usr/lib
    libs=-lgdbm -lm -lcrypt
    perllibs=-lm -lcrypt
    libc=, so=so, useshrplib=true, libperl=libperl.so
    gnulibc_version=''
  Dynamic Linking:
    dlsrc=dl_dlopen.xs, dlext=so, d_dlsymun=undef, ccdlflags='  -Wl,-R/usr/perl5.20.0t/lib/5.20.0/amd64-freebsd-thread-multi/CORE'
    cccdlflags='-DPIC -fPIC', lddlflags='-shared  -L/usr/local/lib -fstack-protector'


Characteristics of this binary (from libperl): 
  Compile-time options: HAS_TIMES MULTIPLICITY PERLIO_LAYERS
                        PERL_DONT_CREATE_GVSV
                        PERL_HASH_FUNC_ONE_AT_A_TIME_HARD
                        PERL_IMPLICIT_CONTEXT PERL_MALLOC_WRAP
                        PERL_NEW_COPY_ON_WRITE PERL_PRESERVE_IVUV
                        PERL_USE_DEVEL USE_64_BIT_ALL USE_64_BIT_INT
                        USE_ITHREADS USE_LARGE_FILES USE_LOCALE
                        USE_LOCALE_COLLATE USE_LOCALE_CTYPE
                        USE_LOCALE_NUMERIC USE_PERLIO USE_PERL_ATOF
                        USE_REENTRANT_API
  Built under freebsd
  Compiled at Aug 13 2014 07:44:52
  %ENV:
    PERL5LIB="/usr/local/src/CPAN/build/File-ShareDir-1.102-efrhYg/blib/arch:/usr/local/src/CPAN/build/File-ShareDir-1.102-efrhYg/blib/lib:/usr/local/src/CPAN/build/Class-Inspector-1.28-qLV1Iq/blib/arch:/usr/local/src/CPAN/build/Class-Inspector-1.28-qLV1Iq/blib/lib:/usr/local/src/CPAN/build/File-ShareDir-Install-0.10-DrIrZs/blib/arch:/usr/local/src/CPAN/build/File-ShareDir-Install-0.10-DrIrZs/blib/lib"
    PERL5OPT=""
    PERL5_CPANPLUS_IS_RUNNING="12706"
    PERL5_CPAN_IS_RUNNING="12706"
    PERL5_CPAN_IS_RUNNING_IN_RECURSION="7201,12706"
    PERLDOC="-MPod::Perldoc::ToTextOverstrike"
    PERL_BATCH="yes"
    PERL_CPAN_REPORTER_CONFIG="/var/tmp/cpansmoker-1000/xMXxiC5Fqs_config.ini"
    PERL_EXTUTILS_AUTOINSTALL="--defaultdeps"
    PERL_HTML_DISPLAY_CLASS="HTML::Display::Mozilla"
  @INC:
    /usr/local/src/CPAN/build/File-ShareDir-1.102-efrhYg/blib/arch
    /usr/local/src/CPAN/build/File-ShareDir-1.102-efrhYg/blib/lib
    /usr/local/src/CPAN/build/Class-Inspector-1.28-qLV1Iq/blib/arch
    /usr/local/src/CPAN/build/Class-Inspector-1.28-qLV1Iq/blib/lib
    /usr/local/src/CPAN/build/File-ShareDir-Install-0.10-DrIrZs/blib/arch
    /usr/local/src/CPAN/build/File-ShareDir-Install-0.10-DrIrZs/blib/lib
    /usr/perl5.20.0t/lib/site_perl/5.20.0/amd64-freebsd-thread-multi
    /usr/perl5.20.0t/lib/site_perl/5.20.0
    /usr/perl5.20.0t/lib/5.20.0/amd64-freebsd-thread-multi
    /usr/perl5.20.0t/lib/5.20.0
    .