App-SmokeBox-PerlVersion v0.16 Perl 5 v5.26.1 x86_64-linux
- Status
- Pass
- From
- Dist
-
App-SmokeBox-PerlVersion v0.16
- Platform
- Perl 5 v5.26.1 x86_64-linux
- Date
- 2018-02-02 10:32:48
- ID
- 69bc1b0a-0804-11e8-ac58-047d7f2ce38c
This distribution has been tested as part of the CPAN Testers
project, supporting the Perl programming language. See
http://wiki.cpantesters.org/ for more information or email
questions to cpan-testers-discuss@perl.org
--
Dear Chris Williams,
This is a computer-generated report for App-SmokeBox-PerlVersion-0.16
on perl 5.26.1, created by CPAN-Reporter-1.2018.
Thank you for uploading your work to CPAN. Congratulations!
All tests were successful.
Sections of this report:
* Tester comments
* Program output
* Prerequisites
* Environment and other context
------------------------------
TESTER COMMENTS
------------------------------
Additional comments from tester:
this report is from an automated smoke testing program
and was not reviewed by a human for accuracy
------------------------------
PROGRAM OUTPUT
------------------------------
Output from '/usr/bin/make test':
PERL_DL_NONLAZY=1 "/opt/perl5/bin/perl" "-MExtUtils::Command::MM" "-MTest::Harness" "-e" "undef *Test::Harness::Switches; test_harness(0, 'blib/lib', 'blib/arch')" t/*.t
t/00-compile.t ............ ok
# Using Perl /opt/perl5/bin/perl
#
# This is perl 5, version 26, subversion 1 (v5.26.1) built for x86_64-linux
#
# Copyright 1987-2017, Larry Wall
#
# Perl may be copied only under the terms of either the Artistic License or the
# GNU General Public License, which may be found in the Perl 5 source kit.
#
# Complete documentation for Perl, including FAQ lists, should be found on
# this system using "man perl" or "perldoc perl". If you have access to the
# Internet, point your browser at http://www.perl.org/, the Perl Home Page.
#
t/01-event.t .............. ok
# Using Perl /opt/perl5/bin/perl
#
# This is perl 5, version 26, subversion 1 (v5.26.1) built for x86_64-linux
#
# Copyright 1987-2017, Larry Wall
#
# Perl may be copied only under the terms of either the Artistic License or the
# GNU General Public License, which may be found in the Perl 5 source kit.
#
# Complete documentation for Perl, including FAQ lists, should be found on
# this system using "man perl" or "perldoc perl". If you have access to the
# Internet, point your browser at http://www.perl.org/, the Perl Home Page.
#
t/02-postback.t ........... ok
t/release-pod-coverage.t .. skipped: these tests are for release candidate testing
t/release-pod-syntax.t .... skipped: these tests are for release candidate testing
All tests successful.
Files=5, Tests=17, 2 wallclock secs ( 0.08 usr 0.02 sys + 1.92 cusr 0.23 csys = 2.25 CPU)
Result: PASS
------------------------------
PREREQUISITES
------------------------------
Prerequisite modules loaded:
requires:
Module Need Have
------------------- ----- --------
IPC::Cmd 0 0.98
POE 1.293 1.367
POE::Wheel::Run 0 1.367
build_requires:
Module Need Have
------------------- ----- --------
File::Spec 0 3.67
IO::Handle 0 1.36
IPC::Open3 0 1.20
Test::More 0 1.302120
configure_requires:
Module Need Have
------------------- ----- --------
ExtUtils::MakeMaker 6.30 7.30
------------------------------
ENVIRONMENT AND OTHER CONTEXT
------------------------------
Environment variables:
AUTOMATED_TESTING = 1
NONINTERACTIVE_TESTING = 1
PATH = /opt/perl5/bin:/usr/local/sbin:/usr/local/bin:/usr/sbin:/usr/bin:/sbin:/bin
PERL5LIB =
PERL5OPT =
PERL5_CPANPLUS_IS_RUNNING = 31275
PERL5_CPAN_IS_RUNNING = 31275
PERL_MM_USE_DEFAULT = 1
PERL_USE_UNSAFE_INC = 1
TERM = xterm
Perl special variables (and OS-specific diagnostics, for MSWin32):
$^X = /opt/perl5/bin/perl
$UID/$EUID = 0 / 0
$GID = 0 0 1 2 3 4 6 10 11 26 27
$EGID = 0 0 1 2 3 4 6 10 11 26 27
Perl module toolchain versions installed:
Module Have
------------------- ----------
CPAN 2.18
CPAN::Meta 2.150010
Cwd 3.67
ExtUtils::CBuilder 0.280230
ExtUtils::Command 7.30
ExtUtils::Install 2.06
ExtUtils::MakeMaker 7.30
ExtUtils::Manifest 1.70
ExtUtils::ParseXS 3.34
File::Spec 3.67
JSON 2.97001
JSON::PP 2.27400_02
Module::Build 0.4224
Module::Signature n/a
Parse::CPAN::Meta 2.150010
Test::Harness 3.39
Test::More 1.302120
YAML 1.24
YAML::Syck 1.30
version 0.9917
--
Summary of my perl5 (revision 5 version 26 subversion 1) configuration:
Platform:
osname=linux
osvers=4.13.13-aufs.ae
archname=x86_64-linux
uname='linux a4dfd00fb8e0 4.13.13-aufs.ae #2 smp wed jan 10 12:37:30 cst 2018 x86_64 amd opteron(tm) processor 6172 authenticamd gnulinux '
config_args='-de -Dprefix=/opt/perl5 -Dman1dir=none -Dman3dir=none -Doptimize=-O2 -pipe -march=native'
hint=recommended
useposix=true
d_sigaction=define
useithreads=undef
usemultiplicity=undef
use64bitint=define
use64bitall=define
uselongdouble=undef
usemymalloc=n
default_inc_excludes_dot=define
bincompat5005=undef
Compiler:
cc='cc'
ccflags ='-fwrapv -fno-strict-aliasing -pipe -fstack-protector-strong -D_LARGEFILE_SOURCE -D_FILE_OFFSET_BITS=64'
optimize='-O2 -pipe -march=native'
cppflags='-fwrapv -fno-strict-aliasing -pipe -fstack-protector-strong'
ccversion=''
gccversion='5.4.0'
gccosandvers=''
intsize=4
longsize=8
ptrsize=8
doublesize=8
byteorder=12345678
doublekind=3
d_longlong=define
longlongsize=8
d_longdbl=define
longdblsize=16
longdblkind=3
ivtype='long'
ivsize=8
nvtype='double'
nvsize=8
Off_t='off_t'
lseeksize=8
alignbytes=8
prototype=define
Linker and Libraries:
ld='cc'
ldflags =' -fstack-protector-strong -L/usr/local/lib'
libpth=/usr/lib/gcc/x86_64-pc-linux-gnu/5.4.0/include-fixed /usr/lib /usr/local/lib /lib/../lib64 /usr/lib/../lib64 /lib /lib64 /usr/lib64 /usr/local/lib64
libs=-lpthread -lnsl -lgdbm -ldb -ldl -lm -lcrypt -lutil -lc -lgdbm_compat
perllibs=-lpthread -lnsl -ldl -lm -lcrypt -lutil -lc
libc=libc-2.23.so
so=so
useshrplib=false
libperl=libperl.a
gnulibc_version='2.23'
Dynamic Linking:
dlsrc=dl_dlopen.xs
dlext=so
d_dlsymun=undef
ccdlflags='-Wl,-E'
cccdlflags='-fPIC'
lddlflags='-shared -O2 -pipe -march=native -L/usr/local/lib -fstack-protector-strong'
Characteristics of this binary (from libperl):
Compile-time options:
HAS_TIMES
PERLIO_LAYERS
PERL_COPY_ON_WRITE
PERL_DONT_CREATE_GVSV
PERL_MALLOC_WRAP
PERL_OP_PARENT
PERL_PRESERVE_IVUV
USE_64_BIT_ALL
USE_64_BIT_INT
USE_LARGE_FILES
USE_LOCALE
USE_LOCALE_COLLATE
USE_LOCALE_CTYPE
USE_LOCALE_NUMERIC
USE_LOCALE_TIME
USE_PERLIO
USE_PERL_ATOF
Built under linux
Compiled at Feb 2 2018 08:52:59
%ENV:
PERL5LIB=""
PERL5OPT=""
PERL5_CPANPLUS_IS_RUNNING="31275"
PERL5_CPAN_IS_RUNNING="31275"
PERL_MM_USE_DEFAULT="1"
PERL_USE_UNSAFE_INC="1"
@INC:
/opt/perl5/lib/site_perl/5.26.1/x86_64-linux
/opt/perl5/lib/site_perl/5.26.1
/opt/perl5/lib/5.26.1/x86_64-linux
/opt/perl5/lib/5.26.1
.