SMS-Send-Mocean v0.03 Perl 5 v5.20.0 x86_64-linux

Status
Pass
From
Slaven Rezić (SREZIC)
Dist
SMS-Send-Mocean v0.03
Platform
Perl 5 v5.20.0 x86_64-linux
Date
2019-05-23 11:10:46
ID
6a10cd2c-7d4b-11e9-bc36-be471f24ea8f
This distribution has been tested as part of the CPAN Testers
project, supporting the Perl programming language.  See
http://wiki.cpantesters.org/ for more information or email
questions to cpan-testers-discuss@perl.org


--
Dear Kian Meng, Ang,

This is a computer-generated report for SMS-Send-Mocean-0.03
on perl 5.20.0, created by CPAN-Reporter-1.2018.

Thank you for uploading your work to CPAN.  Congratulations!
All tests were successful.

Sections of this report:

    * Tester comments
    * Program output
    * Prerequisites
    * Environment and other context

------------------------------
TESTER COMMENTS
------------------------------

Additional comments from tester:

none provided

------------------------------
PROGRAM OUTPUT
------------------------------

Output from './Build test':

t/00-compile.t ............... ok
# Testing with Perl 5.020000, /opt/perl-5.20.0/bin/perl
#     Carp::Always version is 0.13
#     File::Spec version is 3.62
#     HTTP::Request::Common version is 6.11
#     IO::Handle version is 1.35
#     IPC::Open3 version is 1.16
#     JSON version is 2.90
#     LWP::UserAgent version is 6.15
#     Module::Build::Tiny version is 0.039
#     Pod::Coverage::TrustPod version is 0.100003
#     SMS::Send::Driver version is 0.06
#     Test::CPAN::Meta version is 0.25
#     Test::DistManifest version is 1.014
#     Test::Exception version is 0.43
#     Test::HasVersion version is 0.014
#     Test::More version is 1.302056
#     Test::Perl::Critic version is 1.03
#     Test::UseAllModules version is 0.17
#     Test::Warn version is 0.30
#     URL::Encode version is 0.03
#     XML::Hash::LX version is 0.0603
t/000-report-versions.t ...... ok
t/00_load.t .................. ok
t/01_instantiation.t ......... ok
t/02_required.t .............. ok
t/03_to_mocean_field_name.t .. ok
t/04_send_sms_success.t ...... skipped: $ENV for MOCEAN_XXX not set, skipping live tests
t/05_send_sms_errors.t ....... skipped: $ENV for MOCEAN_XXX not set, skipping live tests
t/author-critic.t ............ skipped: these tests are for testing by the author
t/author-eol.t ............... skipped: these tests are for testing by the author
t/author-minimum-version.t ... skipped: these tests are for testing by the author
t/author-pod-coverage.t ...... skipped: these tests are for testing by the author
t/author-pod-syntax.t ........ skipped: these tests are for testing by the author
t/release-distmeta.t ......... skipped: these tests are for release candidate testing
t/release-has-version.t ...... skipped: these tests are for release candidate testing
t/release-kwalitee.t ......... skipped: these tests are for release candidate testing
t/release-unused-vars.t ...... skipped: these tests are for release candidate testing
All tests successful.
Files=17, Tests=30,  1 wallclock secs ( 0.03 usr  0.02 sys +  0.75 cusr  0.14 csys =  0.94 CPU)
Result: PASS

------------------------------
PREREQUISITES
------------------------------

Prerequisite modules loaded:

requires:

    Module                  Need     Have    
    ----------------------- -------- --------
    Carp::Always            0        0.13    
    HTTP::Request::Common   0        6.11    
    JSON                    0        2.90    
    LWP::UserAgent          0        6.15    
    perl                    5.008005 5.020000
    SMS::Send::Driver       0        0.06    
    URL::Encode             0        0.03    
    XML::Hash::LX           0        0.0603  

build_requires:

    Module                  Need     Have    
    ----------------------- -------- --------
    File::Spec              0        3.62    
    IO::Handle              0        1.35    
    IPC::Open3              0        1.16    
    Pod::Coverage::TrustPod 0        0.100003
    Test::CPAN::Meta        0        0.25    
    Test::DistManifest      0        1.014   
    Test::Exception         0        0.43    
    Test::HasVersion        0        0.014   
    Test::Kwalitee          0        1.22    
    Test::More              0        1.302056
    Test::Perl::Critic      0        1.03    
    Test::Pod::Coverage     0        1.10    
    Test::UseAllModules     0        0.17    
    Test::Warn              0        0.30    

configure_requires:

    Module                  Need     Have    
    ----------------------- -------- --------
    Module::Build::Tiny     0.034    0.039   


------------------------------
ENVIRONMENT AND OTHER CONTEXT
------------------------------

Environment variables:

    LANG = en_US.UTF-8
    LANGUAGE = en_US:en
    LC_ALL = en_US.UTF-8
    PATH = /usr/local/bin:/usr/bin:/bin:/usr/local/sbin:/usr/sbin:/sbin:/home/cpansand/bin/linux-gnu:/home/cpansand/bin/sh:/home/cpansand/bin:/usr/games:/home/cpansand/devel:/home/eserte/src/srezic-misc/scripts
    PERL5LIB = 
    PERL5OPT = 
    PERL5_CPANPLUS_IS_RUNNING = 27463
    PERL5_CPAN_IS_RUNNING = 27463
    PERL5_CPAN_IS_RUNNING_IN_RECURSION = 27349,27463
    PERLDOC = -MPod::Perldoc::ToTextOverstrike
    PERL_BATCH = yes
    PERL_CANARY_STABILITY_NOPROMPT = 1
    PERL_CPAN_REPORTER_CONFIG = /var/tmp/cpansmoker-1023/2019052313/cpanreporter_000_config.ini
    PERL_EXTUTILS_AUTOINSTALL = --defaultdeps
    PERL_USE_UNSAFE_INC = 1
    SHELL = /bin/zsh
    TERM = screen
    TMPDIR = /var/tmp/cpansmoker-1023/2019052313

Perl special variables (and OS-specific diagnostics, for MSWin32):

    $^X = /opt/perl-5.20.0/bin/perl
    $UID/$EUID = 1023 / 1023
    $GID = 1023 1023
    $EGID = 1023 1023

Perl module toolchain versions installed:

    Module              Have    
    ------------------- --------
    CPAN                2.16    
    CPAN::Meta          2.150010
    Cwd                 3.62    
    ExtUtils::CBuilder  0.280216
    ExtUtils::Command   7.24    
    ExtUtils::Install   1.67    
    ExtUtils::MakeMaker 7.24    
    ExtUtils::Manifest  1.70    
    ExtUtils::ParseXS   3.24    
    File::Spec          3.62    
    JSON                2.90    
    JSON::PP            2.27400 
    Module::Build       0.4220  
    Module::Signature   0.81    
    Parse::CPAN::Meta   2.150010
    Test::Harness       3.30    
    Test::More          1.302056
    YAML                1.17    
    YAML::Syck          1.29    
    version             0.9917  


--

Summary of my perl5 (revision 5 version 20 subversion 0) configuration:
   
  Platform:
    osname=linux, osvers=3.2.0-4-amd64, archname=x86_64-linux
    uname='linux cvrsnica-wheezy 3.2.0-4-amd64 #1 smp debian 3.2.54-2 x86_64 gnulinux '
    config_args='-ds -e -Dprefix=/opt/perl-5.20.0'
    hint=recommended, useposix=true, d_sigaction=define
    useithreads=undef, usemultiplicity=undef
    use64bitint=define, use64bitall=define, uselongdouble=undef
    usemymalloc=n, bincompat5005=undef
  Compiler:
    cc='cc', ccflags ='-fwrapv -fno-strict-aliasing -pipe -fstack-protector -I/usr/local/include -D_LARGEFILE_SOURCE -D_FILE_OFFSET_BITS=64',
    optimize='-O2',
    cppflags='-fwrapv -fno-strict-aliasing -pipe -fstack-protector -I/usr/local/include'
    ccversion='', gccversion='4.7.2', gccosandvers=''
    intsize=4, longsize=8, ptrsize=8, doublesize=8, byteorder=12345678
    d_longlong=define, longlongsize=8, d_longdbl=define, longdblsize=16
    ivtype='long', ivsize=8, nvtype='double', nvsize=8, Off_t='off_t', lseeksize=8
    alignbytes=8, prototype=define
  Linker and Libraries:
    ld='cc', ldflags =' -fstack-protector -L/usr/local/lib'
    libpth=/usr/local/lib /usr/lib/gcc/x86_64-linux-gnu/4.7/include-fixed /usr/include/x86_64-linux-gnu /usr/lib /lib/x86_64-linux-gnu /lib/../lib /usr/lib/x86_64-linux-gnu /usr/lib/../lib /lib
    libs=-lnsl -ldb -ldl -lm -lcrypt -lutil -lc
    perllibs=-lnsl -ldl -lm -lcrypt -lutil -lc
    libc=libc-2.13.so, so=so, useshrplib=false, libperl=libperl.a
    gnulibc_version='2.13'
  Dynamic Linking:
    dlsrc=dl_dlopen.xs, dlext=so, d_dlsymun=undef, ccdlflags='-Wl,-E'
    cccdlflags='-fPIC', lddlflags='-shared -O2 -L/usr/local/lib -fstack-protector'


Characteristics of this binary (from libperl): 
  Compile-time options: HAS_TIMES PERLIO_LAYERS PERL_DONT_CREATE_GVSV
                        PERL_HASH_FUNC_ONE_AT_A_TIME_HARD PERL_MALLOC_WRAP
                        PERL_NEW_COPY_ON_WRITE PERL_PRESERVE_IVUV
                        USE_64_BIT_ALL USE_64_BIT_INT USE_LARGE_FILES
                        USE_LOCALE USE_LOCALE_COLLATE USE_LOCALE_CTYPE
                        USE_LOCALE_NUMERIC USE_PERLIO USE_PERL_ATOF
  Built under linux
  Compiled at Jul 19 2014 07:43:18
  %ENV:
    PERL5LIB=""
    PERL5OPT=""
    PERL5_CPANPLUS_IS_RUNNING="27463"
    PERL5_CPAN_IS_RUNNING="27463"
    PERL5_CPAN_IS_RUNNING_IN_RECURSION="27349,27463"
    PERLDOC="-MPod::Perldoc::ToTextOverstrike"
    PERL_BATCH="yes"
    PERL_CANARY_STABILITY_NOPROMPT="1"
    PERL_CPAN_REPORTER_CONFIG="/var/tmp/cpansmoker-1023/2019052313/cpanreporter_000_config.ini"
    PERL_EXTUTILS_AUTOINSTALL="--defaultdeps"
    PERL_USE_UNSAFE_INC="1"
  @INC:
    /opt/perl-5.20.0/lib/site_perl/5.20.0/x86_64-linux
    /opt/perl-5.20.0/lib/site_perl/5.20.0
    /opt/perl-5.20.0/lib/5.20.0/x86_64-linux
    /opt/perl-5.20.0/lib/5.20.0
    .