Report for Thread-Queue-3.02

Back
From: metabase:user:e86b44a8-d3a7-11e2-b140-ba9639c6571a
Subject: PASS Thread-Queue-3.02 v5.16.1 GNU/Linux
Date: 2013-06-17T22:22:37Z

This distribution has been tested as part of the CPAN Testers
project, supporting the Perl programming language.  See
http://wiki.cpantesters.org/ for more information or email
questions to cpan-testers-discuss@perl.org


--
Dear Jerry D. Hedden,

This is a computer-generated report for Thread-Queue-3.02
on perl 5.16.1, created by CPAN-Reporter-1.2010.

Thank you for uploading your work to CPAN.  Congratulations!
All tests were successful.

Sections of this report:

    * Tester comments
    * Program output
    * Prerequisites
    * Environment and other context

------------------------------
TESTER COMMENTS
------------------------------

Additional comments from tester:

none provided

------------------------------
PROGRAM OUTPUT
------------------------------

Output from '/usr/bin/make test':

PERL_DL_NONLAZY=1 /opt/perl-5.16.1/bin/perl "-MExtUtils::Command::MM" "-e" "test_harness(0, 'blib/lib', 'blib/arch')" t/*.t
# Testing Thread::Queue 3.02
t/00_load.t ....... ok
t/01_basic.t ...... ok
t/02_refs.t ....... ok
t/03_peek.t ....... ok
t/04_errs.t ....... ok
t/05_extract.t .... ok
t/06_insert.t ..... ok
t/07_lock.t ....... ok
t/08_nothreads.t .. ok
t/09_ended.t ...... ok
t/10_timed.t ...... ok
t/99_pod.t ........ skipped: Module maintainer tests
All tests successful.
Files=12, Tests=323, 22 wallclock secs ( 0.10 usr  0.02 sys +  0.62 cusr  0.10 csys =  0.84 CPU)
Result: PASS

------------------------------
PREREQUISITES
------------------------------

Prerequisite modules loaded:

requires:

    Module              Need Have
    ------------------- ---- ----
    Scalar::Util        1.1  1.27
    Test::More          0.5  0.98
    Thread::Semaphore   0    2.12
    threads::shared     1.21 1.40

build_requires:

    Module              Need Have
    ------------------- ---- ----
    ExtUtils::MakeMaker 0    6.68

configure_requires:

    Module              Need Have
    ------------------- ---- ----
    ExtUtils::MakeMaker 0    6.68


------------------------------
ENVIRONMENT AND OTHER CONTEXT
------------------------------

Environment variables:

    LANG = en_US.UTF-8
    LC_ADDRESS = en_US.UTF-8
    LC_IDENTIFICATION = en_US.UTF-8
    LC_MEASUREMENT = en_US.UTF-8
    LC_MONETARY = en_US.UTF-8
    LC_NAME = en_US.UTF-8
    LC_NUMERIC = en_US.UTF-8
    LC_PAPER = en_US.UTF-8
    LC_TELEPHONE = en_US.UTF-8
    LC_TIME = en_US.UTF-8
    PATH = /home/netdisco2/bin:/home/netdisco2/perl5/bin:/opt/perl-5.16.1/bin:/usr/kerberos/bin:/usr/local/bin:/bin:/usr/bin:/opt/dell/srvadmin/bin
    PERL5LIB = /home/netdisco2/perl5/lib/perl5
    PERL5OPT = 
    PERL5_CPANPLUS_IS_RUNNING = 22736
    PERL5_CPAN_IS_RUNNING = 22736
    PERL_LOCAL_LIB_ROOT = /home/netdisco2/perl5
    PERL_MB_OPT = --install_base /home/netdisco2/perl5
    PERL_MM_OPT = INSTALL_BASE=/home/netdisco2/perl5
    SHELL = /bin/bash
    TERM = xterm-256color

Perl special variables (and OS-specific diagnostics, for MSWin32):

    $^X = /opt/perl-5.16.1/bin/perl
    $UID/$EUID = 6930 / 6930
    $GID = 6930 6930
    $EGID = 6930 6930

Perl module toolchain versions installed:

    Module              Have    
    ------------------- --------
    CPAN                2.00    
    CPAN::Meta          2.131560
    Cwd                 3.40    
    ExtUtils::CBuilder  0.280206
    ExtUtils::Command   1.17    
    ExtUtils::Install   1.58    
    ExtUtils::MakeMaker 6.68    
    ExtUtils::Manifest  1.61    
    ExtUtils::ParseXS   3.18    
    File::Spec          3.40    
    JSON                2.59    
    JSON::PP            2.27202 
    Module::Build       0.4005  
    Module::Signature   0.73    
    Parse::CPAN::Meta   1.4404  
    Test::Harness       3.28    
    Test::More          0.98    
    YAML                0.84    
    YAML::Syck          1.27    
    version             0.9902  


--

Summary of my perl5 (revision 5 version 16 subversion 1) configuration:
   
  Platform:
    osname=linux, osvers=2.6.18-308.16.1.el5, archname=x86_64-linux-thread-multi
    uname='linux etl2.hdp.tripadvisor.com 2.6.18-308.16.1.el5 #1 smp tue oct 2 22:01:43 edt 2012 x86_64 x86_64 x86_64 gnulinux '
    config_args='-des -Doptimize=-O2 -g -pipe -Wall -Wp,-D_FORTIFY_SOURCE=2 -fexceptions -fstack-protector --param=ssp-buffer-size=4 -m64 -mtune=generic -DDEBUGGING=-g -Dcc=gcc -Dcf_by=sscaffidi@tripadvisor.com -Dprefix=/opt/perl-5.16.1 -Dlibpth=/usr/local/lib64 /lib64 /usr/lib64 -Duseshrplib=false -Duserelocatableinc=true -Dusethreads -Duseithreads -Duselargefiles -Dd_semctl_semun -Di_db -Ui_ndbm -Di_gdbm -Di_shadow -Di_syslog -Duseperlio -Dinstallusrbinperl=n -Ubincompat5005 -Uversiononly -Dd_gethostent_r_proto -Ud_endhostent_r_proto -Ud_sethostent_r_proto -Ud_endprotoent_r_proto -Ud_setprotoent_r_proto -Ud_endservent_r_proto -Ud_setservent_r_proto -Dusesitecustomize'
    hint=recommended, useposix=true, d_sigaction=define
    useithreads=define, usemultiplicity=define
    useperlio=define, d_sfio=undef, uselargefiles=define, usesocks=undef
    use64bitint=define, use64bitall=define, uselongdouble=undef
    usemymalloc=n, bincompat5005=undef
  Compiler:
    cc='gcc', ccflags ='-D_REENTRANT -D_GNU_SOURCE -fno-strict-aliasing -pipe -fstack-protector -I/usr/local/include -D_LARGEFILE_SOURCE -D_FILE_OFFSET_BITS=64',
    optimize='-O2 -g -pipe -Wall -Wp,-D_FORTIFY_SOURCE=2 -fexceptions -fstack-protector --param=ssp-buffer-size=4 -m64 -mtune=generic',
    cppflags='-D_REENTRANT -D_GNU_SOURCE -fno-strict-aliasing -pipe -fstack-protector -I/usr/local/include'
    ccversion='', gccversion='4.1.2 20080704 (Red Hat 4.1.2-54)', gccosandvers=''
    intsize=4, longsize=8, ptrsize=8, doublesize=8, byteorder=12345678
    d_longlong=define, longlongsize=8, d_longdbl=define, longdblsize=16
    ivtype='long', ivsize=8, nvtype='double', nvsize=8, Off_t='off_t', lseeksize=8
    alignbytes=8, prototype=define
  Linker and Libraries:
    ld='gcc', ldflags =' -fstack-protector'
    libpth=/usr/local/lib64 /lib64 /usr/lib64
    libs=-lnsl -lgdbm -ldb -ldl -lm -lcrypt -lutil -lpthread -lc
    perllibs=-lnsl -ldl -lm -lcrypt -lutil -lpthread -lc
    libc=/lib/libc-2.5.so, so=so, useshrplib=false, libperl=libperl.a
    gnulibc_version='2.5'
  Dynamic Linking:
    dlsrc=dl_dlopen.xs, dlext=so, d_dlsymun=undef, ccdlflags='-Wl,-E'
    cccdlflags='-fPIC', lddlflags='-shared -O2 -g -pipe -Wall -Wp,-D_FORTIFY_SOURCE=2 -fexceptions -fstack-protector --param=ssp-buffer-size=4 -m64 -mtune=generic'


Characteristics of this binary (from libperl): 
  Compile-time options: HAS_TIMES MULTIPLICITY PERLIO_LAYERS
                        PERL_DONT_CREATE_GVSV PERL_IMPLICIT_CONTEXT
                        PERL_MALLOC_WRAP PERL_PRESERVE_IVUV USE_64_BIT_ALL
                        USE_64_BIT_INT USE_ITHREADS USE_LARGE_FILES
                        USE_LOCALE USE_LOCALE_COLLATE USE_LOCALE_CTYPE
                        USE_LOCALE_NUMERIC USE_PERLIO USE_PERL_ATOF
                        USE_REENTRANT_API USE_SITECUSTOMIZE
  Built under linux
  Compiled at Jun 15 2013 11:58:15
  %ENV:
    PERL5LIB="/home/netdisco2/perl5/lib/perl5"
    PERL5OPT=""
    PERL5_CPANPLUS_IS_RUNNING="22736"
    PERL5_CPAN_IS_RUNNING="22736"
    PERL_LOCAL_LIB_ROOT="/home/netdisco2/perl5"
    PERL_MB_OPT="--install_base /home/netdisco2/perl5"
    PERL_MM_OPT="INSTALL_BASE=/home/netdisco2/perl5"
  @INC:
    /home/netdisco2/perl5/lib/perl5/x86_64-linux-thread-multi
    /home/netdisco2/perl5/lib/perl5
    /opt/perl-5.16.1/lib/site_perl/5.16.1/x86_64-linux-thread-multi
    /opt/perl-5.16.1/lib/site_perl/5.16.1
    /opt/perl-5.16.1/lib/5.16.1/x86_64-linux-thread-multi
    /opt/perl-5.16.1/lib/5.16.1
    .