Report for Data-Edit-Struct-0.01-TRIAL

Back
From: metabase:user:31d414ea-2aae-11df-837a-5e0a49663a4f
Subject: PASS Data-Edit-Struct-0.01-TRIAL v5.24.0 GNU/Linux
Date: 2017-04-11T12:50:18Z

This distribution has been tested as part of the CPAN Testers
project, supporting the Perl programming language.  See
http://wiki.cpantesters.org/ for more information or email
questions to cpan-testers-discuss@perl.org


--
Dear Diab Jerius,

This is a computer-generated report for Data-Edit-Struct-0.01-TRIAL
on perl 5.24.0, created by CPAN-Reporter-1.2018.

Thank you for uploading your work to CPAN.  Congratulations!
All tests were successful.

Sections of this report:

    * Tester comments
    * Program output
    * Prerequisites
    * Environment and other context

------------------------------
TESTER COMMENTS
------------------------------

Additional comments from tester:

this report is from an automated smoke testing program
and was not reviewed by a human for accuracy

------------------------------
PROGRAM OUTPUT
------------------------------

Output from '/usr/bin/make test':

PERL_DL_NONLAZY=1 "/home/david/cpantesting/perl-5.24.0/bin/perl" "-MExtUtils::Command::MM" "-MTest::Harness" "-e" "undef *Test::Harness::Switches; test_harness(0, 'blib/lib', 'blib/arch')" t/*.t
t/00-compile.t ......... ok
# 
# Versions for all modules listed in MYMETA.json (including optional ones):
# 
# === Configure Requires ===
# 
#     Module              Want    Have
#     ------------------- ---- -------
#     ExtUtils::MakeMaker  any 7.10_01
# 
# === Build Requires ===
# 
#     Module              Want    Have
#     ------------------- ---- -------
#     ExtUtils::MakeMaker  any 7.10_01
# 
# === Test Requires ===
# 
#     Module                  Want     Have
#     ----------------------- ---- --------
#     ExtUtils::MakeMaker      any  7.10_01
#     File::Spec               any     3.63
#     IO::Handle               any     1.36
#     IPC::Open3               any     1.20
#     Test2::API               any 1.302078
#     Test2::Bundle::Extended  any 0.000070
#     Test2::Tools::Explain    any     0.02
#     Test::More               any 1.302078
#     blib                    1.01     1.06
# 
# === Test Recommends ===
# 
#     Module         Want     Have
#     ---------- -------- --------
#     CPAN::Meta 2.120900 2.150005
# 
# === Runtime Requires ===
# 
#     Module                     Want     Have
#     -------------------------- ---- --------
#     Carp                        any     1.40
#     Data::DPath                0.56     0.56
#     Exporter                    any     5.72
#     List::Util                  any     1.47
#     Params::ValidationCompiler  any     0.24
#     Ref::Util                   any    0.113
#     Safe::Isa                   any 1.000006
#     Scalar::Util                any     1.47
#     Storable                    any     2.56
#     Type::Library               any 1.000006
#     Type::Utils                 any 1.000006
#     Types::Standard             any 1.000006
#     custom::failures            any    0.004
#     experimental                any    0.016
#     failures                    any    0.004
#     strict                      any     1.11
#     warnings                    any     1.36
# 
t/00-report-prereqs.t .. ok
t/blessed.t ............ ok
t/clone.t .............. ok
t/delete.t ............. ok
t/edit.t ............... ok
t/insert.t ............. ok
t/pop.t ................ ok
t/replace.t ............ ok
t/shift.t .............. ok
t/splice.t ............. ok
t/sxfrm.t .............. ok
All tests successful.
Files=12, Tests=38,  7 wallclock secs ( 0.04 usr  0.05 sys +  1.89 cusr  0.27 csys =  2.25 CPU)
Result: PASS

------------------------------
PREREQUISITES
------------------------------

Prerequisite modules loaded:

requires:

    Module                     Need  Have    
    -------------------------- ----- --------
    Carp                       0     1.40    
    custom::failures           0     0.004   
    Data::DPath                0.56  0.56    
    experimental               0     0.016   
    Exporter                   0     5.72    
    failures                   0     0.004   
    List::Util                 0     1.47    
    Params::ValidationCompiler 0     0.24    
    perl                       5.020 5.024000
    Ref::Util                  0     0.113   
    Safe::Isa                  0     1.000006
    Scalar::Util               0     1.47    
    Storable                   0     2.56    
    strict                     0     1.11    
    Type::Library              0     1.000006
    Type::Utils                0     1.000006
    Types::Standard            0     1.000006
    warnings                   0     1.36    

build_requires:

    Module                     Need  Have    
    -------------------------- ----- --------
    blib                       1.01  1.06    
    ExtUtils::MakeMaker        0     7.10_01 
    File::Spec                 0     3.63    
    IO::Handle                 0     1.36    
    IPC::Open3                 0     1.20    
    Test2::API                 0     1.302078
    Test2::Bundle::Extended    0     0.000070
    Test2::Tools::Explain      0     0.02    
    Test::More                 0     1.302078

configure_requires:

    Module                     Need  Have    
    -------------------------- ----- --------
    ExtUtils::MakeMaker        0     7.10_01 


------------------------------
ENVIRONMENT AND OTHER CONTEXT
------------------------------

Environment variables:

    AUTOMATED_TESTING = 1
    NONINTERACTIVE_TESTING = 1
    PATH = /usr/local/bin:/usr/bin:/bin:/usr/local/games:/usr/games
    PERL = 5.24.0
    PERL5LIB = 
    PERL5OPT = 
    PERL5_CPANPLUS_IS_RUNNING = 22550
    PERL5_CPAN_IS_RUNNING = 22550
    PERLVER = 5.24.0
    PERL_INLINE_DIRECTORY = /home/david/.Inline-5.24.0
    PERL_MM_USE_DEFAULT = 1
    SHELL = /bin/bash
    TERM = screen

Perl special variables (and OS-specific diagnostics, for MSWin32):

    $^X = /home/david/cpantesting/perl-5.24.0/bin/perl
    $UID/$EUID = 1000 / 1000
    $GID = 1000 1000
    $EGID = 1000 1000

Perl module toolchain versions installed:

    Module              Have    
    ------------------- --------
    CPAN                2.11    
    CPAN::Meta          2.150005
    Cwd                 3.63    
    ExtUtils::CBuilder  0.280225
    ExtUtils::Command   7.10    
    ExtUtils::Install   2.04    
    ExtUtils::MakeMaker 7.10_01 
    ExtUtils::Manifest  1.70    
    ExtUtils::ParseXS   3.31    
    File::Spec          3.63    
    JSON                2.90    
    JSON::PP            2.27300 
    Module::Build       0.4222  
    Module::Signature   n/a     
    Parse::CPAN::Meta   1.4417  
    Test::Harness       3.36    
    Test::More          1.302078
    YAML                1.18    
    YAML::Syck          1.29    
    version             0.9916  


--

Summary of my perl5 (revision 5 version 24 subversion 0) configuration:
   
  Platform:
    osname=linux, osvers=3.16.0-4-amd64, archname=x86_64-linux-thread-multi
    uname='linux pigsty.barnyard.co.uk 3.16.0-4-amd64 #1 smp debian 3.16.36-1+deb8u1 (2016-09-03) x86_64 gnulinux '
    config_args='-de -Duse64bitall -Dusethreads -Dprefix=/home/david/cpantesting/perl-5.24.0'
    hint=recommended, useposix=true, d_sigaction=define
    useithreads=define, usemultiplicity=define
    use64bitint=define, use64bitall=define, uselongdouble=undef
    usemymalloc=n, bincompat5005=undef
  Compiler:
    cc='cc', ccflags ='-D_REENTRANT -D_GNU_SOURCE -fwrapv -fno-strict-aliasing -pipe -fstack-protector-strong -I/usr/local/include -D_LARGEFILE_SOURCE -D_FILE_OFFSET_BITS=64 -D_FORTIFY_SOURCE=2',
    optimize='-O2',
    cppflags='-D_REENTRANT -D_GNU_SOURCE -fwrapv -fno-strict-aliasing -pipe -fstack-protector-strong -I/usr/local/include'
    ccversion='', gccversion='4.9.2', gccosandvers=''
    intsize=4, longsize=8, ptrsize=8, doublesize=8, byteorder=12345678, doublekind=3
    d_longlong=define, longlongsize=8, d_longdbl=define, longdblsize=16, longdblkind=3
    ivtype='long', ivsize=8, nvtype='double', nvsize=8, Off_t='off_t', lseeksize=8
    alignbytes=8, prototype=define
  Linker and Libraries:
    ld='cc', ldflags =' -fstack-protector-strong -L/usr/local/lib'
    libpth=/usr/local/lib /usr/lib/gcc/x86_64-linux-gnu/4.9/include-fixed /usr/include/x86_64-linux-gnu /usr/lib /lib/x86_64-linux-gnu /lib/../lib /usr/lib/x86_64-linux-gnu /usr/lib/../lib /lib
    libs=-lpthread -lnsl -ldb -ldl -lm -lcrypt -lutil -lc
    perllibs=-lpthread -lnsl -ldl -lm -lcrypt -lutil -lc
    libc=libc-2.19.so, so=so, useshrplib=false, libperl=libperl.a
    gnulibc_version='2.19'
  Dynamic Linking:
    dlsrc=dl_dlopen.xs, dlext=so, d_dlsymun=undef, ccdlflags='-Wl,-E'
    cccdlflags='-fPIC', lddlflags='-shared -O2 -L/usr/local/lib -fstack-protector-strong'


Characteristics of this binary (from libperl): 
  Compile-time options: HAS_TIMES MULTIPLICITY PERLIO_LAYERS
                        PERL_COPY_ON_WRITE PERL_DONT_CREATE_GVSV
                        PERL_HASH_FUNC_ONE_AT_A_TIME_HARD
                        PERL_IMPLICIT_CONTEXT PERL_MALLOC_WRAP
                        PERL_PRESERVE_IVUV USE_64_BIT_ALL USE_64_BIT_INT
                        USE_ITHREADS USE_LARGE_FILES USE_LOCALE
                        USE_LOCALE_COLLATE USE_LOCALE_CTYPE
                        USE_LOCALE_NUMERIC USE_LOCALE_TIME USE_PERLIO
                        USE_PERL_ATOF USE_REENTRANT_API
  Locally applied patches:
	Devel::PatchPerl 1.44
  Built under linux
  Compiled at Oct 12 2016 16:54:26
  %ENV:
    PERL="5.24.0"
    PERL5LIB=""
    PERL5OPT=""
    PERL5_CPANPLUS_IS_RUNNING="22550"
    PERL5_CPAN_IS_RUNNING="22550"
    PERLVER="5.24.0"
    PERL_INLINE_DIRECTORY="/home/david/.Inline-5.24.0"
    PERL_MM_USE_DEFAULT="1"
  @INC:
    /home/david/cpantesting/perl-5.24.0/lib/site_perl/5.24.0/x86_64-linux-thread-multi
    /home/david/cpantesting/perl-5.24.0/lib/site_perl/5.24.0
    /home/david/cpantesting/perl-5.24.0/lib/5.24.0/x86_64-linux-thread-multi
    /home/david/cpantesting/perl-5.24.0/lib/5.24.0
    .