Back
From: metabase:user:d2c9f356-b46f-11df-9a90-20a83c0b7757
Subject: PASS Module-Cloud-1.100861 v5.15.7 SunOS/Solaris
Date: 2012-02-14T00:18:27Z
This distribution has been tested as part of the CPAN Testers
project, supporting the Perl programming language. See
http://wiki.cpantesters.org/ for more information or email
questions to cpan-testers-discuss@perl.org
--
Dear Marcel Gruenauer,
This is a computer-generated report for Module-Cloud-1.100861
on perl 5.15.7, created by CPAN-Reporter-1.2003.
Thank you for uploading your work to CPAN. Congratulations!
All tests were successful.
Sections of this report:
* Tester comments
* Program output
* Prerequisites
* Environment and other context
------------------------------
TESTER COMMENTS
------------------------------
Additional comments from tester:
this report is from an automated smoke testing program
and was not reviewed by a human for accuracy
------------------------------
PROGRAM OUTPUT
------------------------------
Output from '/usr/local/bin/make test':
PERL_DL_NONLAZY=1 /export/home/cpant4/perl5/bin/perl5.15.7 "-MExtUtils::Command::MM" "-e" "test_harness(0, 'blib/lib', 'blib/arch')" t/*.t
defined(@array) is deprecated at /export/home/cpant4/perl5/lib/site_perl/5.15.7/File/MMagic.pm line 1122.
(Maybe you should just omit the defined()?)
t/00-compile.t ............... ok
# Testing with Perl 5.015007, /export/home/cpant4/perl5/bin/perl5.15.7
# Carp version is 1.24
# Class::Accessor::Complex version is 1.100880
# English version is 1.04
# ExtUtils::MakeMaker version is 6.6302
# File::Find version is 1.20
defined(@array) is deprecated at /export/home/cpant4/perl5/lib/site_perl/5.15.7/File/MMagic.pm line 1122.
(Maybe you should just omit the defined()?)
Subroutine main::find redefined at /export/home/cpant4/perl5/lib/site_perl/5.15.7/File/Find/Rule.pm line 19.
# File::Find::Rule::MMagic version is 0.02
# File::Temp version is 0.22
# FindBin version is 1.51
# Getopt::Attribute version is 2.101700
# HTML::TagCloud version is 0.37
# Module::ExtractUse version is 0.24
# Scalar::Util version is 1.23
# Test::More version is 0.98
# parent version is 0.225
t/000-report-versions.t ...... ok
defined(@array) is deprecated at /export/home/cpant4/perl5/lib/site_perl/5.15.7/File/MMagic.pm line 1122.
(Maybe you should just omit the defined()?)
t/01_this_dist_cloud.t ....... ok
t/author-critic.t ............ skipped: these tests are for testing by the author
t/release-check-changes.t .... skipped: these tests are for release candidate testing
t/release-dist-manifest.t .... skipped: these tests are for release candidate testing
t/release-has-version.t ...... skipped: these tests are for release candidate testing
t/release-kwalitee.t ......... skipped: these tests are for release candidate testing
t/release-meta-yaml.t ........ skipped: these tests are for release candidate testing
t/release-minimum-version.t .. skipped: these tests are for release candidate testing
t/release-pod-coverage.t ..... skipped: these tests are for release candidate testing
t/release-pod-spell.t ........ skipped: these tests are for release candidate testing
t/release-pod-syntax.t ....... skipped: these tests are for release candidate testing
t/release-portability.t ...... skipped: these tests are for release candidate testing
t/release-synopsis.t ......... skipped: these tests are for release candidate testing
All tests successful.
Files=15, Tests=21, 2 wallclock secs ( 0.07 usr 0.03 sys + 1.06 cusr 0.11 csys = 1.27 CPU)
Result: PASS
------------------------------
PREREQUISITES
------------------------------
Prerequisite modules loaded:
requires:
Module Need Have
------------------------ ---- --------
Carp 0 1.24
Class::Accessor::Complex 0 1.100880
English 0 1.04
File::Find 0 1.20
File::Find::Rule::MMagic 0 0.02
File::Temp 0 0.22
FindBin 0 1.51
Getopt::Attribute 0 2.101700
HTML::TagCloud 0 0.37
Module::ExtractUse 0 0.24
parent 0 0.225
Scalar::Util 0 1.23
Test::More 0.88 0.98
configure_requires:
Module Need Have
------------------------ ---- --------
ExtUtils::MakeMaker 6.11 6.63_02
------------------------------
ENVIRONMENT AND OTHER CONTEXT
------------------------------
Environment variables:
AUTOMATED_TESTING = 1
LANG = C
LD_LIBRARY_PATH = /usr/local/lib:
PATH = /export/home/cpant4/perl5/bin:/usr/local/bin:/usr/bin
PERL5LIB = /export/home/cpant4/.cpan/build/Getopt-Attribute-2.101700-JYfQ0l/blib/arch:/export/home/cpant4/.cpan/build/Getopt-Attribute-2.101700-JYfQ0l/blib/lib:/export/home/cpant4/.cpan/build/Module-ExtractUse-0.24-sDVTYR/blib/arch:/export/home/cpant4/.cpan/build/Module-ExtractUse-0.24-sDVTYR/blib/lib:/export/home/cpant4/.cpan/build/File-Find-Rule-MMagic-0.02-5v2a0u/blib/arch:/export/home/cpant4/.cpan/build/File-Find-Rule-MMagic-0.02-5v2a0u/blib/lib:/export/home/cpant4/.cpan/build/HTML-TagCloud-0.37-nh8f_M/blib/arch:/export/home/cpant4/.cpan/build/HTML-TagCloud-0.37-nh8f_M/blib/lib:/export/home/cpant4/.cpan/build/Class-Accessor-Complex-1.100880-tAOkpH/blib/arch:/export/home/cpant4/.cpan/build/Class-Accessor-Complex-1.100880-tAOkpH/blib/lib:/export/home/cpant4/.cpan/build/Class-Accessor-Installer-1.100880-NgZ5PX/blib/arch:/export/home/cpant4/.cpan/build/Class-Accessor-Installer-1.100880-NgZ5PX/blib/lib
PERL5OPT =
PERL5_CPANPLUS_IS_RUNNING = 12526
PERL5_CPAN_IS_RUNNING = 12526
PERL5_CPAN_IS_RUNNING_IN_RECURSION = 6272,12526
PERL_CR_SMOKER_CURRENT = Module-Cloud-1.100861
PERL_EXTUTILS_AUTOINSTALL = --defaultdeps
PERL_MM_USE_DEFAULT = 1
SHELL = /bin/bash
TERM = xterm
Perl special variables (and OS-specific diagnostics, for MSWin32):
$^X = /export/home/cpant4/perl5/bin/perl5.15.7
$UID/$EUID = 104 / 104
$GID = 1 1
$EGID = 1 1
Perl module toolchain versions installed:
Module Have
------------------- --------
CPAN 1.9800
CPAN::Meta 2.120351
Cwd 3.39_01
ExtUtils::CBuilder 0.280205
ExtUtils::Command 1.17
ExtUtils::Install 1.57
ExtUtils::MakeMaker 6.63_02
ExtUtils::Manifest 1.61
ExtUtils::ParseXS 3.15
File::Spec 3.39_01
JSON 2.53
JSON::PP 2.27200
Module::Build 0.39_01
Module::Signature n/a
Parse::CPAN::Meta 1.4401
Test::Harness 3.23
Test::More 0.98
YAML 0.78
YAML::Syck 1.19
version 0.95
--
Summary of my perl5 (revision 5 version 15 subversion 7) configuration:
Platform:
osname=solaris, osvers=2.10, archname=i86pc-solaris-64int
uname='sunos vmrz0046 5.10 generic_141445-09 i86pc i386 i86pc solaris '
config_args='-Dcc=gcc -Dprefix=~/perl5 -Duse64bitint -Dusedevel -d'
hint=recommended, useposix=true, d_sigaction=define
useithreads=undef, usemultiplicity=undef
useperlio=define, d_sfio=undef, uselargefiles=define, usesocks=undef
use64bitint=define, use64bitall=undef, uselongdouble=undef
usemymalloc=n, bincompat5005=undef
Compiler:
cc='gcc', ccflags ='-DPTR_IS_LONG -fno-strict-aliasing -pipe -I/usr/local/include -D_LARGEFILE_SOURCE -D_FILE_OFFSET_BITS=64 -DPERL_USE_SAFE_PUTENV',
optimize='-O',
cppflags='-DPTR_IS_LONG -fno-strict-aliasing -pipe -I/usr/local/include'
ccversion='', gccversion='3.4.6', gccosandvers='solaris2.10'
intsize=4, longsize=4, ptrsize=4, doublesize=8, byteorder=12345678
d_longlong=define, longlongsize=8, d_longdbl=define, longdblsize=12
ivtype='long long', ivsize=8, nvtype='double', nvsize=8, Off_t='off_t', lseeksize=8
alignbytes=4, prototype=define
Linker and Libraries:
ld='gcc', ldflags =' -L/usr/local/lib '
libpth=/usr/local/lib /usr/lib /usr/ccs/lib
libs=-lsocket -lnsl -lgdbm -ldl -lm -lc
perllibs=-lsocket -lnsl -ldl -lm -lc
libc=/lib/libc.so, so=so, useshrplib=false, libperl=libperl.a
gnulibc_version=''
Dynamic Linking:
dlsrc=dl_dlopen.xs, dlext=so, d_dlsymun=undef, ccdlflags=' '
cccdlflags='-fPIC', lddlflags='-G -L/usr/local/lib'
Characteristics of this binary (from libperl):
Compile-time options: HAS_TIMES PERLIO_LAYERS PERL_DONT_CREATE_GVSV
PERL_MALLOC_WRAP PERL_PRESERVE_IVUV PERL_USE_DEVEL
PERL_USE_SAFE_PUTENV USE_64_BIT_INT USE_LARGE_FILES
USE_LOCALE USE_LOCALE_COLLATE USE_LOCALE_CTYPE
USE_LOCALE_NUMERIC USE_PERLIO USE_PERL_ATOF
Built under solaris
Compiled at Feb 1 2012 12:32:41
%ENV:
PERL5LIB="/export/home/cpant4/.cpan/build/Getopt-Attribute-2.101700-JYfQ0l/blib/arch:/export/home/cpant4/.cpan/build/Getopt-Attribute-2.101700-JYfQ0l/blib/lib:/export/home/cpant4/.cpan/build/Module-ExtractUse-0.24-sDVTYR/blib/arch:/export/home/cpant4/.cpan/build/Module-ExtractUse-0.24-sDVTYR/blib/lib:/export/home/cpant4/.cpan/build/File-Find-Rule-MMagic-0.02-5v2a0u/blib/arch:/export/home/cpant4/.cpan/build/File-Find-Rule-MMagic-0.02-5v2a0u/blib/lib:/export/home/cpant4/.cpan/build/HTML-TagCloud-0.37-nh8f_M/blib/arch:/export/home/cpant4/.cpan/build/HTML-TagCloud-0.37-nh8f_M/blib/lib:/export/home/cpant4/.cpan/build/Class-Accessor-Complex-1.100880-tAOkpH/blib/arch:/export/home/cpant4/.cpan/build/Class-Accessor-Complex-1.100880-tAOkpH/blib/lib:/export/home/cpant4/.cpan/build/Class-Accessor-Installer-1.100880-NgZ5PX/blib/arch:/export/home/cpant4/.cpan/build/Class-Accessor-Installer-1.100880-NgZ5PX/blib/lib"
PERL5OPT=""
PERL5_CPANPLUS_IS_RUNNING="12526"
PERL5_CPAN_IS_RUNNING="12526"
PERL5_CPAN_IS_RUNNING_IN_RECURSION="6272,12526"
PERL_CR_SMOKER_CURRENT="Module-Cloud-1.100861"
PERL_EXTUTILS_AUTOINSTALL="--defaultdeps"
PERL_MM_USE_DEFAULT="1"
@INC:
/export/home/cpant4/.cpan/build/Getopt-Attribute-2.101700-JYfQ0l/blib/arch
/export/home/cpant4/.cpan/build/Getopt-Attribute-2.101700-JYfQ0l/blib/lib
/export/home/cpant4/.cpan/build/Module-ExtractUse-0.24-sDVTYR/blib/arch
/export/home/cpant4/.cpan/build/Module-ExtractUse-0.24-sDVTYR/blib/lib
/export/home/cpant4/.cpan/build/File-Find-Rule-MMagic-0.02-5v2a0u/blib/arch
/export/home/cpant4/.cpan/build/File-Find-Rule-MMagic-0.02-5v2a0u/blib/lib
/export/home/cpant4/.cpan/build/HTML-TagCloud-0.37-nh8f_M/blib/arch
/export/home/cpant4/.cpan/build/HTML-TagCloud-0.37-nh8f_M/blib/lib
/export/home/cpant4/.cpan/build/Class-Accessor-Complex-1.100880-tAOkpH/blib/arch
/export/home/cpant4/.cpan/build/Class-Accessor-Complex-1.100880-tAOkpH/blib/lib
/export/home/cpant4/.cpan/build/Class-Accessor-Installer-1.100880-NgZ5PX/blib/arch
/export/home/cpant4/.cpan/build/Class-Accessor-Installer-1.100880-NgZ5PX/blib/lib
/export/home/cpant4/perl5/lib/site_perl/5.15.7/i86pc-solaris-64int
/export/home/cpant4/perl5/lib/site_perl/5.15.7
/export/home/cpant4/perl5/lib/5.15.7/i86pc-solaris-64int
/export/home/cpant4/perl5/lib/5.15.7
/export/home/cpant4/perl5/lib/site_perl
.