Report for Dancer-Session-Cookie-0.13

Back
From: metabase:user:30f4dfbe-2aae-11df-837a-5e0a49663a4f
Subject: PASS Dancer-Session-Cookie-0.13 v5.8.9 GNU/Linux
Date: 2010-11-29T02:43:15Z

This distribution has been tested as part of the CPAN Testers
project, supporting the Perl programming language.  See
http://wiki.cpantesters.org/ for more information or email
questions to cpan-testers-discuss@perl.org


--
Dear Alex Kapranoff,

This is a computer-generated report for Dancer-Session-Cookie-0.13
on perl 5.8.9 patch 35104, created by CPAN-Reporter-1.1803.

Thank you for uploading your work to CPAN.  Congratulations!
All tests were successful.

Sections of this report:

    * Tester comments
    * Program output
    * Prerequisites
    * Environment and other context

------------------------------
TESTER COMMENTS
------------------------------

Additional comments from tester:

this report is from an automated smoke testing program
and was not reviewed by a human for accuracy

------------------------------
PROGRAM OUTPUT
------------------------------

Output from '/usr/bin/make test':

PERL_DL_NONLAZY=1 /usr/local/bin/perl5.8.9 "-MExtUtils::Command::MM" "-e" "test_harness(0, 'blib/lib', 'blib/arch')" t/*.t
# Testing Dancer::Session::Cookie 0.13, Perl 5.008009, /usr/local/bin/perl5.8.9
t/00-load.t ..... ok
t/01-session.t .. ok
t/manifest.t .... skipped: Author tests not required for installation
t/pod.t ......... ok
All tests successful.
Files=4, Tests=12,  0 wallclock secs ( 0.04 usr  0.01 sys +  0.27 cusr  0.04 csys =  0.36 CPU)
Result: PASS

------------------------------
PREREQUISITES
------------------------------

Prerequisite modules loaded:

requires:

    Module              Need Have  
    ------------------- ---- ------
    Crypt::CBC          0    2.30  
    Crypt::Rijndael     0    1.09  
    Dancer              1.13 1.2000
    String::CRC32       0    1.4   
    Test::More          0    0.96  
    Test::NoWarnings    0    1.02  

configure_requires:

    Module              Need Have  
    ------------------- ---- ------
    ExtUtils::MakeMaker 0    6.56  


------------------------------
ENVIRONMENT AND OTHER CONTEXT
------------------------------

Environment variables:

    AUTOMATED_TESTING = 1
    LANG = en_GB.UTF-8
    PATH = /usr/bin:/bin
    PERL5LIB = /.cpan/build/Dancer-1.2000-8RdYu0/blib/arch:/.cpan/build/Dancer-1.2000-8RdYu0/blib/lib:/.cpan/build/HTTP-Body-1.11-PmsQRS/blib/arch:/.cpan/build/HTTP-Body-1.11-PmsQRS/blib/lib:/.cpan/build/HTTP-Server-Simple-PSGI-0.14-Md0OUK/blib/arch:/.cpan/build/HTTP-Server-Simple-PSGI-0.14-Md0OUK/blib/lib
    PERL5OPT = 
    PERL5_CPANPLUS_IS_RUNNING = 5430
    PERL5_CPAN_IS_RUNNING = 5430
    PERL5_MINISMOKEBOX = 0.38
    PERL_EXTUTILS_AUTOINSTALL = --defaultdeps
    PERL_MM_USE_DEFAULT = 1
    SHELL = /bin/sh

Perl special variables (and OS-specific diagnostics, for MSWin32):

    $^X = /usr/local/bin/perl5.8.9
    $UID/$EUID = 0 / 0
    $GID = 0 0
    $EGID = 0 0

Perl module toolchain versions installed:

    Module              Have  
    ------------------- ------
    CPAN                1.9402
    Cwd                 3.33  
    ExtUtils::CBuilder  0.2703
    ExtUtils::Command   1.16  
    ExtUtils::Install   1.54  
    ExtUtils::MakeMaker 6.56  
    ExtUtils::Manifest  1.58  
    ExtUtils::ParseXS   2.2206
    File::Spec          3.33  
    Module::Build       0.3607
    Module::Signature   0.66  
    Test::Harness       3.22  
    Test::More          0.96  
    YAML                0.72  
    YAML::Syck          1.15  
    version             0.82  


--

Summary of my perl5 (revision 5 version 8 subversion 9 patch 35104) configuration:
  Platform:
    osname=linux, osvers=2.6.32-5-686, archname=i686-linux-thread-multi-64int-ld
    uname='linux gateway.bandsman.co.uk 2.6.32-5-686 #1 smp thu aug 12 13:38:27 utc 2010 i686 gnulinux '
    config_args='-des -Dusedevel -Duseithreads -Dusemorebits -DDEBUGGING'
    hint=recommended, useposix=true, d_sigaction=define
    usethreads=define use5005threads=undef useithreads=define usemultiplicity=define
    useperlio=define d_sfio=undef uselargefiles=define usesocks=undef
    use64bitint=define use64bitall=undef uselongdouble=define
    usemymalloc=n, bincompat5005=undef
  Compiler:
    cc='cc', ccflags ='-D_REENTRANT -D_GNU_SOURCE -DTHREADS_HAVE_PIDS -DDEBUGGING -DDEBUGGING -fno-strict-aliasing -pipe -I/usr/local/include -D_LARGEFILE_SOURCE -D_FILE_OFFSET_BITS=64',
    optimize='-O2 -g',
    cppflags='-D_REENTRANT -D_GNU_SOURCE -DTHREADS_HAVE_PIDS -DDEBUGGING -DDEBUGGING -fno-strict-aliasing -pipe -I/usr/local/include'
    ccversion='', gccversion='4.4.5 20100816 (prerelease)', gccosandvers=''
    intsize=4, longsize=4, ptrsize=4, doublesize=8, byteorder=12345678
    d_longlong=define, longlongsize=8, d_longdbl=define, longdblsize=12
    ivtype='long long', ivsize=8, nvtype='long double', nvsize=12, Off_t='off_t', lseeksize=8
    alignbytes=4, prototype=define
  Linker and Libraries:
    ld='cc', ldflags =' -L/usr/local/lib'
    libpth=/usr/local/lib /lib /usr/lib
    libs=-lnsl -lgdbm -ldb -ldl -lm -lcrypt -lutil -lpthread -lc
    perllibs=-lnsl -ldl -lm -lcrypt -lutil -lpthread -lc
    libc=/lib/libc-2.11.2.so, so=so, useshrplib=false, libperl=libperl.a
    gnulibc_version='2.11.2'
  Dynamic Linking:
    dlsrc=dl_dlopen.xs, dlext=so, d_dlsymun=undef, ccdlflags='-Wl,-E'
    cccdlflags='-fPIC', lddlflags='-shared -O2 -g -L/usr/local/lib'


Characteristics of this binary (from libperl): 
  Compile-time options: DEBUGGING MULTIPLICITY PERL_IMPLICIT_CONTEXT
                        PERL_MALLOC_WRAP THREADS_HAVE_PIDS USE_64_BIT_INT
                        USE_FAST_STDIO USE_ITHREADS USE_LARGE_FILES
                        USE_LONG_DOUBLE USE_PERLIO USE_REENTRANT_API
  Locally applied patches:
	MAINT35104
	SMOKE7d6ecb1f6c7eabec011b66526161fcf678919c99
  Built under linux
  Compiled at Sep  5 2010 13:39:45
  %ENV:
    PERL5LIB="/.cpan/build/Dancer-1.2000-8RdYu0/blib/arch:/.cpan/build/Dancer-1.2000-8RdYu0/blib/lib:/.cpan/build/HTTP-Body-1.11-PmsQRS/blib/arch:/.cpan/build/HTTP-Body-1.11-PmsQRS/blib/lib:/.cpan/build/HTTP-Server-Simple-PSGI-0.14-Md0OUK/blib/arch:/.cpan/build/HTTP-Server-Simple-PSGI-0.14-Md0OUK/blib/lib"
    PERL5OPT=""
    PERL5_CPANPLUS_IS_RUNNING="5430"
    PERL5_CPAN_IS_RUNNING="5430"
    PERL5_MINISMOKEBOX="0.38"
    PERL_EXTUTILS_AUTOINSTALL="--defaultdeps"
    PERL_MM_USE_DEFAULT="1"
  @INC:
    /.cpan/build/Dancer-1.2000-8RdYu0/blib/arch
    /.cpan/build/Dancer-1.2000-8RdYu0/blib/lib
    /.cpan/build/HTTP-Body-1.11-PmsQRS/blib/arch
    /.cpan/build/HTTP-Body-1.11-PmsQRS/blib/lib
    /.cpan/build/HTTP-Server-Simple-PSGI-0.14-Md0OUK/blib/arch
    /.cpan/build/HTTP-Server-Simple-PSGI-0.14-Md0OUK/blib/lib
    /usr/local/lib/perl5/5.8.9/i686-linux-thread-multi-64int-ld
    /usr/local/lib/perl5/5.8.9
    /usr/local/lib/perl5/site_perl/5.8.9/i686-linux-thread-multi-64int-ld
    /usr/local/lib/perl5/site_perl/5.8.9
    .