Crypt-OpenSSL-RSA v0.30 Perl 5 v5.18.2 i686-linux-thread-multi-ld

Status
Pass
From
Nigel Horne
Dist
Crypt-OpenSSL-RSA v0.30
Platform
Perl 5 v5.18.2 i686-linux-thread-multi-ld
Date
2018-05-25 21:56:02
ID
6abd84b6-6066-11e8-8fb1-ef5133556b3f
This distribution has been tested as part of the CPAN Testers
project, supporting the Perl programming language.  See
http://wiki.cpantesters.org/ for more information or email
questions to cpan-testers-discuss@perl.org


--
Dear Todd Rinaldo,

This is a computer-generated report for Crypt-OpenSSL-RSA-0.30
on perl 5.18.2, created by CPAN-Reporter-1.2018.

Thank you for uploading your work to CPAN.  Congratulations!
All tests were successful.

Sections of this report:

    * Tester comments
    * Program output
    * Prerequisites
    * Environment and other context

------------------------------
TESTER COMMENTS
------------------------------

Additional comments from tester:

this report is from an automated smoke testing program
and was not reviewed by a human for accuracy

------------------------------
PROGRAM OUTPUT
------------------------------

Output from '/usr/bin/make test':

PERL_DL_NONLAZY=1 /home/njh/perl5/perlbrew/perls/perl-5.18.2-thread-multi-ld/bin/perl5.18.2 "-MExtUtils::Command::MM" "-e" "test_harness(0, 'blib/lib', 'blib/arch')" t/*.t
t/format.t .................. ok
t/bignum.t .................. skipped: Crypt::OpenSSL::Bignum required for bignum tests
t/z_kwalitee.t .............. skipped: This test is only run for the module author
t/z_meta.t .................. skipped: This test is only run for the module author
t/rsa.t ..................... ok
t/z_perl_minimum_version.t .. skipped: Author tests not required for installation
t/z_pod-coverage.t .......... skipped: This test is only run for the module author
t/z_pod.t ................... skipped: This test is only run for the module author
All tests successful.
Files=8, Tests=73,  1 wallclock secs ( 0.05 usr  0.02 sys +  0.75 cusr  0.06 csys =  0.88 CPU)
Result: PASS

------------------------------
PREREQUISITES
------------------------------

Prerequisite modules loaded:

requires:

    Module                 Need  Have    
    ---------------------- ----- --------
    Crypt::OpenSSL::Random 0     0.15    
    perl                   5.006 5.018002
    Test::More             0     1.302120

build_requires:

    Module                 Need  Have    
    ---------------------- ----- --------
    ExtUtils::MakeMaker    0     6.66    

configure_requires:

    Module                 Need  Have    
    ---------------------- ----- --------
    Crypt::OpenSSL::Guess  0.11  0.11    
    ExtUtils::MakeMaker    0     6.66    


------------------------------
ENVIRONMENT AND OTHER CONTEXT
------------------------------

Environment variables:

    AUTOMATED_TESTING = 1
    HARNESS_OPTIONS = j2
    LANG = en_US.UTF-8
    PATH = /home/njh/perl5/perlbrew/bin:/home/njh/perl5/perlbrew/perls/perl-5.18.2-thread-multi-ld/bin:src/njh/smoker/bin:/usr/bin:/bin
    PERL5LIB = /home/njh/.cpan/build/Crypt-OpenSSL-Random-0.15-AIAKCY/blib/arch:/home/njh/.cpan/build/Crypt-OpenSSL-Random-0.15-AIAKCY/blib/lib:/home/njh/.cpan/build/Crypt-OpenSSL-Guess-0.11-081FjD/blib/arch:/home/njh/.cpan/build/Crypt-OpenSSL-Guess-0.11-081FjD/blib/lib:/home/njh/.cpan/build/MailTools-2.20-1SeJgP/blib/arch:/home/njh/.cpan/build/MailTools-2.20-1SeJgP/blib/lib:/home/njh/.cpan/build/TimeDate-2.30-PC2k7a/blib/arch:/home/njh/.cpan/build/TimeDate-2.30-PC2k7a/blib/lib
    PERL5OPT = 
    PERL5_CPANPLUS_IS_RUNNING = 19183
    PERL5_CPAN_IS_RUNNING = 19183
    PERLBREW_BASHRC_VERSION = 0.73
    PERLBREW_HOME = /home/njh/.perlbrew
    PERLBREW_MANPATH = /home/njh/perl5/perlbrew/perls/perl-5.18.2-thread-multi-ld/man
    PERLBREW_PATH = /home/njh/perl5/perlbrew/bin:/home/njh/perl5/perlbrew/perls/perl-5.18.2-thread-multi-ld/bin
    PERLBREW_PERL = perl-5.18.2-thread-multi-ld
    PERLBREW_ROOT = /home/njh/perl5/perlbrew
    PERLBREW_VERSION = 0.73
    SHELL = /bin/sh
    TMPDIR = /tmp/testwrapper.19173

Perl special variables (and OS-specific diagnostics, for MSWin32):

    $^X = /home/njh/perl5/perlbrew/perls/perl-5.18.2-thread-multi-ld/bin/perl5.18.2
    $UID/$EUID = 1000 / 1000
    $GID = 1000 4 24 25 29 30 44 46 108 1000
    $EGID = 1000 4 24 25 29 30 44 46 108 1000

Perl module toolchain versions installed:

    Module              Have    
    ------------------- --------
    CPAN                2.00    
    CPAN::Meta          2.150010
    Cwd                 3.40    
    ExtUtils::CBuilder  0.280210
    ExtUtils::Command   1.17    
    ExtUtils::Install   1.59    
    ExtUtils::MakeMaker 6.66    
    ExtUtils::Manifest  1.63    
    ExtUtils::ParseXS   3.18    
    File::Spec          3.40    
    JSON                2.97001 
    JSON::PP            2.97001 
    Module::Build       0.4224  
    Module::Signature   n/a     
    Parse::CPAN::Meta   2.150010
    Test::Harness       3.39    
    Test::More          1.302120
    YAML                1.24    
    YAML::Syck          n/a     
    version             0.9902  


--

Summary of my perl5 (revision 5 version 18 subversion 2) configuration:
   
  Platform:
    osname=linux, osvers=4.3.0-1-686-pae, archname=i686-linux-thread-multi-ld
    uname='linux zack 4.3.0-1-686-pae #1 smp debian 4.3.5-1 (2016-02-06) i686 gnulinux '
    config_args='-de -Dprefix=/home/njh/perl5/perlbrew/perls/perl-5.18.2-thread-multi-ld -Dusedevel -Duselongdouble -Dusemultiplicity -Dusethreads -Accflags= -Aeval:scriptdir=/home/njh/perl5/perlbrew/perls/perl-5.18.2-thread-multi-ld/bin'
    hint=recommended, useposix=true, d_sigaction=define
    useithreads=define, usemultiplicity=define
    useperlio=define, d_sfio=undef, uselargefiles=define, usesocks=undef
    use64bitint=undef, use64bitall=undef, uselongdouble=define
    usemymalloc=n, bincompat5005=undef
  Compiler:
    cc='cc', ccflags ='-D_REENTRANT -D_GNU_SOURCE -fno-strict-aliasing -pipe -fstack-protector -I/usr/local/include -D_LARGEFILE_SOURCE -D_FILE_OFFSET_BITS=64',
    optimize='-O2',
    cppflags='-D_REENTRANT -D_GNU_SOURCE -fno-strict-aliasing -pipe -fstack-protector -I/usr/local/include'
    ccversion='', gccversion='7.2.0', gccosandvers=''
    intsize=4, longsize=4, ptrsize=4, doublesize=8, byteorder=1234
    d_longlong=define, longlongsize=8, d_longdbl=define, longdblsize=12
    ivtype='long', ivsize=4, nvtype='long double', nvsize=12, Off_t='off_t', lseeksize=8
    alignbytes=4, prototype=define
  Linker and Libraries:
    ld='cc', ldflags =' -fstack-protector -L/usr/local/lib'
    libpth=/usr/local/lib /lib/i386-linux-gnu /lib/../lib /usr/lib/i386-linux-gnu /usr/lib/../lib /lib /usr/lib /lib64 /usr/lib64
    libs=-lnsl -lgdbm -ldb -ldl -lm -lcrypt -lutil -lpthread -lc -lgdbm_compat
    perllibs=-lnsl -ldl -lm -lcrypt -lutil -lpthread -lc
    libc=libc-2.26.so, so=so, useshrplib=false, libperl=libperl.a
    gnulibc_version='2.26'
  Dynamic Linking:
    dlsrc=dl_dlopen.xs, dlext=so, d_dlsymun=undef, ccdlflags='-Wl,-E'
    cccdlflags='-fPIC', lddlflags='-shared -O2 -L/usr/local/lib -fstack-protector'


Characteristics of this binary (from libperl): 
  Compile-time options: HAS_TIMES MULTIPLICITY PERLIO_LAYERS
                        PERL_DONT_CREATE_GVSV
                        PERL_HASH_FUNC_ONE_AT_A_TIME_HARD
                        PERL_IMPLICIT_CONTEXT PERL_MALLOC_WRAP
                        PERL_PRESERVE_IVUV PERL_SAWAMPERSAND PERL_USE_DEVEL
                        USE_ITHREADS USE_LARGE_FILES USE_LOCALE
                        USE_LOCALE_COLLATE USE_LOCALE_CTYPE
                        USE_LOCALE_NUMERIC USE_LONG_DOUBLE USE_PERLIO
                        USE_PERL_ATOF USE_REENTRANT_API
  Locally applied patches:
	Devel::PatchPerl 1.38
  Built under linux
  Compiled at Jan 26 2018 01:14:54
  %ENV:
    PERL5LIB="/home/njh/.cpan/build/Crypt-OpenSSL-Random-0.15-AIAKCY/blib/arch:/home/njh/.cpan/build/Crypt-OpenSSL-Random-0.15-AIAKCY/blib/lib:/home/njh/.cpan/build/Crypt-OpenSSL-Guess-0.11-081FjD/blib/arch:/home/njh/.cpan/build/Crypt-OpenSSL-Guess-0.11-081FjD/blib/lib:/home/njh/.cpan/build/MailTools-2.20-1SeJgP/blib/arch:/home/njh/.cpan/build/MailTools-2.20-1SeJgP/blib/lib:/home/njh/.cpan/build/TimeDate-2.30-PC2k7a/blib/arch:/home/njh/.cpan/build/TimeDate-2.30-PC2k7a/blib/lib"
    PERL5OPT=""
    PERL5_CPANPLUS_IS_RUNNING="19183"
    PERL5_CPAN_IS_RUNNING="19183"
    PERLBREW_BASHRC_VERSION="0.73"
    PERLBREW_HOME="/home/njh/.perlbrew"
    PERLBREW_MANPATH="/home/njh/perl5/perlbrew/perls/perl-5.18.2-thread-multi-ld/man"
    PERLBREW_PATH="/home/njh/perl5/perlbrew/bin:/home/njh/perl5/perlbrew/perls/perl-5.18.2-thread-multi-ld/bin"
    PERLBREW_PERL="perl-5.18.2-thread-multi-ld"
    PERLBREW_ROOT="/home/njh/perl5/perlbrew"
    PERLBREW_VERSION="0.73"
  @INC:
    /home/njh/.cpan/build/Crypt-OpenSSL-Random-0.15-AIAKCY/blib/arch
    /home/njh/.cpan/build/Crypt-OpenSSL-Random-0.15-AIAKCY/blib/lib
    /home/njh/.cpan/build/Crypt-OpenSSL-Guess-0.11-081FjD/blib/arch
    /home/njh/.cpan/build/Crypt-OpenSSL-Guess-0.11-081FjD/blib/lib
    /home/njh/.cpan/build/MailTools-2.20-1SeJgP/blib/arch
    /home/njh/.cpan/build/MailTools-2.20-1SeJgP/blib/lib
    /home/njh/.cpan/build/TimeDate-2.30-PC2k7a/blib/arch
    /home/njh/.cpan/build/TimeDate-2.30-PC2k7a/blib/lib
    /home/njh/perl5/perlbrew/perls/perl-5.18.2-thread-multi-ld/lib/site_perl/5.18.2/i686-linux-thread-multi-ld
    /home/njh/perl5/perlbrew/perls/perl-5.18.2-thread-multi-ld/lib/site_perl/5.18.2
    /home/njh/perl5/perlbrew/perls/perl-5.18.2-thread-multi-ld/lib/5.18.2/i686-linux-thread-multi-ld
    /home/njh/perl5/perlbrew/perls/perl-5.18.2-thread-multi-ld/lib/5.18.2
    .