CSS-Sass v3.4.13 Perl 5 v5.28.1 x86_64-linux
- Status
- Pass
- From
- Slaven Rezić (SREZIC)
- Dist
-
CSS-Sass v3.4.13
- Platform
- Perl 5 v5.28.1 x86_64-linux
- Date
- 2019-04-12 11:30:47
- ID
- 6ac896fa-5d16-11e9-a4db-c66b1f24ea8f
This distribution has been tested as part of the CPAN Testers
project, supporting the Perl programming language. See
http://wiki.cpantesters.org/ for more information or email
questions to cpan-testers-discuss@perl.org
--
Dear Marcel Greter,
This is a computer-generated report for CSS-Sass-3.4.13
on perl 5.28.1, created by CPAN-Reporter-1.2018.
Thank you for uploading your work to CPAN. Congratulations!
All tests were successful.
Sections of this report:
* Tester comments
* Program output
* Prerequisites
* Environment and other context
------------------------------
TESTER COMMENTS
------------------------------
Additional comments from tester:
none provided
------------------------------
PROGRAM OUTPUT
------------------------------
Output from '/usr/bin/make test':
"/opt/perl-5.28.1/bin/perl" -MExtUtils::Command::MM -e 'cp_nonempty' -- Sass.bs blib/arch/auto/CSS/Sass/Sass.bs 644
PERL_DL_NONLAZY=1 "/opt/perl-5.28.1/bin/perl" "-MExtUtils::Command::MM" "-MTest::Harness" "-e" "undef *Test::Harness::Switches; test_harness(0, 'blib/lib', 'blib/arch')" t/*.t
t/00_sanity.t ........... ok
t/01_xs.t ............... ok
t/02_perl.t ............. ok
t/03_xs_functions.t ..... ok
t/04_xs_value_types.t ... ok
t/05_source_maps.t ...... ok
t/06_sass_import.t ...... ok
t/07_custom_importer.t .. ok
t/08_sass_to_scss.t ..... skipped: Moved to specs
t/09_unicode.t .......... ok
t/10_sass_value_op.t .... ok
t/11_sass_plugins.t ..... ok
t/98_sass_srcmaps.t ..... skipped: Disabled
t/99_sass_specs.t ....... ok
All tests successful.
Files=14, Tests=18418, 13 wallclock secs ( 1.27 usr 0.13 sys + 11.44 cusr 1.03 csys = 13.87 CPU)
Result: PASS
------------------------------
PREREQUISITES
------------------------------
Prerequisite modules loaded:
requires:
Module Need Have
----------------------- ---- ------
Carp 1.01 1.50
Encode::Locale 0.01 1.05
Filesys::Notify::Simple 0.01 0.13
Getopt::Long 0.01 2.5
List::Util 1.45 1.50
strict 0 1.11
version 0 0.9923
warnings 0 1.42
build_requires:
Module Need Have
----------------------- ---- ------
ExtUtils::CppGuess 0.14 0.19
ExtUtils::MakeMaker 6.52 7.34
File::chdir 0.01 0.1010
Getopt::Long 0.01 2.5
Test::Differences 0.01 0.64
YAML::XS 0.01 0.75
configure_requires:
Module Need Have
----------------------- ---- ------
ExtUtils::CppGuess 0.14 0.19
ExtUtils::MakeMaker 6.52 7.34
Getopt::Long 0.01 2.5
------------------------------
ENVIRONMENT AND OTHER CONTEXT
------------------------------
Environment variables:
LANG = en_US.UTF-8
PATH = /usr/local/bin:/usr/bin:/bin:/usr/local/sbin:/usr/sbin:/sbin:/home/cpansand/bin/linux-gnu:/home/cpansand/bin/sh:/home/cpansand/bin:/usr/games:/home/cpansand/devel:/home/eserte/src/srezic-misc/scripts
PERL5LIB = /home/cpansand/.cpan/build/2019041213/ExtUtils-CppGuess-0.19-1/blib/arch:/home/cpansand/.cpan/build/2019041213/ExtUtils-CppGuess-0.19-1/blib/lib:/home/cpansand/.cpan/build/2019041213/ExtUtils-CBuilder-0.280231-1/blib/arch:/home/cpansand/.cpan/build/2019041213/ExtUtils-CBuilder-0.280231-1/blib/lib
PERL5OPT =
PERL5_CPANPLUS_IS_RUNNING = 22023
PERL5_CPAN_IS_RUNNING = 22023
PERL5_CPAN_IS_RUNNING_IN_RECURSION = 14296,22023
PERLDOC = -MPod::Perldoc::ToTextOverstrike
PERL_BATCH = yes
PERL_CANARY_STABILITY_NOPROMPT = 1
PERL_CPAN_REPORTER_CONFIG = /var/tmp/cpansmoker-1023/2019041211/cpanreporter_000_config.ini
PERL_EXTUTILS_AUTOINSTALL = --defaultdeps
PERL_USE_UNSAFE_INC = 1
SHELL = /usr/bin/zsh
TERM = screen
TMPDIR = /var/tmp/cpansmoker-1023/2019041211
Perl special variables (and OS-specific diagnostics, for MSWin32):
$^X = /opt/perl-5.28.1/bin/perl
$UID/$EUID = 1023 / 1023
$GID = 1023 1023
$EGID = 1023 1023
Perl module toolchain versions installed:
Module Have
------------------- --------
CPAN 2.20
CPAN::Meta 2.150010
Cwd 3.74
ExtUtils::CBuilder 0.280231
ExtUtils::Command 7.34
ExtUtils::Install 2.14
ExtUtils::MakeMaker 7.34
ExtUtils::Manifest 1.70
ExtUtils::ParseXS 3.39
File::Spec 3.74
JSON n/a
JSON::PP 2.97001
Module::Build 0.4224
Module::Signature 0.83
Parse::CPAN::Meta 2.150010
Test::Harness 3.42
Test::More 1.302140
YAML 1.27
YAML::Syck 1.31
version 0.9923
--
Summary of my perl5 (revision 5 version 28 subversion 1) configuration:
Platform:
osname=linux
osvers=4.18.16-200.fc28.x86_64
archname=x86_64-linux
uname='linux fedora-4gb-hel1-1 4.18.16-200.fc28.x86_64 #1 smp sat oct 20 23:53:47 utc 2018 x86_64 x86_64 x86_64 gnulinux '
config_args='-ds -e -Dprefix=/opt/perl-5.28.1 -Dcf_email=srezic@cpan.org'
hint=recommended
useposix=true
d_sigaction=define
useithreads=undef
usemultiplicity=undef
use64bitint=define
use64bitall=define
uselongdouble=undef
usemymalloc=n
default_inc_excludes_dot=define
bincompat5005=undef
Compiler:
cc='cc'
ccflags ='-fwrapv -fno-strict-aliasing -pipe -fstack-protector-strong -I/usr/local/include -D_LARGEFILE_SOURCE -D_FILE_OFFSET_BITS=64'
optimize='-O2'
cppflags='-fwrapv -fno-strict-aliasing -pipe -fstack-protector-strong -I/usr/local/include'
ccversion=''
gccversion='8.2.1 20181105 (Red Hat 8.2.1-5)'
gccosandvers=''
intsize=4
longsize=8
ptrsize=8
doublesize=8
byteorder=12345678
doublekind=3
d_longlong=define
longlongsize=8
d_longdbl=define
longdblsize=16
longdblkind=3
ivtype='long'
ivsize=8
nvtype='double'
nvsize=8
Off_t='off_t'
lseeksize=8
alignbytes=8
prototype=define
Linker and Libraries:
ld='cc'
ldflags =' -fstack-protector-strong -L/usr/local/lib'
libpth=/usr/local/lib /usr/lib /lib/../lib64 /usr/lib/../lib64 /lib /lib64 /usr/lib64 /usr/local/lib64
libs=-lpthread -ldb -ldl -lm -lcrypt -lutil -lc
perllibs=-lpthread -ldl -lm -lcrypt -lutil -lc
libc=libc-2.27.so
so=so
useshrplib=false
libperl=libperl.a
gnulibc_version='2.27'
Dynamic Linking:
dlsrc=dl_dlopen.xs
dlext=so
d_dlsymun=undef
ccdlflags='-Wl,-E'
cccdlflags='-fPIC'
lddlflags='-shared -O2 -L/usr/local/lib -fstack-protector-strong'
Characteristics of this binary (from libperl):
Compile-time options:
HAS_TIMES
PERLIO_LAYERS
PERL_COPY_ON_WRITE
PERL_DONT_CREATE_GVSV
PERL_MALLOC_WRAP
PERL_OP_PARENT
PERL_PRESERVE_IVUV
USE_64_BIT_ALL
USE_64_BIT_INT
USE_LARGE_FILES
USE_LOCALE
USE_LOCALE_COLLATE
USE_LOCALE_CTYPE
USE_LOCALE_NUMERIC
USE_LOCALE_TIME
USE_PERLIO
USE_PERL_ATOF
Built under linux
Compiled at Nov 29 2018 21:12:20
%ENV:
PERL5LIB="/home/cpansand/.cpan/build/2019041213/ExtUtils-CppGuess-0.19-1/blib/arch:/home/cpansand/.cpan/build/2019041213/ExtUtils-CppGuess-0.19-1/blib/lib:/home/cpansand/.cpan/build/2019041213/ExtUtils-CBuilder-0.280231-1/blib/arch:/home/cpansand/.cpan/build/2019041213/ExtUtils-CBuilder-0.280231-1/blib/lib"
PERL5OPT=""
PERL5_CPANPLUS_IS_RUNNING="22023"
PERL5_CPAN_IS_RUNNING="22023"
PERL5_CPAN_IS_RUNNING_IN_RECURSION="14296,22023"
PERLDOC="-MPod::Perldoc::ToTextOverstrike"
PERL_BATCH="yes"
PERL_CANARY_STABILITY_NOPROMPT="1"
PERL_CPAN_REPORTER_CONFIG="/var/tmp/cpansmoker-1023/2019041211/cpanreporter_000_config.ini"
PERL_EXTUTILS_AUTOINSTALL="--defaultdeps"
PERL_USE_UNSAFE_INC="1"
@INC:
/home/cpansand/.cpan/build/2019041213/ExtUtils-CppGuess-0.19-1/blib/arch
/home/cpansand/.cpan/build/2019041213/ExtUtils-CppGuess-0.19-1/blib/lib
/home/cpansand/.cpan/build/2019041213/ExtUtils-CBuilder-0.280231-1/blib/arch
/home/cpansand/.cpan/build/2019041213/ExtUtils-CBuilder-0.280231-1/blib/lib
/opt/perl-5.28.1/lib/site_perl/5.28.1/x86_64-linux
/opt/perl-5.28.1/lib/site_perl/5.28.1
/opt/perl-5.28.1/lib/5.28.1/x86_64-linux
/opt/perl-5.28.1/lib/5.28.1
.