Report for DBD-SQLite-Amalgamation-3.6.16

Back
From: metabase:user:0d96120c-29e2-11e5-b049-ede3035d37de
Subject: PASS DBD-SQLite-Amalgamation-3.6.16 v5.23.0 GNU/Linux
Date: 2015-07-23T00:11:51Z

This distribution has been tested as part of the CPAN Testers
project, supporting the Perl programming language.  See
http://wiki.cpantesters.org/ for more information or email
questions to cpan-testers-discuss@perl.org


--
Dear Audrey Tang,

This is a computer-generated report for DBD-SQLite-Amalgamation-3.6.16
on perl 5.23.0, created by CPAN-Reporter-1.2014.

Thank you for uploading your work to CPAN.  Congratulations!
All tests were successful.

Sections of this report:

    * Tester comments
    * Program output
    * Prerequisites
    * Environment and other context

------------------------------
TESTER COMMENTS
------------------------------

Additional comments from tester:

this report is from an automated smoke testing program
and was not reviewed by a human for accuracy

------------------------------
PROGRAM OUTPUT
------------------------------

Output from '/usr/bin/make test':

Running Mkbootstrap for DBD::SQLite ()
chmod 644 "SQLite.bs"
PERL_DL_NONLAZY=1 "/data/perl5/perlbrew/perls/perl-5.23.0/bin/perl5.23.0" "-MExtUtils::Command::MM" "-MTest::Harness" "-e" "undef *Test::Harness::Switches; test_harness(0, 'blib/lib', 'blib/arch')" t/*.t
# $DBI::VERSION=1.633
t/01_compile.t ............................... ok
# sqlite_version=3.6.16
t/02_logon.t ................................. ok
# sqlite_version=3.6.16
t/02_logon_func.t ............................ ok
t/03_create_table.t .......................... ok
t/04_insert.t ................................ ok
t/05_select.t ................................ ok
t/06_tran.t .................................. ok
t/07_error.t ................................. ok
t/08_busy.t .................................. ok
t/08_busy_func.t ............................. ok
t/09_create_function.t ....................... ok
t/09_create_function_func.t .................. ok
t/10_create_aggregate.t ...................... ok
t/10_create_aggregate_func.t ................. ok
t/12_unicode.t ............................... ok
t/13_create_collation.t ...................... ok
t/13_create_collation_func.t ................. ok
t/14_progress_handler.t ...................... ok
t/14_progress_handler_func.t ................. ok
t/15_ak_dbd.t ................................ ok
t/16_column_info.t ........................... ok
t/17_createdrop.t ............................ ok
t/18_insertfetch.t ........................... ok
t/19_bindparam.t ............................. ok
t/20_blobs.t ................................. ok
t/21_blobtext.t .............................. ok
t/22_listfields.t ............................ ok
t/23_nulls.t ................................. ok
t/24_numrows.t ............................... ok
t/25_chopblanks.t ............................ ok
t/26_commit.t ................................ ok
t/27_metadata.t .............................. ok
t/28_schemachange.t .......................... ok
t/29_cppcomments.t ........................... ok
t/30_auto_rollback.t ......................... ok
t/31_bind_weird_number_param.t ............... ok
t/32_inactive_error.t ........................ ok
t/33_non_latin_path.t ........................ ok
t/34_online_backup.t ......................... ok
t/34_online_backup_func.t .................... ok
t/35_table_info.t ............................ ok
t/97_meta.t .................................. ok
t/98_pod.t ................................... ok
t/99_pmv.t ................................... skipped: Perl::MinimumVersion 1.20 not available for testing
t/rt_15186_prepcached.t ...................... ok
t/rt_21406_auto_finish.t ..................... ok
t/rt_25371_asymmetric_unicode.t .............. ok
t/rt_25460_numeric_aggregate.t ............... ok
t/rt_25924_user_defined_func_unicode.t ....... ok
t/rt_25924_user_defined_func_unicode_func.t .. ok
t/rt_27553_prepared_cache_and_analyze.t ...... ok
t/rt_29058_group_by.t ........................ ok
t/rt_29629_sqlite_where_length.t ............. ok
t/rt_31324_full_names.t ...................... ok
t/rt_32889_prepare_cached_reexecute.t ........ ok
t/rt_36836_duplicate_key.t ................... ok
t/rt_36838_unique_and_bus_error.t ............ ok
t/rt_40594_nullable.t ........................ ok
All tests successful.
Files=58, Tests=754, 42 wallclock secs ( 0.17 usr  0.06 sys +  2.38 cusr  0.26 csys =  2.87 CPU)
Result: PASS

------------------------------
PREREQUISITES
------------------------------

Prerequisite modules loaded:

requires:

    Module              Need  Have    
    ------------------- ----- --------
    DBI                 1.57  1.633   
    File::Spec          0.82  3.56    
    perl                5.006 5.023000
    Test::More          0.42  1.001014

build_requires:

    Module              Need  Have    
    ------------------- ----- --------
    ExtUtils::MakeMaker 0     7.04_01 


------------------------------
ENVIRONMENT AND OTHER CONTEXT
------------------------------

Environment variables:

    AUTOMATED_TESTING = 1
    LANG = en_US.UTF-8
    NONINTERACTIVE_TESTING = 1
    PATH = /home/perltest/sysperl/bin:/home/perltest/perl5/perlbrew/bin:/home/perltest/perl5/perlbrew/perls/perl-5.23.0/bin:/home/perltest/perltest/bin:/home/perltest/perltest/bin:/home/perltest/perltest/bin:/home/perltest/perl5/perlbrew/bin:/home/perltest/perl5/perlbrew/perls/perl-5.23.0/bin:/usr/local/sbin:/usr/local/bin:/usr/sbin:/usr/bin:/sbin:/bin:/usr/games:/usr/local/games:/home/perltest/perltest/bin
    PERL5LIB = /home/perltest/sysperl/lib/perl5:
    PERL5OPT = 
    PERL5_CPANPLUS_IS_RUNNING = 15138
    PERL5_CPAN_IS_RUNNING = 15138
    PERL5_CPAN_IS_RUNNING_IN_RECURSION = 7552,15138
    PERLBREW_BASHRC_VERSION = 0.73
    PERLBREW_HOME = /home/perltest/.perlbrew
    PERLBREW_LIB = 
    PERLBREW_MANPATH = /home/perltest/perl5/perlbrew/perls/perl-5.23.0/man
    PERLBREW_PATH = /home/perltest/perl5/perlbrew/bin:/home/perltest/perl5/perlbrew/perls/perl-5.23.0/bin
    PERLBREW_PERL = perl-5.23.0
    PERLBREW_ROOT = /home/perltest/perl5/perlbrew
    PERLBREW_VERSION = 0.73
    PERL_CR_SMOKER_CURRENT = DBD-SQLite-Amalgamation-3.6.16
    PERL_EXTUTILS_AUTOINSTALL = --defaultdeps
    PERL_LOCAL_LIB_ROOT = /home/perltest/sysperl:
    PERL_MB_OPT = --install_base "//home/perltest/sysperl"
    PERL_MM_OPT = INSTALL_BASE=/home/perltest/sysperl
    PERL_MM_USE_DEFAULT = 1
    SHELL = /bin/bash
    TERM = screen

Perl special variables (and OS-specific diagnostics, for MSWin32):

    $^X = /data/perl5/perlbrew/perls/perl-5.23.0/bin/perl5.23.0
    $UID/$EUID = 2000 / 2000
    $GID = 2000 2000
    $EGID = 2000 2000

Perl module toolchain versions installed:

    Module              Have    
    ------------------- --------
    CPAN                2.11    
    CPAN::Meta          2.150005
    Cwd                 3.56    
    ExtUtils::CBuilder  0.280223
    ExtUtils::Command   1.20    
    ExtUtils::Install   2.04    
    ExtUtils::MakeMaker 7.04_01 
    ExtUtils::Manifest  1.70    
    ExtUtils::ParseXS   3.28    
    File::Spec          3.56    
    JSON                2.90    
    JSON::PP            2.27300 
    Module::Build       0.4214  
    Module::Signature   0.79    
    Parse::CPAN::Meta   1.4417  
    Test::Harness       3.35    
    Test::More          1.001014
    YAML                1.15    
    YAML::Syck          1.29    
    version             0.9909  


--

Summary of my perl5 (revision 5 version 23 subversion 0) configuration:
   
  Platform:
    osname=linux, osvers=3.19.0-18-generic, archname=x86_64-linux
    uname='linux perltest 3.19.0-18-generic #18-ubuntu smp tue may 19 18:31:35 utc 2015 x86_64 x86_64 x86_64 gnulinux '
    config_args='-de -Dprefix=/home/perltest/perl5/perlbrew/perls/perl-5.23.0 -Dusedevel -Aeval:scriptdir=/home/perltest/perl5/perlbrew/perls/perl-5.23.0/bin'
    hint=recommended, useposix=true, d_sigaction=define
    useithreads=undef, usemultiplicity=undef
    use64bitint=define, use64bitall=define, uselongdouble=undef
    usemymalloc=n, bincompat5005=undef
  Compiler:
    cc='cc', ccflags ='-fwrapv -fno-strict-aliasing -pipe -fstack-protector-strong -I/usr/local/include -D_LARGEFILE_SOURCE -D_FILE_OFFSET_BITS=64',
    optimize='-O2',
    cppflags='-fwrapv -fno-strict-aliasing -pipe -fstack-protector-strong -I/usr/local/include'
    ccversion='', gccversion='4.9.2', gccosandvers=''
    intsize=4, longsize=8, ptrsize=8, doublesize=8, byteorder=12345678, doublekind=3
    d_longlong=define, longlongsize=8, d_longdbl=define, longdblsize=16, longdblkind=3
    ivtype='long', ivsize=8, nvtype='double', nvsize=8, Off_t='off_t', lseeksize=8
    alignbytes=8, prototype=define
  Linker and Libraries:
    ld='cc', ldflags =' -fstack-protector-strong -L/usr/local/lib'
    libpth=/usr/local/lib /usr/lib/gcc/x86_64-linux-gnu/4.9/include-fixed /usr/include/x86_64-linux-gnu /usr/lib /lib/x86_64-linux-gnu /lib/../lib /usr/lib/x86_64-linux-gnu /usr/lib/../lib /lib
    libs=-lpthread -lnsl -ldl -lm -lcrypt -lutil -lc
    perllibs=-lpthread -lnsl -ldl -lm -lcrypt -lutil -lc
    libc=libc-2.21.so, so=so, useshrplib=false, libperl=libperl.a
    gnulibc_version='2.21'
  Dynamic Linking:
    dlsrc=dl_dlopen.xs, dlext=so, d_dlsymun=undef, ccdlflags='-Wl,-E'
    cccdlflags='-fPIC', lddlflags='-shared -O2 -L/usr/local/lib -fstack-protector-strong'


Characteristics of this binary (from libperl): 
  Compile-time options: HAS_TIMES PERLIO_LAYERS PERL_DONT_CREATE_GVSV
                        PERL_HASH_FUNC_ONE_AT_A_TIME_HARD PERL_MALLOC_WRAP
                        PERL_NEW_COPY_ON_WRITE PERL_PRESERVE_IVUV
                        PERL_USE_DEVEL USE_64_BIT_ALL USE_64_BIT_INT
                        USE_LARGE_FILES USE_LOCALE USE_LOCALE_COLLATE
                        USE_LOCALE_CTYPE USE_LOCALE_NUMERIC USE_LOCALE_TIME
                        USE_PERLIO USE_PERL_ATOF
  Locally applied patches:
	Devel::PatchPerl 1.38
  Built under linux
  Compiled at Jul 14 2015 18:20:06
  %ENV:
    PERL5LIB="/home/perltest/sysperl/lib/perl5:"
    PERL5OPT=""
    PERL5_CPANPLUS_IS_RUNNING="15138"
    PERL5_CPAN_IS_RUNNING="15138"
    PERL5_CPAN_IS_RUNNING_IN_RECURSION="7552,15138"
    PERLBREW_BASHRC_VERSION="0.73"
    PERLBREW_HOME="/home/perltest/.perlbrew"
    PERLBREW_LIB=""
    PERLBREW_MANPATH="/home/perltest/perl5/perlbrew/perls/perl-5.23.0/man"
    PERLBREW_PATH="/home/perltest/perl5/perlbrew/bin:/home/perltest/perl5/perlbrew/perls/perl-5.23.0/bin"
    PERLBREW_PERL="perl-5.23.0"
    PERLBREW_ROOT="/home/perltest/perl5/perlbrew"
    PERLBREW_VERSION="0.73"
    PERL_CR_SMOKER_CURRENT="DBD-SQLite-Amalgamation-3.6.16"
    PERL_EXTUTILS_AUTOINSTALL="--defaultdeps"
    PERL_LOCAL_LIB_ROOT="/home/perltest/sysperl:"
    PERL_MB_OPT="--install_base "//home/perltest/sysperl""
    PERL_MM_OPT="INSTALL_BASE=/home/perltest/sysperl"
    PERL_MM_USE_DEFAULT="1"
  @INC:
    /home/perltest/sysperl/lib/perl5/x86_64-linux
    /home/perltest/sysperl/lib/perl5
    /home/perltest/perl5/perlbrew/perls/perl-5.23.0/lib/site_perl/5.23.0/x86_64-linux
    /home/perltest/perl5/perlbrew/perls/perl-5.23.0/lib/site_perl/5.23.0
    /home/perltest/perl5/perlbrew/perls/perl-5.23.0/lib/5.23.0/x86_64-linux
    /home/perltest/perl5/perlbrew/perls/perl-5.23.0/lib/5.23.0
    .