Report for Data-NDS-Multiele-3.12

Back
From: metabase:user:313dc9fe-2aae-11df-837a-5e0a49663a4f
Subject: PASS Data-NDS-Multiele-3.12 v5.10.1 GNU/Linux
Date: 2010-10-19T11:02:52Z

This distribution has been tested as part of the CPAN Testers
project, supporting the Perl programming language.  See
http://wiki.cpantesters.org/ for more information or email
questions to cpan-testers-discuss@perl.org


--
Dear Sullivan Beck,

This is a computer-generated report for Data-NDS-Multiele-3.12
on perl 5.10.1, created by CPAN-Reporter-1.1711.

Thank you for uploading your work to CPAN.  Congratulations!
All tests were successful.

Sections of this report:

    * Tester comments
    * Program output
    * Prerequisites
    * Environment and other context

------------------------------
TESTER COMMENTS
------------------------------

Additional comments from tester:

this report is from an automated smoke testing program
and was not reviewed by a human for accuracy

------------------------------
PROGRAM OUTPUT
------------------------------

Output from './Build test':

t/add_ele.hash.t ........... ok
t/add_ele.list.t ........... ok
t/add_ele.olist.t .......... ok
t/copy_hash.t .............. ok
t/copy_list.t .............. ok
t/default_element.hash.t ... ok
t/default_element.list.t ... ok
t/default_element.olist.t .. ok
t/delete_ele.hash.t ........ ok
t/delete_ele.list.t ........ ok
t/ele.hash.t ............... ok
t/ele.list.t ............... ok
t/eles.hash.t .............. ok
t/eles.list.t .............. ok
t/file.hash.error.t ........ ok
t/file.hash.t .............. ok
t/file.list.error.t ........ ok
t/file.list.t .............. ok
t/is_default_value.hash.t .. ok
t/keys.t ................... ok
t/path_in_use.t ............ ok
t/path_valid.t ............. ok
t/path_values.hash.t ....... ok
t/path_values.list.t ....... ok
t/pod.t .................... ok
t/pod_coverage.t ........... ok
t/rename_ele.hash.t ........ ok
t/rename_ele.olist.t ....... ok
t/update_ele.t ............. ok
t/value.t .................. ok
t/values.t ................. ok
t/which.hash.t ............. ok
t/which.list.t ............. ok
All tests successful.
Files=33, Tests=191,  4 wallclock secs ( 0.16 usr  0.06 sys +  2.48 cusr  0.38 csys =  3.08 CPU)
Result: PASS

------------------------------
PREREQUISITES
------------------------------

Prerequisite modules loaded:

requires:

    Module        Need  Have    
    ------------- ----- --------
    Data::NDS     0     3.11    
    perl          5.001 5.010001
    Storable      0     2.21    
    YAML::Syck    0     1.09    

configure_requires:

    Module        Need  Have    
    ------------- ----- --------
    Module::Build 0.36  0.3607  


------------------------------
ENVIRONMENT AND OTHER CONTEXT
------------------------------

Environment variables:

    AUTOMATED_TESTING = 1
    LANG = en_US.UTF-8
    PATH = /usr/local/sbin:/usr/local/bin:/usr/sbin:/usr/bin:/sbin:/bin:/usr/games
    PERL5LIB = /home/perl5101/.cpan/build/Data-NDS-3.11-s1gjtz/blib/arch:/home/perl5101/.cpan/build/Data-NDS-3.11-s1gjtz/blib/lib:/home/perl5101/.cpan/build/Algorithm-Permute-0.12-Kiel7A/blib/arch:/home/perl5101/.cpan/build/Algorithm-Permute-0.12-Kiel7A/blib/lib
    PERL5OPT = 
    PERL5_CPANPLUS_IS_RUNNING = 23767
    PERL5_CPAN_IS_RUNNING = 23767
    PERL5_CPAN_IS_RUNNING_IN_RECURSION = 22316,23767
    PERL_CR_SMOKER_CURRENT = Data-NDS-Multifile-3.12
    PERL_EXTUTILS_AUTOINSTALL = --defaultdeps
    PERL_MM_USE_DEFAULT = 1
    SHELL = /bin/bash
    TERM = xterm

Perl special variables (and OS-specific diagnostics, for MSWin32):

    $^X = /home/perl5101/perl/bin/perl
    $UID/$EUID = 1004 / 1004
    $GID = 1004 1004
    $EGID = 1004 1004

Perl module toolchain versions installed:

    Module              Have  
    ------------------- ------
    CPAN                1.9402
    Cwd                 3.31  
    ExtUtils::CBuilder  0.2703
    ExtUtils::Command   1.16  
    ExtUtils::Install   1.54  
    ExtUtils::MakeMaker 6.56  
    ExtUtils::Manifest  1.58  
    ExtUtils::ParseXS   2.2205
    File::Spec          3.31  
    Module::Build       0.3607
    Module::Signature   n/a   
    Test::Harness       3.21  
    Test::More          0.94  
    YAML                0.71  
    YAML::Syck          1.09  
    version             0.82  


--

Summary of my perl5 (revision 5 version 10 subversion 1) configuration:
   
  Platform:
    osname=linux, osvers=2.6.31-20-generic, archname=i686-linux-thread-multi
    uname='linux st47-laptop 2.6.31-20-generic #57-ubuntu smp mon feb 8 09:05:19 utc 2010 i686 gnulinux '
    config_args=''
    hint=previous, useposix=true, d_sigaction=define
    useithreads=define, usemultiplicity=define
    useperlio=define, d_sfio=undef, uselargefiles=define, usesocks=undef
    use64bitint=undef, use64bitall=undef, uselongdouble=undef
    usemymalloc=n, bincompat5005=undef
  Compiler:
    cc='cc', ccflags ='-D_REENTRANT -D_GNU_SOURCE -fno-strict-aliasing -pipe -fstack-protector -I/usr/local/include -D_LARGEFILE_SOURCE -D_FILE_OFFSET_BITS=64',
    optimize='-O2',
    cppflags='-D_REENTRANT -D_GNU_SOURCE -fno-strict-aliasing -pipe -fstack-protector -I/usr/local/include -D_REENTRANT -D_GNU_SOURCE -fno-strict-aliasing -pipe -fstack-protector -I/usr/local/include -D_LARGEFILE_SOURCE -D_FILE_OFFSET_BITS=64'
    ccversion='', gccversion='4.4.1', gccosandvers=''
    intsize=4, longsize=4, ptrsize=4, doublesize=8, byteorder=1234
    d_longlong=define, longlongsize=8, d_longdbl=define, longdblsize=12
    ivtype='long', ivsize=4, nvtype='double', nvsize=8, Off_t='off_t', lseeksize=8
    alignbytes=4, prototype=define
  Linker and Libraries:
    ld='cc', ldflags =' -fstack-protector -L/usr/local/lib'
    libpth=/usr/local/lib /lib /usr/lib
    libs=-lnsl -ldl -lm -lcrypt -lutil -lpthread -lc
    perllibs=-lnsl -ldl -lm -lcrypt -lutil -lpthread -lc
    libc=/lib/libc-2.10.1.so, so=so, useshrplib=false, libperl=libperl.a
    gnulibc_version='2.10.1'
  Dynamic Linking:
    dlsrc=dl_dlopen.xs, dlext=so, d_dlsymun=undef, ccdlflags='-Wl,-E'
    cccdlflags='-fPIC', lddlflags='-shared -O2 -L/usr/local/lib -fstack-protector'


Characteristics of this binary (from libperl): 
  Compile-time options: MULTIPLICITY PERL_DONT_CREATE_GVSV
                        PERL_IMPLICIT_CONTEXT PERL_MALLOC_WRAP USE_ITHREADS
                        USE_LARGE_FILES USE_PERLIO USE_REENTRANT_API
  Built under linux
  Compiled at Mar 12 2010 10:45:32
  %ENV:
    PERL5LIB="/home/perl5101/.cpan/build/Data-NDS-3.11-s1gjtz/blib/arch:/home/perl5101/.cpan/build/Data-NDS-3.11-s1gjtz/blib/lib:/home/perl5101/.cpan/build/Algorithm-Permute-0.12-Kiel7A/blib/arch:/home/perl5101/.cpan/build/Algorithm-Permute-0.12-Kiel7A/blib/lib"
    PERL5OPT=""
    PERL5_CPANPLUS_IS_RUNNING="23767"
    PERL5_CPAN_IS_RUNNING="23767"
    PERL5_CPAN_IS_RUNNING_IN_RECURSION="22316,23767"
    PERL_CR_SMOKER_CURRENT="Data-NDS-Multifile-3.12"
    PERL_EXTUTILS_AUTOINSTALL="--defaultdeps"
    PERL_MM_USE_DEFAULT="1"
  @INC:
    /home/perl5101/.cpan/build/Data-NDS-3.11-s1gjtz/blib/arch
    /home/perl5101/.cpan/build/Data-NDS-3.11-s1gjtz/blib/lib
    /home/perl5101/.cpan/build/Algorithm-Permute-0.12-Kiel7A/blib/arch
    /home/perl5101/.cpan/build/Algorithm-Permute-0.12-Kiel7A/blib/lib
    /home/perl5101/perl/lib/5.10.1
    /home/perl5101/perl/lib/5.10.1
    .